Workbook

Sheet Tulostus
C2: Parmair Ilmanvaihto Oy: LTO-laite Parmair Alvari | R2: SEC-luvun laskenta mitoitustoimintapisteessä
R3: Yleinen luokittelu
R4: Ilmanvaihdon ohjaus
R5: Moottori & ohjaus
R6: Ilmasto
R7: LTO:n lämpötilahyötysuhde ηt | AA7: ='SEC laskenta'!Q16 -> 0.84549847
Y9: SEC | AA9: ='SEC laskenta'!L24 -> -42.037855
Y10: SEC-luokka | AA10: ='SEC laskenta'!L25 -> A+
E13: 1 | R13: Poistoilman lämmöntalteenoton vuosihyötysuhteen laskentatulokset taulukkomuodossa
R15: tulko | S15: Aika | T15: tsisä | U15: tjäte | V15: tLTO | W15: RLTO | X15: ηt | Y15: ηp | Z15: SS,Kd | AA15: ST,Kd | AB15: SJ,Kd
R16: ='LTO HS-laskenta'!F6 -> -32 | S16: ='LTO HS-laskenta'!G6 -> 0 | T16: ='LTO HS-laskenta'!M6 -> 20 | U16: ='LTO HS-laskenta'!I6 -> -5 | V16: ='LTO HS-laskenta'!N6 -> -7 | W16: ='LTO HS-laskenta'!P6 -> 1 | X16: ='LTO HS-laskenta'!Q6 -> 0.48076923 | Y16: ='LTO HS-laskenta'!R6 -> 0.48076923 | Z16: ='LTO HS-laskenta'!U6 -> 0 | AA16: ='LTO HS-laskenta'!V6 -> 0 | AB16: ='LTO HS-laskenta'!W6 -> 0
R17: ='LTO HS-laskenta'!F7 -> -31 | S17: ='LTO HS-laskenta'!G7 -> 0 | T17: ='LTO HS-laskenta'!M7 -> 20 | U17: ='LTO HS-laskenta'!I7 -> -5 | V17: ='LTO HS-laskenta'!N7 -> -6 | W17: ='LTO HS-laskenta'!P7 -> 1 | X17: ='LTO HS-laskenta'!Q7 -> 0.49019608 | Y17: ='LTO HS-laskenta'!R7 -> 0.49019608 | Z17: ='LTO HS-laskenta'!U7 -> 0 | AA17: ='LTO HS-laskenta'!V7 -> 0 | AB17: ='LTO HS-laskenta'!W7 -> 0
R18: ='LTO HS-laskenta'!F8 -> -30 | S18: ='LTO HS-laskenta'!G8 -> 0 | T18: ='LTO HS-laskenta'!M8 -> 20 | U18: ='LTO HS-laskenta'!I8 -> -5 | V18: ='LTO HS-laskenta'!N8 -> -5 | W18: ='LTO HS-laskenta'!P8 -> 1 | X18: ='LTO HS-laskenta'!Q8 -> 0.5 | Y18: ='LTO HS-laskenta'!R8 -> 0.5 | Z18: ='LTO HS-laskenta'!U8 -> 0 | AA18: ='LTO HS-laskenta'!V8 -> 0 | AB18: ='LTO HS-laskenta'!W8 -> 0
R19: ='LTO HS-laskenta'!F9 -> -29 | S19: ='LTO HS-laskenta'!G9 -> 0 | T19: ='LTO HS-laskenta'!M9 -> 20 | U19: ='LTO HS-laskenta'!I9 -> -5 | V19: ='LTO HS-laskenta'!N9 -> -4 | W19: ='LTO HS-laskenta'!P9 -> 1 | X19: ='LTO HS-laskenta'!Q9 -> 0.51020408 | Y19: ='LTO HS-laskenta'!R9 -> 0.51020408 | Z19: ='LTO HS-laskenta'!U9 -> 0 | AA19: ='LTO HS-laskenta'!V9 -> 0 | AB19: ='LTO HS-laskenta'!W9 -> 0
R20: ='LTO HS-laskenta'!F10 -> -28 | S20: ='LTO HS-laskenta'!G10 -> 0 | T20: ='LTO HS-laskenta'!M10 -> 20 | U20: ='LTO HS-laskenta'!I10 -> -5 | V20: ='LTO HS-laskenta'!N10 -> -3 | W20: ='LTO HS-laskenta'!P10 -> 1 | X20: ='LTO HS-laskenta'!Q10 -> 0.52083333 | Y20: ='LTO HS-laskenta'!R10 -> 0.52083333 | Z20: ='LTO HS-laskenta'!U10 -> 0 | AA20: ='LTO HS-laskenta'!V10 -> 0 | AB20: ='LTO HS-laskenta'!W10 -> 0
R21: ='LTO HS-laskenta'!F11 -> -27 | S21: ='LTO HS-laskenta'!G11 -> 0 | T21: ='LTO HS-laskenta'!M11 -> 20 | U21: ='LTO HS-laskenta'!I11 -> -5 | V21: ='LTO HS-laskenta'!N11 -> -2 | W21: ='LTO HS-laskenta'!P11 -> 1 | X21: ='LTO HS-laskenta'!Q11 -> 0.53191489 | Y21: ='LTO HS-laskenta'!R11 -> 0.53191489 | Z21: ='LTO HS-laskenta'!U11 -> 0 | AA21: ='LTO HS-laskenta'!V11 -> 0 | AB21: ='LTO HS-laskenta'!W11 -> 0
R22: ='LTO HS-laskenta'!F12 -> -26 | S22: ='LTO HS-laskenta'!G12 -> 0 | T22: ='LTO HS-laskenta'!M12 -> 20 | U22: ='LTO HS-laskenta'!I12 -> -5 | V22: ='LTO HS-laskenta'!N12 -> -1 | W22: ='LTO HS-laskenta'!P12 -> 1 | X22: ='LTO HS-laskenta'!Q12 -> 0.54347826 | Y22: ='LTO HS-laskenta'!R12 -> 0.54347826 | Z22: ='LTO HS-laskenta'!U12 -> 0 | AA22: ='LTO HS-laskenta'!V12 -> 0 | AB22: ='LTO HS-laskenta'!W12 -> 0
R23: ='LTO HS-laskenta'!F13 -> -25 | S23: ='LTO HS-laskenta'!G13 -> 0 | T23: ='LTO HS-laskenta'!M13 -> 20 | U23: ='LTO HS-laskenta'!I13 -> -5 | V23: ='LTO HS-laskenta'!N13 -> 0 | W23: ='LTO HS-laskenta'!P13 -> 1 | X23: ='LTO HS-laskenta'!Q13 -> 0.55555556 | Y23: ='LTO HS-laskenta'!R13 -> 0.55555556 | Z23: ='LTO HS-laskenta'!U13 -> 0 | AA23: ='LTO HS-laskenta'!V13 -> 0 | AB23: ='LTO HS-laskenta'!W13 -> 0
R24: ='LTO HS-laskenta'!F14 -> -24 | S24: ='LTO HS-laskenta'!G14 -> 0.00011415525 | T24: ='LTO HS-laskenta'!M14 -> 20 | U24: ='LTO HS-laskenta'!I14 -> -5 | V24: ='LTO HS-laskenta'!N14 -> 1 | W24: ='LTO HS-laskenta'!P14 -> 1 | X24: ='LTO HS-laskenta'!Q14 -> 0.56818182 | Y24: ='LTO HS-laskenta'!R14 -> 0.56818182 | Z24: ='LTO HS-laskenta'!U14 -> 1.8333333 | AA24: ='LTO HS-laskenta'!V14 -> 1.0416667 | AB24: ='LTO HS-laskenta'!W14 -> 1.0416667
R25: ='LTO HS-laskenta'!F15 -> -23 | S25: ='LTO HS-laskenta'!G15 -> 0.00034246575 | T25: ='LTO HS-laskenta'!M15 -> 20 | U25: ='LTO HS-laskenta'!I15 -> -5 | V25: ='LTO HS-laskenta'!N15 -> 2 | W25: ='LTO HS-laskenta'!P15 -> 1 | X25: ='LTO HS-laskenta'!Q15 -> 0.58139535 | Y25: ='LTO HS-laskenta'!R15 -> 0.58139535 | Z25: ='LTO HS-laskenta'!U15 -> 3.5833333 | AA25: ='LTO HS-laskenta'!V15 -> 2.0833333 | AB25: ='LTO HS-laskenta'!W15 -> 2.0833333
R26: ='LTO HS-laskenta'!F16 -> -22 | S26: ='LTO HS-laskenta'!G16 -> 0.00057077626 | T26: ='LTO HS-laskenta'!M16 -> 20 | U26: ='LTO HS-laskenta'!I16 -> -5 | V26: ='LTO HS-laskenta'!N16 -> 3 | W26: ='LTO HS-laskenta'!P16 -> 1 | X26: ='LTO HS-laskenta'!Q16 -> 0.5952381 | Y26: ='LTO HS-laskenta'!R16 -> 0.5952381 | Z26: ='LTO HS-laskenta'!U16 -> 3.5 | AA26: ='LTO HS-laskenta'!V16 -> 2.0833333 | AB26: ='LTO HS-laskenta'!W16 -> 2.0833333
R27: ='LTO HS-laskenta'!F17 -> -21 | S27: ='LTO HS-laskenta'!G17 -> 0.0011415525 | T27: ='LTO HS-laskenta'!M17 -> 20 | U27: ='LTO HS-laskenta'!I17 -> -5 | V27: ='LTO HS-laskenta'!N17 -> 4 | W27: ='LTO HS-laskenta'!P17 -> 1 | X27: ='LTO HS-laskenta'!Q17 -> 0.6097561 | Y27: ='LTO HS-laskenta'!R17 -> 0.6097561 | Z27: ='LTO HS-laskenta'!U17 -> 8.5416667 | AA27: ='LTO HS-laskenta'!V17 -> 5.2083333 | AB27: ='LTO HS-laskenta'!W17 -> 5.2083333
... R34: ='LTO HS-laskenta'!F24 -> -14 | S34: ='LTO HS-laskenta'!G24 -> 0.021917808 | T34: ='LTO HS-laskenta'!M24 -> 20 | U34: ='LTO HS-laskenta'!I24 -> -5 | V34: ='LTO HS-laskenta'!N24 -> 11 | W34: ='LTO HS-laskenta'!P24 -> 1 | X34: ='LTO HS-laskenta'!Q24 -> 0.73529412 | Y34: ='LTO HS-laskenta'!R24 -> 0.73529412 | Z34: ='LTO HS-laskenta'!U24 -> 69.416667 | AA34: ='LTO HS-laskenta'!V24 -> 51.041667 | AB34: ='LTO HS-laskenta'!W24 -> 51.041667
C35: Toimintapisteen määritys ja SFP:n laskenta | J35: Tulo | L35: Poisto | R35: ='LTO HS-laskenta'!F25 -> -13 | S35: ='LTO HS-laskenta'!G25 -> 0.028652968 | T35: ='LTO HS-laskenta'!M25 -> 20 | U35: ='LTO HS-laskenta'!I25 -> -5 | V35: ='LTO HS-laskenta'!N25 -> 12 | W35: ='LTO HS-laskenta'!P25 -> 1 | X35: ='LTO HS-laskenta'!Q25 -> 0.75757576 | Y35: ='LTO HS-laskenta'!R25 -> 0.75757576 | Z35: ='LTO HS-laskenta'!U25 -> 81.125 | AA35: ='LTO HS-laskenta'!V25 -> 61.458333 | AB35: ='LTO HS-laskenta'!W25 -> 61.458333
C36: Ilman tilavuusvirta (syötä arvot) | G36: =IF(AND('Laskenta tulopuoli'!N134,'Laskenta poistopuoli'!N135),"","Tarkasta lähtötarvot!") | J36: 84 | K36: dm³/s | L36: 84 | M36: dm³/s | R36: ='LTO HS-laskenta'!F26 -> -12 | S36: ='LTO HS-laskenta'!G26 -> 0.034589041 | T36: ='LTO HS-laskenta'!M26 -> 20 | U36: ='LTO HS-laskenta'!I26 -> -5 | V36: ='LTO HS-laskenta'!N26 -> 13 | W36: ='LTO HS-laskenta'!P26 -> 1 | X36: ='LTO HS-laskenta'!Q26 -> 0.78125 | Y36: ='LTO HS-laskenta'!R26 -> 0.78125 | Z36: ='LTO HS-laskenta'!U26 -> 69.333333 | AA36: ='LTO HS-laskenta'!V26 -> 54.166667 | AB36: ='LTO HS-laskenta'!W26 -> 54.166667
C37: Paine-ero (syötä arvot) | J37: 50 | K37: Pa | L37: 50 | M37: Pa | R37: ='LTO HS-laskenta'!F27 -> -11 | S37: ='LTO HS-laskenta'!G27 -> 0.040639269 | T37: ='LTO HS-laskenta'!M27 -> 20 | U37: ='LTO HS-laskenta'!I27 -> -5 | V37: ='LTO HS-laskenta'!N27 -> 14 | W37: ='LTO HS-laskenta'!P27 -> 1 | X37: ='LTO HS-laskenta'!Q27 -> 0.80645161 | Y37: ='LTO HS-laskenta'!R27 -> 0.80645161 | Z37: ='LTO HS-laskenta'!U27 -> 68.458333 | AA37: ='LTO HS-laskenta'!V27 -> 55.208333 | AB37: ='LTO HS-laskenta'!W27 -> 55.208333
R38: ='LTO HS-laskenta'!F28 -> -10 | S38: ='LTO HS-laskenta'!G28 -> 0.046575342 | T38: ='LTO HS-laskenta'!M28 -> 20 | U38: ='LTO HS-laskenta'!I28 -> -5 | V38: ='LTO HS-laskenta'!N28 -> 15 | W38: ='LTO HS-laskenta'!P28 -> 1 | X38: ='LTO HS-laskenta'!Q28 -> 0.83333333 | Y38: ='LTO HS-laskenta'!R28 -> 0.83333333 | Z38: ='LTO HS-laskenta'!U28 -> 65 | AA38: ='LTO HS-laskenta'!V28 -> 54.166667 | AB38: ='LTO HS-laskenta'!W28 -> 54.166667
C39: Puhaltimien toiminta: | J39: Tulo | L39: Poisto | R39: ='LTO HS-laskenta'!F29 -> -9 | S39: ='LTO HS-laskenta'!G29 -> 0.054680365 | T39: ='LTO HS-laskenta'!M29 -> 20 | U39: ='LTO HS-laskenta'!I29 -> -4.5258366 | V39: ='LTO HS-laskenta'!N29 -> 15.525837 | W39: ='LTO HS-laskenta'!P29 -> 1 | X39: ='LTO HS-laskenta'!Q29 -> 0.8457185 | Y39: ='LTO HS-laskenta'!R29 -> 0.8457185 | Z39: ='LTO HS-laskenta'!U29 -> 85.791667 | AA39: ='LTO HS-laskenta'!V29 -> 72.5556 | AB39: ='LTO HS-laskenta'!W29 -> 72.5556
C40: Ohjausjännite | J40: ='Laskenta tulopuoli'!N65 -> 5.7887004 | K40: V | L40: ='Laskenta poistopuoli'!N65 -> 5.4547728 | M40: V | R40: ='LTO HS-laskenta'!F30 -> -8 | S40: ='LTO HS-laskenta'!G30 -> 0.063356164 | T40: ='LTO HS-laskenta'!M30 -> 20 | U40: ='LTO HS-laskenta'!I30 -> -3.6801181 | V40: ='LTO HS-laskenta'!N30 -> 15.680118 | W40: ='LTO HS-laskenta'!P30 -> 1 | X40: ='LTO HS-laskenta'!Q30 -> 0.8457185 | Y40: ='LTO HS-laskenta'!R30 -> 0.8457185 | Z40: ='LTO HS-laskenta'!U30 -> 88.666667 | AA40: ='LTO HS-laskenta'!V30 -> 74.987041 | AB40: ='LTO HS-laskenta'!W30 -> 74.987041
C41: Puhaltimen teho | J41: ='Laskenta tulopuoli'!J117 -> 49.722015 | K41: W | L41: ='Laskenta poistopuoli'!J118 -> 42.772608 | M41: W | R41: ='LTO HS-laskenta'!F31 -> -7 | S41: ='LTO HS-laskenta'!G31 -> 0.075 | T41: ='LTO HS-laskenta'!M31 -> 20 | U41: ='LTO HS-laskenta'!I31 -> -2.8343996 | V41: ='LTO HS-laskenta'!N31 -> 15.8344 | W41: ='LTO HS-laskenta'!P31 -> 1 | X41: ='LTO HS-laskenta'!Q31 -> 0.8457185 | Y41: ='LTO HS-laskenta'!R31 -> 0.8457185 | Z41: ='LTO HS-laskenta'!U31 -> 114.75 | AA41: ='LTO HS-laskenta'!V31 -> 97.046198 | AB41: ='LTO HS-laskenta'!W31 -> 97.046198
R42: ='LTO HS-laskenta'!F32 -> -6 | S42: ='LTO HS-laskenta'!G32 -> 0.08847032 | T42: ='LTO HS-laskenta'!M32 -> 20 | U42: ='LTO HS-laskenta'!I32 -> -1.9886811 | V42: ='LTO HS-laskenta'!N32 -> 15.988681 | W42: ='LTO HS-laskenta'!P32 -> 1 | X42: ='LTO HS-laskenta'!Q32 -> 0.8457185 | Y42: ='LTO HS-laskenta'!R32 -> 0.8457185 | Z42: ='LTO HS-laskenta'!U32 -> 127.83333 | AA42: ='LTO HS-laskenta'!V32 -> 108.11102 | AB42: ='LTO HS-laskenta'!W32 -> 108.11102
J43: Kokonaisteho | L43: ='SFP ja kokonaisteho'!D8 -> 98.546623 | M43: W | R43: ='LTO HS-laskenta'!F33 -> -5 | S43: ='LTO HS-laskenta'!G33 -> 0.10547945 | T43: ='LTO HS-laskenta'!M33 -> 20 | U43: ='LTO HS-laskenta'!I33 -> -1.1429626 | V43: ='LTO HS-laskenta'!N33 -> 16.142963 | W43: ='LTO HS-laskenta'!P33 -> 1 | X43: ='LTO HS-laskenta'!Q33 -> 0.8457185 | Y43: ='LTO HS-laskenta'!R33 -> 0.8457185 | Z43: ='LTO HS-laskenta'!U33 -> 155.20833 | AA43: ='LTO HS-laskenta'!V33 -> 131.26256 | AB43: ='LTO HS-laskenta'!W33 -> 131.26256
J44: SFP | L44: ='SFP ja kokonaisteho'!D15 -> 1.1731741 | M44: kW/m3/s | R44: ='LTO HS-laskenta'!F34 -> -4 | S44: ='LTO HS-laskenta'!G34 -> 0.12888128 | T44: ='LTO HS-laskenta'!M34 -> 20 | U44: ='LTO HS-laskenta'!I34 -> -0.29724412 | V44: ='LTO HS-laskenta'!N34 -> 16.297244 | W44: ='LTO HS-laskenta'!P34 -> 1 | X44: ='LTO HS-laskenta'!Q34 -> 0.8457185 | Y44: ='LTO HS-laskenta'!R34 -> 0.8457185 | Z44: ='LTO HS-laskenta'!U34 -> 205 | AA44: ='LTO HS-laskenta'!V34 -> 173.37229 | AB44: ='LTO HS-laskenta'!W34 -> 173.37229
R45: ='LTO HS-laskenta'!F35 -> -3 | S45: ='LTO HS-laskenta'!G35 -> 0.15570776 | T45: ='LTO HS-laskenta'!M35 -> 20 | U45: ='LTO HS-laskenta'!I35 -> 0.54847439 | V45: ='LTO HS-laskenta'!N35 -> 16.451526 | W45: ='LTO HS-laskenta'!P35 -> 1 | X45: ='LTO HS-laskenta'!Q35 -> 0.8457185 | Y45: ='LTO HS-laskenta'!R35 -> 0.8457185 | Z45: ='LTO HS-laskenta'!U35 -> 225.20833 | AA45: ='LTO HS-laskenta'!V35 -> 190.46285 | AB45: ='LTO HS-laskenta'!W35 -> 190.46285
C46: Tehostusvaran laskenta | J46: Tulo | L46: Poisto | R46: ='LTO HS-laskenta'!F36 -> -2 | S46: ='LTO HS-laskenta'!G36 -> 0.18424658 | T46: ='LTO HS-laskenta'!M36 -> 20 | U46: ='LTO HS-laskenta'!I36 -> 1.3941929 | V46: ='LTO HS-laskenta'!N36 -> 16.605807 | W46: ='LTO HS-laskenta'!P36 -> 1 | X46: ='LTO HS-laskenta'!Q36 -> 0.8457185 | Y46: ='LTO HS-laskenta'!R36 -> 0.8457185 | Z46: ='LTO HS-laskenta'!U36 -> 229.16667 | AA46: ='LTO HS-laskenta'!V36 -> 193.81049 | AB46: ='LTO HS-laskenta'!W36 -> 193.81049
C47: Tehostusvara | J47: ='Laskenta tulopuoli'!M125 -> 0.73397195 | L47: ='Laskenta poistopuoli'!M126 -> 0.79259191 | R47: ='LTO HS-laskenta'!F37 -> -1 | S47: ='LTO HS-laskenta'!G37 -> 0.20924658 | T47: ='LTO HS-laskenta'!M37 -> 20 | U47: ='LTO HS-laskenta'!I37 -> 2.2399114 | V47: ='LTO HS-laskenta'!N37 -> 16.760089 | W47: ='LTO HS-laskenta'!P37 -> 1 | X47: ='LTO HS-laskenta'!Q37 -> 0.8457185 | Y47: ='LTO HS-laskenta'!R37 -> 0.8457185 | Z47: ='LTO HS-laskenta'!U37 -> 191.625 | AA47: ='LTO HS-laskenta'!V37 -> 162.06081 | AB47: ='LTO HS-laskenta'!W37 -> 162.06081
C48: Maksimi ilman tilavuusvirta tehostuksella | J48: ='Laskenta tulopuoli'!J124 -> 145.65364 | K48: l/s | L48: ='Laskenta poistopuoli'!J125 -> 150.57772 | M48: l/s | R48: ='LTO HS-laskenta'!F38 -> 0 | S48: ='LTO HS-laskenta'!G38 -> 0.24920091 | T48: ='LTO HS-laskenta'!M38 -> 20 | U48: ='LTO HS-laskenta'!I38 -> 3.0856299 | V48: ='LTO HS-laskenta'!N38 -> 16.91437 | W48: ='LTO HS-laskenta'!P38 -> 1 | X48: ='LTO HS-laskenta'!Q38 -> 0.8457185 | Y48: ='LTO HS-laskenta'!R38 -> 0.8457185 | Z48: ='LTO HS-laskenta'!U38 -> 291.66667 | AA48: ='LTO HS-laskenta'!V38 -> 246.6679 | AB48: ='LTO HS-laskenta'!W38 -> 246.6679
C49: Maksimi paine-ero tehostuksella | J49: ='Laskenta tulopuoli'!K124 -> 150.33294 | K49: Pa | L49: ='Laskenta poistopuoli'!K125 -> 160.66929 | M49: Pa | R49: ='LTO HS-laskenta'!F39 -> 1 | S49: ='LTO HS-laskenta'!G39 -> 0.30993151 | T49: ='LTO HS-laskenta'!M39 -> 20 | U49: ='LTO HS-laskenta'!I39 -> 3.9313484 | V49: ='LTO HS-laskenta'!N39 -> 17.068652 | W49: ='LTO HS-laskenta'!P39 -> 1 | X49: ='LTO HS-laskenta'!Q39 -> 0.8457185 | Y49: ='LTO HS-laskenta'!R39 -> 0.8457185 | Z49: ='LTO HS-laskenta'!U39 -> 421.16667 | AA49: ='LTO HS-laskenta'!V39 -> 356.18844 | AB49: ='LTO HS-laskenta'!W39 -> 356.18844
R50: ='LTO HS-laskenta'!F40 -> 2 | S50: ='LTO HS-laskenta'!G40 -> 0.36917808 | T50: ='LTO HS-laskenta'!M40 -> 20 | U50: ='LTO HS-laskenta'!I40 -> 4.7770669 | V50: ='LTO HS-laskenta'!N40 -> 17.222933 | W50: ='LTO HS-laskenta'!P40 -> 1 | X50: ='LTO HS-laskenta'!Q40 -> 0.8457185 | Y50: ='LTO HS-laskenta'!R40 -> 0.8457185 | Z50: ='LTO HS-laskenta'!U40 -> 389.25 | AA50: ='LTO HS-laskenta'!V40 -> 329.19593 | AB50: ='LTO HS-laskenta'!W40 -> 329.19593
C51: Laitteen äänitehotasot | R51: ='LTO HS-laskenta'!F41 -> 3 | S51: ='LTO HS-laskenta'!G41 -> 0.41598174 | T51: ='LTO HS-laskenta'!M41 -> 20 | U51: ='LTO HS-laskenta'!I41 -> 5.6227854 | V51: ='LTO HS-laskenta'!N41 -> 17.377215 | W51: ='LTO HS-laskenta'!P41 -> 1 | X51: ='LTO HS-laskenta'!Q41 -> 0.8457185 | Y51: ='LTO HS-laskenta'!R41 -> 0.8457185 | Z51: ='LTO HS-laskenta'!U41 -> 290.41667 | AA51: ='LTO HS-laskenta'!V41 -> 245.61075 | AB51: ='LTO HS-laskenta'!W41 -> 245.61075
...

Sheet SFP ja kokonaisteho
O2: SFP = 1,8 kW/m³/s
C3: SFP:n laskenta
C4: Idle | D4: =N45 -> 6.052 | E4: W | O4: qV | P4: Pd
C5: Tulopuhallin | D5: =Tulostus!J41 -> 49.722015 | E5: W | O5: 10 | P5: 4
C6: Poistopuhallin | D6: =Tulostus!L41 -> 42.772608 | E6: W | O6: 20 | P6: 100
C7: Kokonaisteho | D7: =SUM(D4:D6) -> 98.546623 | E7: W | O7: 30 | P7: 148.9 | S7: 170 | T7: 150
C8: Tulostus | D8: =IF(AND('Laskenta tulopuoli'!$N$134,'Laskenta poistopuoli'!$N$135),'SFP ja kokonaisteho'!D7,"-") -> 98.546623 | F8: <-- Jos virheellinen toimintapiste, tulostetaan "-" | O8: 45 | P8: 191.2
O9: 60 | P9: 206.8
C10: Tulovirta | D10: =Tulostus!J36 -> 84 | E10: dm³/s | O10: 70 | P10: 205.6
C11: Poistoilma | D11: =Tulostus!L36 -> 84 | E11: dm³/s | O11: 90 | P11: 181.5
C12: Maksimi | D12: =MAX(D10:D11) -> 84 | E12: dm³/s | O12: 110 | P12: 134.7
O13: 130 | P13: 70.2
C14: SFP | D14: =D7/D12 -> 1.1731741 | E14: kW/m³/s | O14: 140 | P14: 31.2
C15: Tulostus | D15: =IF(AND('Laskenta tulopuoli'!$N$134,'Laskenta poistopuoli'!$N$135),'SFP ja kokonaisteho'!D14,"-") -> 1.1731741 | F15: <-- Jos virheellinen toimintapiste, tulostetaan "-" | O15: 145 | P15: 10
O16: 148 | P16: 2
O18: SFP-otsikon tulostuspaikka
O19: dm³/s | P19: PfD
O20: 75 | P20: 210
C27: ---------------------------------------------------------------------
C28: Measurement: | D28: (Tue | E28: 07/21/26 | F28: - | G28: 15:36:24)
C29: HAMEG | D29: HM8115-2 | E29: - | F29: version | G29: 2.03
C30: ---------------------------------------------------------------------
C31: TIME | D31: VOLTAGE | E31: (V) | F31: CURRENT | G31: (A) | H31: FUNCTION | I31: (WATT/VAr/VA/PF)
C32: ---------------------------------------------------------------------
C33: 0.65028935 | D33: U3 | E33: = | F33: 230.5 | G33: V | H33: I1 | I33: = | J33: 0.0693 | K33: A | L33: P | M33: = | N33: 5.81 | O33: WATT
C34: 0.65030093 | D34: U3 | E34: = | F34: 230.2 | G34: V | H34: I1 | I34: = | J34: 0.0691 | K34: A | L34: P | M34: = | N34: 6.05 | O34: WATT
C35: 0.6503125 | D35: U3 | E35: = | F35: 230.1 | G35: V | H35: I1 | I35: = | J35: 0.0665 | K35: A | L35: P | M35: = | N35: 6.28 | O35: WATT
C36: 0.65032407 | D36: U3 | E36: = | F36: 230.1 | G36: V | H36: I1 | I36: = | J36: 0.0717 | K36: A | L36: P | M36: = | N36: 6.32 | O36: WATT
C37: 0.65033565 | D37: U3 | E37: = | F37: 230 | G37: V | H37: I1 | I37: = | J37: 0.0729 | K37: A | L37: P | M37: = | N37: 5.71 | O37: WATT
C38: 0.65034722 | D38: U3 | E38: = | F38: 230.2 | G38: V | H38: I1 | I38: = | J38: 0.0695 | K38: A | L38: P | M38: = | N38: 5.96 | O38: WATT
C39: 0.6503588 | D39: U3 | E39: = | F39: 230.1 | G39: V | H39: I1 | I39: = | J39: 0.0699 | K39: A | L39: P | M39: = | N39: 6.28 | O39: WATT
C40: 0.65037037 | D40: U3 | E40: = | F40: 230.2 | G40: V | H40: I1 | I40: = | J40: 0.0714 | K40: A | L40: P | M40: = | N40: 5.77 | O40: WATT
C41: 0.65038194 | D41: U3 | E41: = | F41: 230.1 | G41: V | H41: I1 | I41: = | J41: 0.0704 | K41: A | L41: P | M41: = | N41: 6.54 | O41: WATT
C42: 0.65039352 | D42: U3 | E42: = | F42: 230 | G42: V | H42: I1 | I42: = | J42: 0.0696 | K42: A | L42: P | M42: = | N42: 5.8 | O42: WATT
N45: =AVERAGE(N33:N42) -> 6.052

Sheet Laskenta tulopuoli
B2: Tehty | C2: Tarkista kovakoodatut raja-arvot
AE3: Tulosteen puhallinkäyrät
B4: 1. Mittaustulokset raakadata | I4: 2. Puhallinkäyrien sovitteet 2. asteen polynomeilla
I5: x = tilavuusvirta, y = paine-ero | AE5: Tulo 10 V | AG5: =B29 -> Tulo 8 V | AI5: =B44 -> Tulo 6 V | AK5: =B57 -> Tulo 4 V | AM5: =B66 -> Tulo 2V
B6: Tulopuoli | I6: y = Ax²+Bx+C | AE6: qV | AF6: PfD | AG6: qV | AH6: PfD | AI6: qV | AJ6: PfD | AK6: qV | AL6: PfD | AM6: qV | AN6: PfD
F7: Vähennetty idleteho | AD7: Max | AE7: 162.5 | AF7: =$J$9*AE7^2+$K$9*AE7+$L$9 -> 0.052656361 | AG7: 136.7 | AH7: =$J$10*AG7^2+$K$10*AG7+$L$10 -> 1.0093895 | AI7: 94.5 | AJ7: =$J$11*AI7^2+$K$11*AI7+$L$11 -> 0.22320526 | AK7: 56.3 | AL7: =$J$12*AK7^2+$K$12*AK7+$L$12 -> 0.89482257 | AM7: 20 | AN7: =$J$13*AM7^2+$K$13*AM7+$L$13 -> 0.75508146
B8: Tulo 10 V | F8: ='SFP ja kokonaisteho'!D4 -> 6.052 | J8: A | K8: B | L8: C | AE8: =AVERAGE(AE7,AE9) -> 142 | AF8: =$J$9*AE8^2+$K$9*AE8+$L$9 -> 181.41098 | AG8: =AVERAGE(AG7,AG9) -> 117.65 | AH8: =$J$10*AG8^2+$K$10*AG8+$L$10 -> 151.98855 | AI8: =AVERAGE(AI7,AI9) -> 79.75 | AJ8: =$J$11*AI8^2+$K$11*AI8+$L$11 -> 93.87174 | AK8: =AVERAGE(AK7,AK9) -> 46.225 | AL8: =$J$12*AK8^2+$K$12*AK8+$L$12 -> 42.384311 | AM8: =AVERAGE(AM7,AM9) -> 16.25 | AN8: =$J$13*AM8^2+$K$13*AM8+$L$13 -> 7.9860107
B9: qV (l/s) | C9: PfD (Pa) | D9: Pkorj. (W) | E9: SFP | F9: P-idle | I9: 10 V | J9: {=LINEST(C10:C24,B10:B24^{1,2})} -> -0.020224346 | K9: -2.6884341 | L9: 970.97233 | AE9: =AVERAGE(AE7,AE11) -> 121.5 | AF9: =$J$9*AE9^2+$K$9*AE9+$L$9 -> 345.77074 | AG9: =AVERAGE(AG7,AG11) -> 98.6 | AH9: =$J$10*AG9^2+$K$10*AG9+$L$10 -> 280.26161 | AI9: =AVERAGE(AI7,AI11) -> 65 | AJ9: =$J$11*AI9^2+$K$11*AI9+$L$11 -> 170.83822 | AK9: =AVERAGE(AK7,AK11) -> 36.15 | AL9: =$J$12*AK9^2+$K$12*AK9+$L$12 -> 76.531929 | AM9: =AVERAGE(AM7,AM11) -> 12.5 | AN9: =$J$13*AM9^2+$K$13*AM9+$L$13 -> 14.570851
B10: 161.25322 | C10: 12.589535 | D10: 180.06729 | E10: =D10/B10 -> 1.116674 | F10: =D10-$F$8 -> 174.01529 | I10: 8 V | J10: {=LINEST(C31:C42,B31:B42^{1,2})} -> -0.031284027 | K10: 0.031676725 | L10: 581.28034 | AE10: =AVERAGE(AE9,AE11) -> 101 | AF10: =$J$9*AE10^2+$K$9*AE10+$L$9 -> 493.13194 | AG10: =AVERAGE(AG9,AG11) -> 79.55 | AH10: =$J$10*AG10^2+$K$10*AG10+$L$10 -> 385.82857 | AI10: =AVERAGE(AI9,AI11) -> 50.25 | AJ10: =$J$11*AI10^2+$K$11*AI10+$L$11 -> 231.12265 | AK10: =AVERAGE(AK9,AK11) -> 26.075 | AL10: =$J$12*AK10^2+$K$12*AK10+$L$12 -> 103.33768 | AM10: =AVERAGE(AM9,AM11) -> 8.75 | AN10: =$J$13*AM10^2+$K$13*AM10+$L$13 -> 20.509601
B11: 151.47698 | C11: 99.159868 | D11: 178.74126 | E11: =D11/B11 -> 1.1799896 | F11: =D11-$F$8 -> 172.68926 | I11: 6 V | J11: {=LINEST(C46:C53,B46:B53^{1,2})} -> -0.038338531 | K11: 0.33143572 | L11: 311.27519 | AD11: Min | AE11: 80.5 | AF11: =$J$9*AE11^2+$K$9*AE11+$L$9 -> 623.49457 | AG11: 60.5 | AH11: =$J$10*AG11^2+$K$10*AG11+$L$10 -> 468.68943 | AI11: 35.5 | AJ11: =$J$11*AI11^2+$K$11*AI11+$L$11 -> 274.72503 | AK11: 16 | AL11: =$J$12*AK11^2+$K$12*AK11+$L$12 -> 122.80155 | AM11: 5 | AN11: =$J$13*AM11^2+$K$13*AM11+$L$13 -> 25.802262
B12: 155.44368 | C12: 67.71633 | D12: 179.00195 | E12: =D12/B12 -> 1.151555 | F12: =D12-$F$8 -> 172.94995 | I12: 4 V | J12: {=LINEST(C59:C63,B59:B63^{1,2})} -> -0.036164845 | K12: -0.41026257 | L12: 138.62395
B13: 146.41055 | C13: 140.80974 | D13: 178.59301 | E13: =D13/B13 -> 1.2198097 | F13: =D13-$F$8 -> 172.54101 | I13: 2 V | J13: {=LINEST(C68:C70,B68:B70^{1,2})} -> -0.022972065 | K13: -1.0955104 | L13: 31.854116
B14: 139.02973 | C14: 207.89135 | D14: 179.01073 | E14: =D14/B14 -> 1.2875716 | F14: =D14-$F$8 -> 172.95873 | AE14: Ohjausjännitteen otsikot
B15: 134.22877 | C15: 253.65101 | D15: 179.00459 | E15: =D15/B15 -> 1.3335784 | F15: =D15-$F$8 -> 172.95259 | AE15: 10 V | AF15: =AE11 -> 80.5 | AG15: =AF11 -> 623.49457
B16: 127.92849 | C16: 299.92704 | D16: 178.56001 | E16: =D16/B16 -> 1.3957799 | F16: =D16-$F$8 -> 172.50801 | AE16: 8 V | AF16: =AG11 -> 60.5 | AG16: =AH11 -> 468.68943
B17: 117.46584 | C17: 360.26176 | D17: 178.62911 | E17: =D17/B17 -> 1.5206897 | F17: =D17-$F$8 -> 172.57711 | AE17: 6 V | AF17: =AI11 -> 35.5 | AG17: =AJ11 -> 274.72503
B18: 112.06828 | C18: 405.86837 | D18: 178.71643 | E18: =D18/B18 -> 1.5947102 | F18: =D18-$F$8 -> 172.66443 | I18: 3. Mitoituspisteen verkkokäyrä | AE18: 4 V | AF18: =AK11 -> 16 | AG18: =AL11+2 -> 124.80155
B19: 106.01401 | C19: 454.57353 | D19: 178.79844 | E19: =D19/B19 -> 1.6865548 | F19: =D19-$F$8 -> 172.74644 | AE19: 2 V | AF19: =AM11+2 -> 7 | AG19: =AN11-2 -> 23.802262
B20: 99.558133 | C20: 504.35557 | D20: 178.39049 | E20: =D20/B20 -> 1.7918223 | F20: =D20-$F$8 -> 172.33849
B21: 90.535815 | C21: 562.92278 | D21: 180.43107 | E21: =D21/B21 -> 1.9929248 | F21: =D21-$F$8 -> 174.37907
B22: 81.067286 | C22: 625.82557 | D22: 180.72995 | E22: =D22/B22 -> 2.229382 | F22: =D22-$F$8 -> 174.67795
B23: 68.043692 | C23: 709.05783 | D23: 179.76186 | E23: =D23/B23 -> 2.6418593 | F23: =D23-$F$8 -> 173.70986 | I23: Mitoituspiste:
B24: 34.855135 | C24: 845.24574 | D24: 165.98182 | E24: =D24/B24 -> 4.7620478 | F24: =D24-$F$8 -> 159.92982 | I24: =Tulostus!J36 -> 84 | J24: dm³/s
I25: =Tulostus!J37 -> 50 | J25: Pa
I27: 2. potenssin verkkokäyrän kerroin:
I28: x = tilavuusvirta, y = paine-ero
B29: Tulo 8 V | I29: y = ax² --> a = y/x²
B30: qV (l/s) | C30: PfD (Pa) | D30: Pkorj. (W) | E30: SFP | F30: P-idle | I30: a = | J30: =I25/I24^2 -> 0.0070861678
B31: 135.56076 | C31: 7.2985681 | D31: 119.40849 | E31: =D31/B31 -> 0.88084852 | F31: =D31-$F$8 -> 113.35649 | I31: Lineaarisovitteen kerroin:
B32: 130.63631 | C32: 53.107095 | D32: 120.37565 | E32: =D32/B32 -> 0.92145628 | F32: =D32-$F$8 -> 114.32365 | I32: y = Ax --> A = y/x
B33: 124.62733 | C33: 101.59284 | D33: 121.83362 | E33: =D33/B33 -> 0.97758351 | F33: =D33-$F$8 -> 115.78162 | I33: A = | J33: =I25/I24 -> 0.5952381
B34: 117.18919 | C34: 159.37364 | D34: 121.82194 | E34: =D34/B34 -> 1.0395322 | F34: =D34-$F$8 -> 115.76994
B35: 111.04522 | C35: 202.99883 | D35: 122.09151 | E35: =D35/B35 -> 1.0994756 | F35: =D35-$F$8 -> 116.03951
B36: 100.97426 | C36: 257.0755 | D36: 121.6316 | E36: =D36/B36 -> 1.2045803 | F36: =D36-$F$8 -> 115.5796
B37: 93.772165 | C37: 303.9911 | D37: 120.40988 | E37: =D37/B37 -> 1.2840685 | F37: =D37-$F$8 -> 114.35788 | I37: 4. Verkkokäyrän ja puhallinkäyrien leikkauspisteet
B38: 85.758245 | C38: 353.74293 | D38: 118.69252 | E38: =D38/B38 -> 1.3840362 | F38: =D38-$F$8 -> 112.64052 | I38: ax²=Ax²+Bx+C ---> (A-a)x²+Bx+C = 0
B39: 76.053116 | C39: 404.94192 | D39: 116.25213 | E39: =D39/B39 -> 1.528565 | F39: =D39-$F$8 -> 110.20013
B40: 64.62997 | C40: 455.11407 | D40: 112.93014 | E40: =D40/B40 -> 1.7473339 | F40: =D40-$F$8 -> 106.87814 | I40: Ratkaistaan toisen asteen yhtälön ratkaisukaavalla:
B41: 50.728913 | C41: 505.34745 | D41: 107.18569 | E41: =D41/B41 -> 2.1129113 | F41: =D41-$F$8 -> 101.13369
B42: 28.961055 | C42: 553.66912 | D42: 96.96137 | E42: =D42/B42 -> 3.3479917 | F42: =D42-$F$8 -> 90.90937
...

Sheet Laskenta poistopuoli
B2: Tehty | C2: Tarkista vielä kovakoodatut raja-arvot
AE3: Tulosteen puhallinkäyrät
B4: 1. Mittaustulokset raakadata | I4: 2. Puhallinkäyrien sovitteet 2. asteen polynomeilla
I5: x = tilavuusvirta, y = paine-ero | AE5: =B8 -> Poisto 10 V | AG5: =B28 -> Poisto 8 V | AI5: =B44 -> Poisto 6 V | AK5: =B57 -> Poisto 4 V | AM5: =B66 -> Poisto 2 V
B6: Poistopuoli | I6: y = Ax²+Bx+C | AE6: qV | AF6: PfD | AG6: qV | AH6: PfD | AI6: qV | AJ6: PfD | AK6: qV | AL6: PfD | AM6: qV | AN6: PfD
F7: Vähennetty idleteho | AD7: Max | AE7: 167.5 | AF7: =$J$9*AE7^2+$K$9*AE7+$L$9 -> 1.2447381 | AG7: 141.6 | AH7: =$J$10*AG7^2+$K$10*AG7+$L$10 -> 0.88547405 | AI7: 101.8 | AJ7: =$J$11*AI7^2+$K$11*AI7+$L$11 -> 1.1071271 | AK7: 64 | AL7: =$J$12*AK7^2+$K$12*AK7+$L$12 -> 0.67757407 | AM7: 26.5 | AN7: =$J$13*AM7^2+$K$13*AM7+$L$13 -> 0.96833092
B8: Poisto 10 V | F8: ='SFP ja kokonaisteho'!D4 -> 6.052 | J8: A | K8: B | L8: C | AE8: =AVERAGE(AE7,AE9) -> 146.875 | AF8: =$J$9*AE8^2+$K$9*AE8+$L$9 -> 193.82589 | AG8: =AVERAGE(AG7,AG9) -> 122.2 | AH8: =$J$10*AG8^2+$K$10*AG8+$L$10 -> 163.70628 | AI8: =AVERAGE(AI7,AI9) -> 85.975 | AJ8: =$J$11*AI8^2+$K$11*AI8+$L$11 -> 103.97712 | AK8: =AVERAGE(AK7,AK9) -> 52.5 | AL8: =$J$12*AK8^2+$K$12*AK8+$L$12 -> 49.918115 | AM8: =AVERAGE(AM7,AM9) -> 21.125 | AN8: =$J$13*AM8^2+$K$13*AM8+$L$13 -> 11.213332
B9: qV (l/s) | C9: PfD (Pa) | D9: Pkorj. (W) | E9: SFP | F9: P-idle | I9: 10 V | J9: =C105 -> -0.022609798 | K9: =D105 -> -2.2293127 | L9: =E105 -> 1009.0008 | AE9: =AVERAGE(AE7,AE11) -> 126.25 | AF9: =$J$9*AE9^2+$K$9*AE9+$L$9 -> 367.17105 | AG9: =AVERAGE(AG7,AG11) -> 102.8 | AH9: =$J$10*AG9^2+$K$10*AG9+$L$10 -> 300.45783 | AI9: =AVERAGE(AI7,AI11) -> 70.15 | AJ9: =$J$11*AI9^2+$K$11*AI9+$L$11 -> 187.3316 | AK9: =AVERAGE(AK7,AK11) -> 41 | AL9: =$J$12*AK9^2+$K$12*AK9+$L$12 -> 88.093885 | AM9: =AVERAGE(AM7,AM11) -> 15.75 | AN9: =$J$13*AM9^2+$K$13*AM9+$L$13 -> 19.174498
B10: 165.48061 | C10: 8.3332389 | D10: 185.43047 | E10: =D10/B10 -> 1.1205571 | F10: =D10-$F$8 -> 179.37847 | I10: 8 V | J10: =C106 -> -0.034633399 | K10: =D106 -> 0.74346559 | L10: =E106 -> 590.02978 | AE10: =AVERAGE(AE9,AE11) -> 105.625 | AF10: =$J$9*AE10^2+$K$9*AE10+$L$9 -> 521.28021 | AG10: =AVERAGE(AG9,AG11) -> 83.4 | AH10: =$J$10*AG10^2+$K$10*AG10+$L$10 -> 411.14013 | AI10: =AVERAGE(AI9,AI11) -> 54.325 | AJ10: =$J$11*AI10^2+$K$11*AI10+$L$11 -> 251.17057 | AK10: =AVERAGE(AK9,AK11) -> 29.5 | AL10: =$J$12*AK10^2+$K$12*AK10+$L$12 -> 115.20488 | AM10: =AVERAGE(AM9,AM11) -> 10.375 | AN10: =$J$13*AM10^2+$K$13*AM10+$L$13 -> 24.851828
B11: 161.46428 | C11: 60.281619 | D11: 185.35418 | E11: =D11/B11 -> 1.1479579 | F11: =D11-$F$8 -> 179.30218 | I11: 6 V | J11: =C107 -> -0.038963911 | K11: =D107 -> 0.81597495 | L11: =E107 -> 321.83324 | AD11: Min | AE11: 85 | AF11: =$J$9*AE11^2+$K$9*AE11+$L$9 -> 656.15339 | AG11: 64 | AH11: =$J$10*AG11^2+$K$10*AG11+$L$10 -> 495.75318 | AI11: 38.5 | AJ11: =$J$11*AI11^2+$K$11*AI11+$L$11 -> 295.49402 | AK11: 18 | AL11: =$J$12*AK11^2+$K$12*AK11+$L$12 -> 131.25111 | AM11: 5 | AN11: =$J$13*AM11^2+$K$13*AM11+$L$13 -> 28.245324
B12: 155.43356 | C12: 105.25805 | D12: 185.40029 | E12: =D12/B12 -> 1.1927945 | F12: =D12-$F$8 -> 179.34829 | I12: 4 V | J12: =C108 -> -0.041832784 | K12: =D108 -> 0.5917331 | L12: =E108 -> 134.15374
B13: 151.29243 | C13: 162.52919 | D13: 184.95875 | E13: =D13/B13 -> 1.2225248 | F13: =D13-$F$8 -> 178.90675 | I13: 2V | J13: =C109 -> -0.03952554 | K13: =D109 -> -0.02364284 | L13: =E109 -> 29.351677
B14: 146.54204 | C14: 210.31375 | D14: 185.1632 | E14: =D14/B14 -> 1.26355 | F14: =D14-$F$8 -> 179.1112 | AE14: Ohjausjännitteen otsikot
B15: 141.05701 | C15: 259.59449 | D15: 185.03449 | E15: =D15/B15 -> 1.311771 | F15: =D15-$F$8 -> 178.98249 | AE15: 10 V | AF15: =AE11 -> 85 | AG15: =AF11 -> 656.15339
B16: 135.23734 | C16: 307.43668 | D16: 184.35047 | E16: =D16/B16 -> 1.3631625 | F16: =D16-$F$8 -> 178.29847 | AE16: 8 V | AF16: =AG11 -> 64 | AG16: =AH11 -> 495.75318
B17: 124.36313 | C17: 369.82267 | D17: 184.72622 | E17: =D17/B17 -> 1.4853777 | F17: =D17-$F$8 -> 178.67422 | AE17: 6 V | AF17: =AI11 -> 38.5 | AG17: =AJ11 -> 295.49402
B18: 118.89863 | C18: 415.41832 | D18: 184.69175 | E18: =D18/B18 -> 1.5533548 | F18: =D18-$F$8 -> 178.63975 | I18: 3. Mitoituspisteen verkkokäyrä | AE18: 4 V | AF18: =AK11 -> 18 | AG18: =AL11+10 -> 141.25111
B19: 112.79326 | C19: 462.64525 | D19: 184.43436 | E19: =D19/B19 -> 1.6351541 | F19: =D19-$F$8 -> 178.38236 | AE19: 2 V | AF19: =AM11+2 -> 7 | AG19: =AN11+12 -> 40.245324
B20: 105.63205 | C20: 515.36791 | D20: 184.88009 | E20: =D20/B20 -> 1.7502272 | F20: =D20-$F$8 -> 178.82809
B21: 99.248953 | C21: 565.57947 | D21: 185.73537 | E21: =D21/B21 -> 1.8714089 | F21: =D21-$F$8 -> 179.68337
B22: 90.899154 | C22: 619.0934 | D22: 185.71108 | E22: =D22/B22 -> 2.0430452 | F22: =D22-$F$8 -> 179.65908 | I22: Mitoituspiste:
B23: 81.627542 | C23: 678.80835 | D23: 185.6188 | E23: =D23/B23 -> 2.2739727 | F23: =D23-$F$8 -> 179.5668 | I23: =Tulostus!L36 -> 84 | J23: dm³/s
B24: 75.692307 | C24: 714.24155 | D24: 184.66112 | E24: =D24/B24 -> 2.4396286 | F24: =D24-$F$8 -> 178.60912 | I24: =Tulostus!L37 -> 50 | J24: Pa
B25: 64.232597 | C25: 773.4095 | D25: 183.30863 | E25: =D25/B25 -> 2.8538257 | F25: =D25-$F$8 -> 177.25663
I26: 2. potenssin verkkokäyrän kerroin:
I27: x = tilavuusvirta, y = paine-ero
B28: Poisto 8 V | I28: y = ax² --> a = y/x²
B29: qV (l/s) | C29: PfD (Pa) | D29: Pkorj. (W) | E29: SFP | F29: P-idle | I29: a = | J29: =I24/I23^2 -> 0.0070861678
B30: 140.34312 | C30: 9.6040813 | D30: 120.54169 | E30: =D30/B30 -> 0.858907 | F30: =D30-$F$8 -> 114.48969 | I30: Lineaarisovitteen kerroin:
B31: 134.93147 | C31: 56.56159 | D31: 121.79004 | E31: =D31/B31 -> 0.9026066 | F31: =D31-$F$8 -> 115.73804 | I31: y = Ax --> A = y/x
B32: 129.88143 | C32: 104.34907 | D32: 123.15049 | E32: =D32/B32 -> 0.94817631 | F32: =D32-$F$8 -> 117.09849 | I32: A = | J32: =I24/I23 -> 0.5952381
B33: 123.93107 | C33: 155.91492 | D33: 123.0732 | E33: =D33/B33 -> 0.99307779 | F33: =D33-$F$8 -> 117.0212
B34: 117.70557 | C34: 205.77863 | D34: 123.41342 | E34: =D34/B34 -> 1.0484926 | F34: =D34-$F$8 -> 117.36142
B35: 107.99931 | C35: 258.87814 | D35: 123.9952 | E35: =D35/B35 -> 1.1481111 | F35: =D35-$F$8 -> 117.9432
B36: 100.92309 | C36: 309.2347 | D36: 123.7249 | E36: =D36/B36 -> 1.2259326 | F36: =D36-$F$8 -> 117.6729
B37: 92.989359 | C37: 358.41789 | D37: 122.14905 | E37: =D37/B37 -> 1.3135809 | F37: =D37-$F$8 -> 116.09705 | I37: 4. Verkkokäyrän ja puhallinkäyrien leikkauspisteet
B38: 83.523543 | C38: 409.42576 | D38: 121.12884 | E38: =D38/B38 -> 1.4502359 | F38: =D38-$F$8 -> 115.07684 | I38: ax²=Ax²+Bx+C ---> (A-a)x²+Bx+C = 0
B39: 73.652283 | C39: 457.98557 | D39: 118.51286 | E39: =D39/B39 -> 1.609086 | F39: =D39-$F$8 -> 112.46086
B40: 61.580575 | C40: 507.01798 | D40: 114.89212 | E40: =D40/B40 -> 1.8657202 | F40: =D40-$F$8 -> 108.84012 | I40: Ratkaistaan toisen asteen yhtälön ratkaisukaavalla:
B41: 28.233993 | C41: 582.82833 | D41: 100.49413 | E41: =D41/B41 -> 3.559331 | F41: =D41-$F$8 -> 94.442126
...

Sheet Laskenta poistopuoli_W
C3: EI KÄYTETÄ
C4: 1. Mittaustulokset raakadata | I4: 2. Puhallinkäyrien sovitteet 2. asteen polynomeilla
I5: x = tilavuusvirta, y = paine-ero
C6: Poistopuoli | I6: y = Ax²+Bx+C
C8: Poisto 10 V | E8: Huom. Teho kokonaisteho | J8: A | K8: B | L8: C
C9: qV (l/s) | D9: PfD (Pa) | E9: Pkorj. (W) | F9: RPM | G9: SFP | I9: 10 V | J9: {=LINEST(D10:D21,C10:C21^{1,2})} -> -0.022543803 | K9: -0.86276553 | L9: 544.39114
C10: 134.81056 | D10: 12.794885 | E10: 240.50764 | F10: 0 | G10: 1.7840415 | I10: 8 V | J10: {=LINEST(D25:D34,C25:C34^{1,2})} -> -0.021560916 | K10: -0.50836215 | L10: 450.35485
C11: 125.93197 | D11: 54.692051 | E11: 243.41396 | F11: 0 | G11: 1.9329004 | I11: 6 V | J11: {=LINEST(D38:D45,C38:C45^{1,2})} -> -0.018274772 | K11: -0.6426322 | L11: 251.08822
C12: 120.72635 | D12: 104.34823 | E12: 242.3612 | F12: 0 | G12: 2.0075253 | I12: 4 V | J12: {=LINEST(D50:D55,C50:C55^{1,2})} -> -0.016793781 | K12: -0.57772656 | L12: 107.75561
C13: 115.54056 | D13: 157.59765 | E13: 239.8447 | F13: 0 | G13: 2.0758484 | I13: 2 V | J13: {=LINEST(D60:D63,C60:C63^{1,2})} -> 0.00279763 | K13: -1.2300493 | L13: 25.57182
C14: 109.04871 | D14: 209.02383 | E14: 239.73303 | F14: 0 | G14: 2.1984031
C15: 99.307102 | D15: 254.91464 | E15: 230.02514 | F15: 0 | G15: 2.316301
C16: 88.260192 | D16: 298.84514 | E16: 212.6203 | F16: 0 | G16: 2.409017
C17: 72.164255 | D17: 349.68388 | E17: 200.53656 | F17: 0 | G17: 2.7788904
C18: 56.992237 | D18: 400.31554 | E18: 189.81612 | F18: 0 | G18: 3.3305609 | I18: 3. Mitoituspisteen verkkokäyrä
C19: 44.635842 | D19: 455.79561 | E19: 179.96287 | F19: 0 | G19: 4.0318019 | I19: Mitoituspiste:
C20: 31.758748 | D20: 498.57577 | E20: 169.89166 | F20: 0 | G20: 5.3494445 | I20: =Tulostus!L36 -> 84 | J20: dm³/s
C21: 11.919643 | D21: 539.51381 | E21: 162.90006 | F21: 0 | G21: 13.666522 | I21: =Tulostus!L37 -> 50 | J21: Pa
C23: Poisto 8 V | I23: 2. potenssin verkkokäyrän kerroin:
C24: qV (l/s) | D24: PfD (Pa) | E24: Pkorj. (W) | F24: RPM | G24: SFP | I24: x = tilavuusvirta, y = paine-ero
C25: 129.68036 | D25: 9.5153865 | E25: 230.11031 | F25: 0 | G25: 1.7744423 | I25: y = ax² --> a = y/x²
C26: 123.22104 | D26: 55.555002 | E26: 222.68373 | F26: 0 | G26: 1.8071891 | I26: a = | J26: =I21/I20^2 -> 0.0070861678
C27: 116.10132 | D27: 104.6171 | E27: 214.39902 | F27: 0 | G27: 1.8466544
C28: 107.98267 | D28: 155.57091 | E28: 203.77151 | F28: 0 | G28: 1.8870761
C29: 98.255539 | D29: 205.69575 | E29: 189.85068 | F29: 0 | G29: 1.9322135
C30: 85.997883 | D30: 252.19469 | E30: 173.69183 | F30: 0 | G30: 2.0197222 | I30: 4. Verkkokäyrän ja puhallinkäyrien leikkauspisteet
C31: 69.473491 | D31: 308.06544 | E31: 153.19126 | F31: 0 | G31: 2.2050318 | I31: ax²=Ax²+Bx+C ---> (A-a)x²+Bx+C = 0
C32: 50.409265 | D32: 345.40442 | E32: 135.41466 | F32: 0 | G32: 2.6863051
C33: 37.218221 | D33: 400.32032 | E33: 115.9053 | F33: 0 | G33: 3.1142086 | I33: Ratkaistaan toisen asteen yhtälön ratkaisukaavalla:
C34: 18.772038 | D34: 445.13213 | E34: 104.00466 | F34: 0 | G34: 5.5404035
C36: Poisto 6 V
C37: qV (l/s) | D37: PfD (Pa) | E37: Pkorj. (W) | F37: RPM | G37: SFP | M37: Kaksi ratkaisua: | O37: Valinta | P37: Vastaava paine verkkokäyrällä
C38: 96.737715 | D38: 12.325798 | E38: 80.238802 | F38: 0 | G38: 0.82944694 | I38: Vohj | J38: a = (A-a) | K38: b = B | L38: c = C | M38: x1 | N38: x2 | O38: x2 | P38: PfD(x2)
C39: 91.70739 | D39: 37.477889 | E39: 76.166908 | F39: 0 | G39: 0.83054276 | I39: 10 | J39: =J9-$J$26 -> -0.02962997 | K39: =K9 -> -0.86276553 | L39: =L9 -> 544.39114 | M39: =(-K39+SQRT(K39^2-4*J39*L39))/(2*J39) -> -150.88565 | N39: =(-K39-SQRT(K39^2-4*J39*L39))/(2*J39) -> 121.76764 | O39: =IF(M39<0,N39,M39) -> 121.76764 | P39: =$J$26*O39^2 -> 105.06916
C40: 84.175542 | D40: 73.24186 | E40: 71.458978 | F40: 0 | G40: 0.84892804 | I40: 8 | J40: =J10-$J$26 -> -0.028647084 | K40: =K10 -> -0.50836215 | L40: =L10 -> 450.35485 | M40: =(-K40+SQRT(K40^2-4*J40*L40))/(2*J40) -> -134.56898 | N40: =(-K40-SQRT(K40^2-4*J40*L40))/(2*J40) -> 116.8233 | O40: =IF(M40<0,N40,M40) -> 116.8233 | P40: =$J$26*O40^2 -> 96.709769
C41: 74.867345 | D41: 107.05478 | E41: 65.013194 | F41: 0 | G41: 0.86837852 | I41: 6 | J41: =J11-$J$26 -> -0.02536094 | K41: =K11 -> -0.6426322 | L41: =L11 -> 251.08822 | M41: =(-K41+SQRT(K41^2-4*J41*L41))/(2*J41) -> -112.97481 | N41: =(-K41-SQRT(K41^2-4*J41*L41))/(2*J41) -> 87.63536 | O41: =IF(M41<0,N41,M41) -> 87.63536 | P41: =$J$26*O41^2 -> 54.42146
C42: 61.927153 | D42: 140.35742 | E42: 58.195123 | F42: 0 | G42: 0.93973516 | I42: 4 | J42: =J12-$J$26 -> -0.023879949 | K42: =K12 -> -0.57772656 | L42: =L12 -> 107.75561 | M42: =(-K42+SQRT(K42^2-4*J42*L42))/(2*J42) -> -80.351245 | N42: =(-K42-SQRT(K42^2-4*J42*L42))/(2*J42) -> 56.158289 | O42: =IF(M42<0,N42,M42) -> 56.158289 | P42: =$J$26*O42^2 -> 22.348026
C43: 45.661771 | D43: 178.06503 | E43: 52.103463 | F43: 0 | G43: 1.1410741 | I43: 2 | J43: =J13-$J$26 -> -0.0042885378 | K43: =K13 -> -1.2300493 | L43: =L13 -> 25.57182 | M43: =(-K43+SQRT(K43^2-4*J43*L43))/(2*J43) -> -306.29043 | N43: =(-K43-SQRT(K43^2-4*J43*L43))/(2*J43) -> 19.467894 | O43: =IF(M43<0,N43,M43) -> 19.467894 | P43: =$J$26*O43^2 -> 2.6856498
C44: 31.097024 | D44: 210.9873 | E44: 47.192677 | F44: 0 | G44: 1.5175946
C45: 13.409746 | D45: 242.37004 | E45: 31.449548 | F45: 0 | G45: 2.3452754
...

Sheet Laskenta äänitehotasot
AC1: 2. SOVITTEET LwA vs. TILAVUUSVIRTA | AK1: 3. SPEKTRIKORJAUS
B2: 1. RAAKADATA | F2: Valmis | G2: Tarkista spektrikorjaukset | AC2: --> Äänitehotasot mitoituspisteen verkkokäyrän pisteissä
AC3: --> Em. verkkokäyrän LwA logaritmisovitteesta mitoituspisteen LwA | AL3: SPEKTRIKORJAUSTERMIT
B4: TULOKANAVA | AL4: =I6 -> 63 Hz | AM4: =J6 -> 125 Hz | AN4: =K6 -> 250 Hz | AO4: =L6 -> 500 Hz | AP4: =M6 -> 1 kHz | AQ4: =N6 -> 2 kHz | AR4: =O6 -> 4 kHz | AS4: =P6 -> 8 kHz
B5: Tulopuoli | E5: Poistopuoli | H5: P* [W] | I5: Äänitehotasot oktaavikaistoittain LW,okt [dB] | Q5: LW,kok** [dB] | R5: LW,A,kok** [dB] | AC5: Äänikäyrien sovitteet, 1. asteen lineaarinen sovite | AK5: 10 V | AL5: =I8-$R8 -> 2.4654441 | AM5: =J8-$R8 -> 0.64868103 | AN5: =K8-$R8 -> -2.5916321 | AO5: =L8-$R8 -> -0.38179329 | AP5: =M8-$R8 -> -8.738023 | AQ5: =N8-$R8 -> -8.9178436 | AR5: =O8-$R8 -> -10.597832 | AS5: =P8-$R8 -> -19.442026
B6: Uohj [V] | C6: qV [dm3/s] | D6: pd [Pa] | E6: Uohj [V] | F6: qV [dm3/s] | G6: pd [Pa] | I6: 63 Hz | J6: 125 Hz | K6: 250 Hz | L6: 500 Hz | M6: 1 kHz | N6: 2 kHz | O6: 4 kHz | P6: 8 kHz | AC6: y = LwA, x = qV --> y = Ax+B | AL6: =I9-$R9 -> 2.7562032 | AM6: =J9-$R9 -> 0.098934719 | AN6: =K9-$R9 -> -2.9665097 | AO6: =L9-$R9 -> 0.47682691 | AP6: =M9-$R9 -> -9.2252522 | AQ6: =N9-$R9 -> -9.8057076 | AR6: =O9-$R9 -> -11.543213 | AS6: =P9-$R9 -> -20.864205
AG7: Mitoituspisteen verkkokäyrä | AL7: =I10-$R10 -> 0.67228583 | AM7: =J10-$R10 -> -2.8537988 | AN7: =K10-$R10 -> -5.7092918 | AO7: =L10-$R10 -> 1.9630292 | AP7: =M10-$R10 -> -11.84888 | AQ7: =N10-$R10 -> -12.893836 | AR7: =O10-$R10 -> -14.506584 | AS7: =P10-$R10 -> -24.475127
B8: 100 | C8: 151.04412 | D8: 105.50215 | E8: 100 | F8: 156.5473 | G8: 107.02667 | H8: 178.56819 | I8: 73.934863 | J8: 72.1181 | K8: 68.877787 | L8: 71.087626 | M8: 62.731396 | N8: 62.551576 | O8: 60.871587 | P8: 52.027394 | Q8: 78.238415 | R8: 71.469419 | AC8: Vohj | AD8: A | AE8: B | AG8: qV | AH8: LwA | AL8: =I11-$R11 -> -1.5340681 | AM8: =J11-$R11 -> -4.2633408 | AN8: =K11-$R11 -> -7.4407888 | AO8: =L11-$R11 -> 2.5527235 | AP8: =M11-$R11 -> -13.478092 | AQ8: =N11-$R11 -> -14.945066 | AR8: =O11-$R11 -> -17.066649 | AS8: =P11-$R11 -> -27.290671
B9: 100 | C9: 136.93813 | D9: 222.12411 | E9: 100 | F9: 144.09798 | G9: 223.49525 | H9: 178.7953 | I9: 74.803337 | J9: 72.146069 | K9: 69.080625 | L9: 72.523961 | M9: 62.821882 | N9: 62.241427 | O9: 60.503921 | P9: 51.182929 | Q9: 78.889205 | R9: 72.047134 | AC9: 10 | AD9: {=LINEST(R8:R11,C8:C11)} -> -0.13189777 | AE9: 90.884392 | AG9: ='Laskenta tulopuoli'!O45 -> 145.65364 | AH9: =AD9*AG9+AE9 -> 71.673002 | AK9: 8 V | AL9: =I12-$R12 -> 1.5219117 | AM9: =J12-$R12 -> 0.37762906 | AN9: =K12-$R12 -> -1.770864 | AO9: =L12-$R12 -> 0.21573286 | AP9: =M12-$R12 -> -8.9674616 | AQ9: =N12-$R12 -> -9.4726791 | AR9: =O12-$R12 -> -11.157451 | AS9: =P12-$R12 -> -21.165709
B10: 100 | C10: 121.79571 | D10: 339.63005 | E10: 100 | F10: 129.58702 | G10: 343.29632 | H10: 179.03909 | I10: 75.586806 | J10: 72.060721 | K10: 69.205228 | L10: 76.877549 | M10: 63.06564 | N10: 62.020683 | O10: 60.407936 | P10: 50.439392 | Q10: 80.574758 | R10: 74.91452 | AC10: 8 | AD10: {=LINEST(R12:R15,C12:C15)} -> -0.061554769 | AE10: 76.226742 | AG10: ='Laskenta tulopuoli'!O46 -> 123.49583 | AH10: =AD10*AG10+AE10 -> 68.624985 | AL10: =I13-$R13 -> 1.1570242 | AM10: =J13-$R13 -> 0.76916928 | AN10: =K13-$R13 -> -1.3130005 | AO10: =L13-$R13 -> 0.20091142 | AP10: =M13-$R13 -> -8.5693487 | AQ10: =N13-$R13 -> -9.4861247 | AR10: =O13-$R13 -> -11.413836 | AS10: =P13-$R13 -> -21.59476
B11: 100 | C11: 103.9133 | D11: 469.97003 | E11: 100 | F11: 111.0925 | G11: 478.81948 | H11: 179.327 | I11: 75.817697 | J11: 73.088424 | K11: 69.910976 | L11: 79.904488 | M11: 63.873673 | N11: 62.406699 | O11: 60.285116 | P11: 50.061094 | Q11: 82.342862 | R11: 77.351765 | AC11: 6 | AD11: {=LINEST(R16:R19,C16:C19)} -> -0.16973475 | AE11: 76.388321 | AG11: ='Laskenta tulopuoli'!O47 -> 86.508693 | AH11: =AD11*AG11+AE11 -> 61.70479 | AL11: =I14-$R14 -> 0.71605666 | AM11: =J14-$R14 -> -0.28668176 | AN11: =K14-$R14 -> -1.9061465 | AO11: =L14-$R14 -> 1.3819436 | AP11: =M14-$R14 -> -9.7948474 | AQ11: =N14-$R14 -> -10.627632 | AR11: =O14-$R14 -> -12.989491 | AS11: =P14-$R14 -> -23.403387
B12: 80 | C12: 127.75708 | D12: 76.789748 | E12: 80 | F12: 133.17777 | G12: 77.056728 | H12: 120.86676 | I12: 70.358537 | J12: 69.214255 | K12: 67.065762 | L12: 69.052358 | M12: 59.869164 | N12: 59.363946 | O12: 57.679174 | P12: 47.670917 | Q12: 75.417309 | R12: 68.836626 | AC12: 4 | AD12: {=LINEST(R20:R23,C20:C23)} -> -0.20806967 | AE12: 64.50793 | AG12: ='Laskenta tulopuoli'!O48 -> 52.069138 | AH12: =AD12*AG12+AE12 -> 53.673921 | AL12: =I15-$R15 -> 0.97141852 | AM12: =J15-$R15 -> -0.53631008 | AN12: =K15-$R15 -> -1.9729704 | AO12: =L15-$R15 -> 2.0634415 | AP12: =M15-$R15 -> -10.291438 | AQ12: =N15-$R15 -> -12.019951 | AR12: =O15-$R15 -> -14.889416 | AS12: =P15-$R15 -> -25.305331
B13: 80 | C13: 116.42397 | D13: 162.92389 | E13: 80 | F13: 122.72846 | G13: 164.78058 | H13: 121.53466 | I13: 69.666432 | J13: 69.278578 | K13: 67.196408 | L13: 68.71032 | M13: 59.94006 | N13: 59.023284 | O13: 57.095573 | P13: 46.914648 | Q13: 75.15225 | R13: 68.509408 | AK13: 6 V | AL13: =I16-$R16 -> 3.3947893 | AM13: =J16-$R16 -> 2.489745 | AN13: =K16-$R16 -> 1.603383 | AO13: =L16-$R16 -> -1.3159134 | AP13: =M16-$R16 -> -8.0847837 | AQ13: =N16-$R16 -> -8.4824312 | AR13: =O16-$R16 -> -12.066865 | AS13: =P16-$R16 -> -23.533363
B14: 80 | C14: 103.10986 | D14: 250.629 | E14: 80 | F14: 110.12586 | G14: 253.241 | H14: 121.17076 | I14: 70.397265 | J14: 69.394527 | K14: 67.775062 | L14: 71.063152 | M14: 59.886361 | N14: 59.053577 | O14: 56.691718 | P14: 46.277821 | Q14: 76.096898 | R14: 69.681209 | AC14: Sovite mitoituspisteen verkkokäyrän äänipisteistä | AL14: =I17-$R17 -> 2.12367 | AM14: =J17-$R17 -> 2.3205892 | AN14: =K17-$R17 -> 2.7582662 | AO14: =L17-$R17 -> -1.4429598 | AP14: =M17-$R17 -> -8.6179531 | AQ14: =N17-$R17 -> -9.3952082 | AR14: =O17-$R17 -> -13.289627 | AS14: =P17-$R17 -> -24.646002
B15: 80 | C15: 87.336054 | D15: 342.02618 | E15: 80 | F15: 93.555143 | G15: 352.3014 | H15: 119.13375 | I15: 72.097782 | J15: 70.590053 | K15: 69.153393 | L15: 73.189805 | M15: 60.834925 | N15: 59.106412 | O15: 56.236947 | P15: 45.821032 | Q15: 77.724871 | R15: 71.126363 | AC15: Logaritmisovite y = A ln(x) + B | AL15: =I18-$R18 -> 1.352143 | AM15: =J18-$R18 -> 1.1919905 | AN15: =K18-$R18 -> 4.2561961 | AO15: =L18-$R18 -> -1.9756088 | AP15: =M18-$R18 -> -10.681381 | AQ15: =N18-$R18 -> -11.271426 | AR15: =O18-$R18 -> -15.305501 | AS15: =P18-$R18 -> -26.511636
B16: 60 | C16: 88.788079 | D16: 39.743609 | E16: 60 | F16: 96.13126 | G16: 41.548951 | H16: 58.473119 | I16: 64.945602 | J16: 64.040558 | K16: 63.154196 | L16: 60.234899 | M16: 53.466029 | N16: 53.068381 | O16: 49.483948 | P16: 38.01745 | Q16: 69.685425 | R16: 61.550813 | AC16: y = LwA, x = qV | AL16: =I19-$R19 -> 0.47740682 | AM16: =J19-$R19 -> 0.25764675 | AN16: =K19-$R19 -> 5.3218758 | AO16: =L19-$R19 -> -3.4285258 | AP16: =M19-$R19 -> -12.33756 | AQ16: =N19-$R19 -> -13.498444 | AR16: =O19-$R19 -> -17.660699 | AS16: =P19-$R19 -> -28.805101
B17: 60 | C17: 81.733507 | D17: 84.296605 | E17: 60 | F17: 89.725188 | G17: 88.190203 | H17: 58.683066 | I17: 64.37889 | J17: 64.575809 | K17: 65.013486 | L17: 60.81226 | M17: 53.637267 | N17: 52.860012 | O17: 48.965593 | P17: 37.609218 | Q17: 70.210028 | R17: 62.25522 | AC17: A | AD17: B | AK17: 4 V | AL17: =I20-$R20 -> 2.1129755 | AM17: =J20-$R20 -> 4.1645791 | AN17: =K20-$R20 -> 5.0821587 | AO17: =L20-$R20 -> -2.4019577 | AP17: =M20-$R20 -> -8.7228678 | AQ17: =N20-$R20 -> -10.824264 | AR17: =O20-$R20 -> -15.946137 | AS17: =P20-$R20 -> -28.512948
B18: 60 | C18: 73.137106 | D18: 130.66124 | E18: 60 | F18: 81.086256 | G18: 136.81538 | H18: 58.562181 | I18: 65.221668 | J18: 65.061515 | K18: 68.125721 | L18: 61.893916 | M18: 53.188143 | N18: 52.598098 | O18: 48.564024 | P18: 37.357888 | Q18: 71.773732 | R18: 63.869524 | AC18: {=LINEST(AH9:AH12,LN(AG9:AG12))} -> 17.556095 | AD18: -16.006072 | AL18: =I21-$R21 -> 1.1606886 | AM18: =J21-$R21 -> 4.1344776 | AN18: =K21-$R21 -> 6.7295413 | AO18: =L21-$R21 -> -3.3140886 | AP18: =M21-$R21 -> -9.7764627 | AQ18: =N21-$R21 -> -12.336374 | AR18: =O21-$R21 -> -17.622489 | AS18: =P21-$R21 -> -30.583269
B19: 60 | C19: 62.463574 | D19: 180.53564 | E19: 60 | F19: 69.368287 | G19: 189.90237 | H19: 57.836187 | I19: 66.395548 | J19: 66.175788 | K19: 71.240017 | L19: 62.489615 | M19: 53.580581 | N19: 52.419697 | O19: 48.257442 | P19: 37.11304 | Q19: 73.812877 | R19: 65.918141 | AL19: =I22-$R22 -> 1.60323 | AM19: =J22-$R22 -> 5.1456513 | AN19: =K22-$R22 -> 7.6839133 | AO19: =L22-$R22 -> -4.4267558 | AP19: =M22-$R22 -> -10.379509 | AQ19: =N22-$R22 -> -13.259853 | AR19: =O22-$R22 -> -18.536531 | AS19: =P22-$R22 -> -29.417564
B20: 40 | C20: 53.251415 | D20: 14.652642 | E20: 40 | F20: 60.982403 | G20: 17.819977 | H20: 26.51749 | I20: 55.457044 | J20: 57.508647 | K20: 58.426227 | L20: 50.942111 | M20: 44.6212 | N20: 42.519805 | O20: 37.397932 | P20: 24.831121 | Q20: 62.522881 | R20: 53.344068 | AC20: Mitoituspisteen tilavuusvirta (tuloilma) | AL20: =I23-$R23 -> 1.5748277 | AM20: =J23-$R23 -> 5.8050215 | AN20: =K23-$R23 -> 8.0652802 | AO20: =L23-$R23 -> -4.8309145 | AP20: =M23-$R23 -> -10.593648 | AQ20: =N23-$R23 -> -15.032081 | AR20: =O23-$R23 -> -20.506827 | AS20: =P23-$R23 -> -32.919256 | AW20: Lähin mitoituspistettä
B21: 40 | C21: 49.21957 | D21: 32.244089 | E21: 40 | F21: 57.873575 | G21: 34.720004 | H21: 26.221126 | I21: 55.55825 | J21: 58.532039 | K21: 61.127103 | L21: 51.083473 | M21: 44.621099 | N21: 42.061188 | O21: 36.775072 | P21: 23.814292 | Q21: 64.061135 | R21: 54.397561 | AC21: ='Laskenta tulopuoli'!I24 -> 84 | AD21: dm³/s | AE21: -----> | AF21: LwA | AG21: =AC18*LN(AC21)+AD18 -> 61.781768 | AH21: dB | AI21: Tulokanava | AK21: 10 | AL21: =ROUND(AVERAGE(AL5:AL8),0) -> 1 | AM21: =ROUND(AVERAGE(AM5:AM8),0) -> -2 | AN21: =ROUND(AVERAGE(AN5:AN8),0) -> -5 | AO21: =ROUND(AVERAGE(AO5:AO8),0) -> 1 | AP21: =ROUND(AVERAGE(AP5:AP8),0) -> -11 | AQ21: =ROUND(AVERAGE(AQ5:AQ8),0) -> -12 | AR21: =ROUND(AVERAGE(AR5:AR8),0) -> -13 | AS21: =ROUND(AVERAGE(AS5:AS8),0) -> -23 | AT21: {=10*LOG10(SUM(10^((AL21:AS21+$AL$128:$AS$128)/10)))} -> -0.48509643 | AU21: =IF(ABS(AT21)<0.5,"OK","TARKASTA") -> OK | AW21: =ABS(AK21-'Laskenta tulopuoli'!$N$64) -> 4.2112996
B22: 40 | C22: 44.451053 | D22: 49.933366 | E22: 40 | F22: 52.539269 | G22: 55.25449 | H22: 25.86222 | I22: 56.833908 | J22: 60.376329 | K22: 62.914591 | L22: 50.803922 | M22: 44.851169 | N22: 41.970824 | O22: 36.694147 | P22: 25.813114 | Q22: 65.683184 | R22: 55.230678 | AK22: 8 | AL22: =ROUND(AVERAGE(AL9:AL12),0) -> 1 | AM22: =ROUND(AVERAGE(AM9:AM12),0) -> 0 | AN22: =ROUND(AVERAGE(AN9:AN12),0) -> -2 | AO22: =ROUND(AVERAGE(AO9:AO12),0) -> 1 | AP22: =ROUND(AVERAGE(AP9:AP12),0) -> -9 | AQ22: =ROUND(AVERAGE(AQ9:AQ12),0) -> -10 | AR22: =ROUND(AVERAGE(AR9:AR12),0) -> -13 | AS22: =ROUND(AVERAGE(AS9:AS12),0) -> -23 | AT22: {=10*LOG10(SUM(10^((AL22:AS22+$AL$128:$AS$128)/10)))} -> 0.17837454 | AU22: =IF(ABS(AT22)<0.5,"OK","TARKASTA") -> OK | AW22: =ABS(AK22-'Laskenta tulopuoli'!$N$64) -> 2.2112996
B23: 40 | C23: 38.270824 | D23: 69.716154 | E23: 40 | F23: 44.748956 | G23: 77.701926 | H23: 25.383526 | I23: 58.101221 | J23: 62.331414 | K23: 64.591673 | L23: 51.695478 | M23: 45.932745 | N23: 41.494312 | O23: 36.019566 | P23: 23.607137 | Q23: 67.356154 | R23: 56.526393 | AK23: 6 | AL23: =ROUND(AVERAGE(AL14:AL16),0) -> 1 | AM23: =ROUND(AVERAGE(AM14:AM16),0) -> 1 | AN23: =ROUND(AVERAGE(AN14:AN16),0) -> 4 | AO23: =ROUND(AVERAGE(AO13:AO16),0) -> -2 | AP23: =ROUND(AVERAGE(AP13:AP16),0) -> -10 | AQ23: =ROUND(AVERAGE(AQ13:AQ16),0) -> -11 | AR23: =ROUND(AVERAGE(AR13:AR16),0) -> -15 | AS23: =ROUND(AVERAGE(AS13:AS16),0) -> -26 | AT23: {=10*LOG10(SUM(10^((AL23:AS23+$AL$128:$AS$128)/10)))} -> -0.31924291 | AU23: =IF(ABS(AT23)<0.5,"OK","TARKASTA") -> OK | AW23: =ABS(AK23-'Laskenta tulopuoli'!$N$64) -> 0.21129963
AK24: 4 | AL24: =ROUND(AVERAGE(AL17:AL20),0) -> 2 | AM24: =ROUND(AVERAGE(AM17:AM19),0) -> 4 | AN24: =ROUND(AVERAGE(AN17:AN19),0) -> 6 | AO24: =ROUND(AVERAGE(AO17:AO20),0) -> -4 | AP24: =ROUND(AVERAGE(AP17:AP20),0) -> -10 | AQ24: =ROUND(AVERAGE(AQ17:AQ20),0) -> -13 | AR24: =ROUND(AVERAGE(AR17:AR20),0) -> -18 | AS24: =ROUND(AVERAGE(AS17:AS20),0) -> -30 | AT24: {=10*LOG10(SUM(10^((AL24:AS24+$AL$128:$AS$128)/10)))} -> -0.033366337 | AU24: =IF(ABS(AT24)<0.5,"OK","TARKASTA") -> OK | AW24: =ABS(AK24-'Laskenta tulopuoli'!$N$64) -> 1.7887004
AK25: Valinta | AL25: {=INDEX(AL21:AL24,$AW$25)} -> 1 | AM25: {=INDEX(AM21:AM24,$AW$25)} -> 1 | AN25: {=INDEX(AN21:AN24,$AW$25)} -> 4 | AO25: {=INDEX(AO21:AO24,$AW$25)} -> -2 | AP25: {=INDEX(AP21:AP24,$AW$25)} -> -10 | AQ25: {=INDEX(AQ21:AQ24,$AW$25)} -> -11 | AR25: {=INDEX(AR21:AR24,$AW$25)} -> -15 | AS25: {=INDEX(AS21:AS24,$AW$25)} -> -26 | AT25: Lwtot | AU25: LwA,tot | AW25: =MATCH(MIN(AW21:AW24),AW21:AW24,0) -> 3
AK26: Lopputulos | AL26: =$AG$21+AL25 -> 62.781768 | AM26: =$AG$21+AM25 -> 62.781768 | AN26: =$AG$21+AN25 -> 65.781768 | AO26: =$AG$21+AO25 -> 59.781768 | AP26: =$AG$21+AP25 -> 51.781768 | AQ26: =$AG$21+AQ25 -> 50.781768 | AR26: =$AG$21+AR25 -> 46.781768 | AS26: =$AG$21+AS25 -> 35.781768 | AT26: {=10*LOG10(SUM(10^(AL26:AS26/10)))} -> 69.471301 | AU26: {=10*LOG10(SUM(10^((AL26:AS26+$AL$128:$AS$128)/10)))} -> 61.462525
B28: ULKOKANAVA | AL28: =I30 -> 63 Hz | AM28: =J30 -> 125 Hz | AN28: =K30 -> 250 Hz | AO28: =L30 -> 500 Hz | AP28: =M30 -> 1 kHz | AQ28: =N30 -> 2 kHz | AR28: =O30 -> 4 kHz | AS28: =P30 -> 8 kHz
B29: Tulopuoli | E29: Poistopuoli | H29: P* [W] | I29: Äänitehotasot oktaavikaistoittain LW,okt [dB] | Q29: LW,kok** [dB] | R29: LW,A,kok** [dB] | AC29: Äänikäyrien sovitteet, 1. asteen lineaarinen sovite | AK29: 10 V | AL29: =I32-$R32 -> 7.3318069 | AM29: =J32-$R32 -> 3.8104216 | AN29: =K32-$R32 -> 1.1707486 | AO29: =L32-$R32 -> -0.94068924 | AP29: =M32-$R32 -> -6.9849721 | AQ29: =N32-$R32 -> -9.6118126 | AR29: =O32-$R32 -> -15.061993 | AS29: =P32-$R32 -> -24.080953
B30: Uohj [V] | C30: qV [dm3/s] | D30: pd [Pa] | E30: Uohj [V] | F30: qV [dm3/s] | G30: pd [Pa] | I30: 63 Hz | J30: 125 Hz | K30: 250 Hz | L30: 500 Hz | M30: 1 kHz | N30: 2 kHz | O30: 4 kHz | P30: 8 kHz | AC30: y = LwA, x = qV --> y = Ax+B | AL30: =I33-$R33 -> 6.4689745 | AM30: =J33-$R33 -> 5.7577056 | AN30: =K33-$R33 -> 1.8133902 | AO30: =L33-$R33 -> -1.1452986 | AP30: =M33-$R33 -> -7.0186067 | AQ30: =N33-$R33 -> -9.3782037 | AR30: =O33-$R33 -> -17.317641 | AS30: =P33-$R33 -> -26.214387
AG31: Mitoituspisteen verkkokäyrä | AL31: =I34-$R34 -> 7.3473301 | AM31: =J34-$R34 -> 6.7107013 | AN31: =K34-$R34 -> 1.7597105 | AO31: =L34-$R34 -> -0.5467806 | AP31: =M34-$R34 -> -7.2731553 | AQ31: =N34-$R34 -> -10.369304 | AR31: =O34-$R34 -> -19.849771 | AS31: =P34-$R34 -> -29.271136
B32: 100 | C32: 151.40938 | D32: 102.37758 | E32: 100 | F32: 156.77203 | G32: 104.77336 | H32: 178.56231 | I32: 70.484757 | J32: 66.963372 | K32: 64.323699 | L32: 62.212261 | M32: 56.167978 | N32: 53.541138 | O32: 48.090957 | P32: 39.071998 | Q32: 73.270218 | R32: 63.15295 | AC32: Vohj | AD32: A | AE32: B | AG32: qV | AH32: LwA | AL32: =I35-$R35 -> 7.7862462 | AM32: =J35-$R35 -> 5.5042269 | AN32: =K35-$R35 -> 0.031680401 | AO32: =L35-$R35 -> 0.68423522 | AP32: =M35-$R35 -> -7.3653596 | AQ32: =N35-$R35 -> -11.859376 | AR32: =O35-$R35 -> -21.112559 | AS32: =P35-$R35 -> -29.770889
B33: 100 | C33: 136.37637 | D33: 226.61627 | E33: 100 | F33: 144.06222 | G33: 223.80911 | H33: 178.80434 | I33: 68.927564 | J33: 68.216295 | K33: 64.27198 | L33: 61.313291 | M33: 55.439983 | N33: 53.080386 | O33: 45.140949 | P33: 36.244203 | Q33: 72.801471 | R33: 62.45859 | AC33: 10 | AD33: {=LINEST(R32:R35,C32:C35)} -> -0.0015341895 | AE33: 63.008593 | AG33: =AG9 -> 145.65364 | AH33: =AD33*AG33+AE33 -> 62.785132 | AK33: 8 V | AL33: =I36-$R36 -> 4.5679221 | AM33: =J36-$R36 -> 3.8338804 | AN33: =K36-$R36 -> 1.9591042 | AO33: =L36-$R36 -> -1.018281 | AP33: =M36-$R36 -> -6.9174288 | AQ33: =N36-$R36 -> -8.7632662 | AR33: =O36-$R36 -> -18.255005 | AS33: =P36-$R36 -> -28.150009
B34: 100 | C34: 121.08624 | D34: 344.96427 | E34: 100 | F34: 129.53873 | G34: 343.67252 | H34: 179.05051 | I34: 69.740433 | J34: 69.103804 | K34: 64.152813 | L34: 61.846322 | M34: 55.119947 | N34: 52.023798 | O34: 42.543331 | P34: 33.121966 | Q34: 73.461838 | R34: 62.393102 | AC34: 8 | AD34: {=LINEST(R36:R39,C36:C39)} -> -0.07934017 | AE34: 69.928234 | AG34: =AG10 -> 123.49583 | AH34: =AD34*AG34+AE34 -> 60.130054 | AL34: =I37-$R37 -> 5.1671967 | AM34: =J37-$R37 -> 6.7648357 | AN34: =K37-$R37 -> 2.4863645 | AO34: =L37-$R37 -> -1.0203752 | AP34: =M37-$R37 -> -7.3181668 | AQ34: =N37-$R37 -> -9.449767 | AR34: =O37-$R37 -> -19.96177 | AS34: =P37-$R37 -> -29.422554
B35: 100 | C35: 105.31714 | D35: 460.03002 | E35: 100 | F35: 113.57469 | G35: 461.52845 | H35: 179.30439 | I35: 71.027112 | J35: 68.745092 | K35: 63.272546 | L35: 63.9251 | M35: 55.875506 | N35: 51.381489 | O35: 42.128306 | P35: 33.469977 | Q35: 74.03032 | R35: 63.240865 | AC35: 6 | AD35: {=LINEST(R40:R43,C40:C43)} -> -0.060252306 | AE35: 62.326596 | AG35: =AG11 -> 86.508693 | AH35: =AD35*AG35+AE35 -> 57.114248 | AL35: =I38-$R38 -> 6.1371776 | AM35: =J38-$R38 -> 5.9258733 | AN35: =K38-$R38 -> 0.94358934 | AO35: =L38-$R38 -> 0.91144993 | AP35: =M38-$R38 -> -8.2304336 | AQ35: =N38-$R38 -> -11.036178 | AR35: =O38-$R38 -> -22.099923 | AS35: =P38-$R38 -> -31.399157
B36: 80 | C36: 128.18425 | D36: 73.263269 | E36: 80 | F36: 133.37039 | G36: 75.260818 | H36: 120.824 | I36: 64.961475 | J36: 64.227434 | K36: 62.352658 | L36: 59.375272 | M36: 53.476125 | N36: 51.630287 | O36: 42.138549 | P36: 32.243544 | Q36: 69.421323 | R36: 60.393553 | AC36: 4 | AD36: {=LINEST(R44:R47,C44:C47)} -> -0.053418063 | AE36: 50.006703 | AG36: =AG12 -> 52.069138 | AH36: =AD36*AG36+AE36 -> 47.225271 | AL36: =I39-$R39 -> 2.766683 | AM36: =J39-$R39 -> 2.1695389 | AN36: =K39-$R39 -> -1.2721396 | AO36: =L39-$R39 -> 3.0226529 | AP36: =M39-$R39 -> -10.535366 | AQ36: =N39-$R39 -> -14.417209 | AR36: =O39-$R39 -> -25.030728 | AS36: =P39-$R39 -> -34.349975
B37: 80 | C37: 116.15076 | D37: 164.85021 | E37: 80 | F37: 122.89538 | G37: 163.50217 | H37: 121.53966 | I37: 65.435401 | J37: 67.03304 | K37: 62.754569 | L37: 59.247829 | M37: 52.950038 | N37: 50.818437 | O37: 40.306434 | P37: 30.845651 | Q37: 70.645489 | R37: 60.268204 | AK37: 6 V | AL37: =I40-$R40 -> 2.8988875 | AM37: =J40-$R40 -> 1.4338422 | AN37: =K40-$R40 -> -0.97627245 | AO37: =L40-$R40 -> 2.3317748 | AP37: =M40-$R40 -> -8.8254611 | AQ37: =N40-$R40 -> -10.087026 | AR37: =O40-$R40 -> -22.093315 | AS37: =P40-$R40 -> -32.215608
B38: 80 | C38: 103.26289 | D38: 249.68371 | E38: 80 | F38: 110.3684 | G38: 251.6658 | H38: 121.182 | I38: 66.945498 | J38: 66.734194 | K38: 61.75191 | L38: 61.719771 | M38: 52.577887 | N38: 49.772143 | O38: 38.708397 | P38: 29.409164 | Q38: 71.116213 | R38: 60.808321 | AC38: Sovite mitoituspisteen verkkokäyrän äänipisteistä | AL38: =I41-$R41 -> 4.691402 | AM38: =J41-$R41 -> 4.4674292 | AN38: =K41-$R41 -> 1.4174035 | AO38: =L41-$R41 -> 0.72506595 | AP38: =M41-$R41 -> -8.1499911 | AQ38: =N41-$R41 -> -10.194593 | AR38: =O41-$R41 -> -21.182139 | AS38: =P41-$R41 -> -29.222757
B39: 80 | C39: 89.533392 | D39: 329.93692 | E39: 80 | F39: 96.281441 | G39: 337.01429 | H39: 119.52192 | I39: 66.327471 | J39: 65.730327 | K39: 62.288648 | L39: 66.583441 | M39: 53.025422 | N39: 49.143579 | O39: 38.53006 | P39: 29.210813 | Q39: 71.635284 | R39: 63.560788 | AC39: Logaritmisovite y = A ln(x) + B | AG39: 2. polynomisovite | AL39: =I42-$R42 -> 2.7142961 | AM39: =J42-$R42 -> 3.2536253 | AN39: =K42-$R42 -> 2.4619588 | AO39: =L42-$R42 -> 0.96544275 | AP39: =M42-$R42 -> -9.6321609 | AQ39: =N42-$R42 -> -12.024236 | AR39: =O42-$R42 -> -23.430077 | AS39: =P42-$R42 -> -31.697855
B40: 60 | C40: 89.083669 | D40: 37.697502 | E40: 60 | F40: 96.242814 | G40: 40.597467 | H40: 58.458238 | I40: 60.578702 | J40: 59.113657 | K40: 56.703542 | L40: 60.01159 | M40: 48.854354 | N40: 47.592788 | O40: 35.5865 | P40: 25.464206 | Q40: 65.52297 | R40: 57.679815 | AC40: y = LwA, x = qV | AG40: y = LwA, x = qV | AL40: =I43-$R43 -> 1.5015502 | AM40: =J43-$R43 -> 1.8236804 | AN40: =K43-$R43 -> 2.9020931 | AO40: =L43-$R43 -> 1.2431 | AP40: =M43-$R43 -> -10.476165 | AQ40: =N43-$R43 -> -15.292684 | AR40: =O43-$R43 -> -26.352934 | AS40: =P43-$R43 -> -33.148509
B41: 60 | C41: 81.635487 | D41: 84.867218 | E41: 60 | F41: 89.636625 | G41: 88.753182 | H41: 58.68402 | I41: 61.247003 | J41: 61.02303 | K41: 57.973005 | L41: 57.280667 | M41: 48.40561 | N41: 46.361008 | O41: 35.373462 | P41: 27.332844 | Q41: 65.884326 | R41: 56.555601 | AC41: A | AD41: B | AG41: A | AH41: B | AI41: C | AK41: 4 V | AL41: =I44-$R44 -> 6.9595606 | AM41: =J44-$R44 -> 5.4174497 | AN41: =K44-$R44 -> 1.8244 | AO41: =L44-$R44 -> -4.1553768 | AP41: =M44-$R44 -> -3.4722725 | AQ41: =N44-$R44 -> -12.688631 | AR41: =O44-$R44 -> -25.890935 | AS41: =P44-$R44 -> -25.550094
...

Sheet SEC laskenta
P3: SEC-luku
W4: Vertailuarvo | Y4: =L24 -> -42.037855 | Z4: =INDEX(W6:W13,IF($Y$4<Y6,1,MATCH(Y4,Y6:Y13)+1)) -> A+
J5: Tulo | L5: Poisto | P5: ta | Q5: 8760
C6: Ilman tilavuusvirta | I6: Älä muuta tähän | J6: =Tulostus!J36 -> 84 | K6: l/s | L6: =Tulostus!L36 -> 84 | M6: l/s | P6: pef | Q6: 2.5 | W6: A+ | Y6: -42 | Z6: =IF($Y$4<Y6,1,0) -> 1
C7: Paine-ero | I7: Älä muuta tähän | J7: =Tulostus!J37 -> 50 | K7: Pa | L7: =Tulostus!L37 -> 50 | M7: Pa | P7: qnet | Q7: 1.3 | W7: A | X7: -42 | Y7: -34 | Z7: =IF(AND($Y$4>=X7,$Y$4<Y7),1,0) -> 0
P8: MISC | Q8: =INDEX(S24:S25,P23) -> 1.1 | R8: Yleinen luokitus | W8: B | X8: -34 | Y8: -26 | Z8: =IF(AND($Y$4>=X8,$Y$4<Y8),1,0) -> 0
C9: SEC-laskennan parametrit | P9: CTRL | Q9: =INDEX(T29:T32,P28) -> 0.65 | R9: ilmanvaihdon ohjaus | W9: C | X9: -26 | Y9: -23 | Z9: =IF(AND($Y$4>=X9,$Y$4<Y9),1,0) -> 0
C10: Yleinen luokittelu | P10: x | Q10: =INDEX(T36:T39,P35) -> 2 | R10: moottori & ohjaus | W10: D | X10: -23 | Y10: -20 | Z10: =IF(AND($Y$4>=X10,$Y$4<Y10),1,0) -> 0
C11: Ilmanvaihdon ohjaus | P11: th | Q11: =INDEX(R44:R46,P43) -> 5112 | W11: E | X11: -20 | Y11: -10 | Z11: =IF(AND($Y$4>=X11,$Y$4<Y11),1,0) -> 0
C12: Moottori & ohjaus | P12: ΔTh | Q12: =INDEX(S44:S46,P43) -> 9.5 | W12: F | X12: -10 | Y12: 0 | Z12: =IF(AND($Y$4>=X12,$Y$4<Y12),1,0) -> 0
C13: Ilmasto | P13: ηh | Q13: 0.75 | W13: G | X13: 0 | Z13: =IF($Y$4>X13,1,0) -> 0
C14: LTO:n lämpötilahyötysuhde ηt | K14: Älä muuta tähän | L14: =Tulostus!AA7 -> 0.84549847 | P14: cair | Q14: 0.000344
P15: qref | Q15: 2.2
