Workbook

Sheet Tulostus
C2: Parmair Ilmanvaihto Oy: LTO-laite Parmair Alvari | R2: SEC-luvun laskenta mitoitustoimintapisteessä
R3: Yleinen luokittelu
R4: Ilmanvaihdon ohjaus
R5: Moottori & ohjaus
R6: Ilmasto
R7: LTO:n lämpötilahyötysuhde ηt | AA7: ='SEC laskenta'!Q16 -> 0.84549847
Y9: SEC | AA9: ='SEC laskenta'!L24 -> -42.037855
Y10: SEC-luokka | AA10: ='SEC laskenta'!L25 -> A+
E13: 1 | R13: Poistoilman lämmöntalteenoton vuosihyötysuhteen laskentatulokset taulukkomuodossa
R15: tulko | S15: Aika | T15: tsisä | U15: tjäte | V15: tLTO | W15: RLTO | X15: ηt | Y15: ηp | Z15: SS,Kd | AA15: ST,Kd | AB15: SJ,Kd
R16: ='LTO HS-laskenta'!F6 -> -32 | S16: ='LTO HS-laskenta'!G6 -> 0 | T16: ='LTO HS-laskenta'!M6 -> 20 | U16: ='LTO HS-laskenta'!I6 -> -5 | V16: ='LTO HS-laskenta'!N6 -> -7 | W16: ='LTO HS-laskenta'!P6 -> 1 | X16: ='LTO HS-laskenta'!Q6 -> 0.48076923 | Y16: ='LTO HS-laskenta'!R6 -> 0.48076923 | Z16: ='LTO HS-laskenta'!U6 -> 0 | AA16: ='LTO HS-laskenta'!V6 -> 0 | AB16: ='LTO HS-laskenta'!W6 -> 0
R17: ='LTO HS-laskenta'!F7 -> -31 | S17: ='LTO HS-laskenta'!G7 -> 0 | T17: ='LTO HS-laskenta'!M7 -> 20 | U17: ='LTO HS-laskenta'!I7 -> -5 | V17: ='LTO HS-laskenta'!N7 -> -6 | W17: ='LTO HS-laskenta'!P7 -> 1 | X17: ='LTO HS-laskenta'!Q7 -> 0.49019608 | Y17: ='LTO HS-laskenta'!R7 -> 0.49019608 | Z17: ='LTO HS-laskenta'!U7 -> 0 | AA17: ='LTO HS-laskenta'!V7 -> 0 | AB17: ='LTO HS-laskenta'!W7 -> 0
R18: ='LTO HS-laskenta'!F8 -> -30 | S18: ='LTO HS-laskenta'!G8 -> 0 | T18: ='LTO HS-laskenta'!M8 -> 20 | U18: ='LTO HS-laskenta'!I8 -> -5 | V18: ='LTO HS-laskenta'!N8 -> -5 | W18: ='LTO HS-laskenta'!P8 -> 1 | X18: ='LTO HS-laskenta'!Q8 -> 0.5 | Y18: ='LTO HS-laskenta'!R8 -> 0.5 | Z18: ='LTO HS-laskenta'!U8 -> 0 | AA18: ='LTO HS-laskenta'!V8 -> 0 | AB18: ='LTO HS-laskenta'!W8 -> 0
R19: ='LTO HS-laskenta'!F9 -> -29 | S19: ='LTO HS-laskenta'!G9 -> 0 | T19: ='LTO HS-laskenta'!M9 -> 20 | U19: ='LTO HS-laskenta'!I9 -> -5 | V19: ='LTO HS-laskenta'!N9 -> -4 | W19: ='LTO HS-laskenta'!P9 -> 1 | X19: ='LTO HS-laskenta'!Q9 -> 0.51020408 | Y19: ='LTO HS-laskenta'!R9 -> 0.51020408 | Z19: ='LTO HS-laskenta'!U9 -> 0 | AA19: ='LTO HS-laskenta'!V9 -> 0 | AB19: ='LTO HS-laskenta'!W9 -> 0
R20: ='LTO HS-laskenta'!F10 -> -28 | S20: ='LTO HS-laskenta'!G10 -> 0 | T20: ='LTO HS-laskenta'!M10 -> 20 | U20: ='LTO HS-laskenta'!I10 -> -5 | V20: ='LTO HS-laskenta'!N10 -> -3 | W20: ='LTO HS-laskenta'!P10 -> 1 | X20: ='LTO HS-laskenta'!Q10 -> 0.52083333 | Y20: ='LTO HS-laskenta'!R10 -> 0.52083333 | Z20: ='LTO HS-laskenta'!U10 -> 0 | AA20: ='LTO HS-laskenta'!V10 -> 0 | AB20: ='LTO HS-laskenta'!W10 -> 0
R21: ='LTO HS-laskenta'!F11 -> -27 | S21: ='LTO HS-laskenta'!G11 -> 0 | T21: ='LTO HS-laskenta'!M11 -> 20 | U21: ='LTO HS-laskenta'!I11 -> -5 | V21: ='LTO HS-laskenta'!N11 -> -2 | W21: ='LTO HS-laskenta'!P11 -> 1 | X21: ='LTO HS-laskenta'!Q11 -> 0.53191489 | Y21: ='LTO HS-laskenta'!R11 -> 0.53191489 | Z21: ='LTO HS-laskenta'!U11 -> 0 | AA21: ='LTO HS-laskenta'!V11 -> 0 | AB21: ='LTO HS-laskenta'!W11 -> 0
R22: ='LTO HS-laskenta'!F12 -> -26 | S22: ='LTO HS-laskenta'!G12 -> 0 | T22: ='LTO HS-laskenta'!M12 -> 20 | U22: ='LTO HS-laskenta'!I12 -> -5 | V22: ='LTO HS-laskenta'!N12 -> -1 | W22: ='LTO HS-laskenta'!P12 -> 1 | X22: ='LTO HS-laskenta'!Q12 -> 0.54347826 | Y22: ='LTO HS-laskenta'!R12 -> 0.54347826 | Z22: ='LTO HS-laskenta'!U12 -> 0 | AA22: ='LTO HS-laskenta'!V12 -> 0 | AB22: ='LTO HS-laskenta'!W12 -> 0
R23: ='LTO HS-laskenta'!F13 -> -25 | S23: ='LTO HS-laskenta'!G13 -> 0 | T23: ='LTO HS-laskenta'!M13 -> 20 | U23: ='LTO HS-laskenta'!I13 -> -5 | V23: ='LTO HS-laskenta'!N13 -> 0 | W23: ='LTO HS-laskenta'!P13 -> 1 | X23: ='LTO HS-laskenta'!Q13 -> 0.55555556 | Y23: ='LTO HS-laskenta'!R13 -> 0.55555556 | Z23: ='LTO HS-laskenta'!U13 -> 0 | AA23: ='LTO HS-laskenta'!V13 -> 0 | AB23: ='LTO HS-laskenta'!W13 -> 0
R24: ='LTO HS-laskenta'!F14 -> -24 | S24: ='LTO HS-laskenta'!G14 -> 0.00011415525 | T24: ='LTO HS-laskenta'!M14 -> 20 | U24: ='LTO HS-laskenta'!I14 -> -5 | V24: ='LTO HS-laskenta'!N14 -> 1 | W24: ='LTO HS-laskenta'!P14 -> 1 | X24: ='LTO HS-laskenta'!Q14 -> 0.56818182 | Y24: ='LTO HS-laskenta'!R14 -> 0.56818182 | Z24: ='LTO HS-laskenta'!U14 -> 1.8333333 | AA24: ='LTO HS-laskenta'!V14 -> 1.0416667 | AB24: ='LTO HS-laskenta'!W14 -> 1.0416667
R25: ='LTO HS-laskenta'!F15 -> -23 | S25: ='LTO HS-laskenta'!G15 -> 0.00034246575 | T25: ='LTO HS-laskenta'!M15 -> 20 | U25: ='LTO HS-laskenta'!I15 -> -5 | V25: ='LTO HS-laskenta'!N15 -> 2 | W25: ='LTO HS-laskenta'!P15 -> 1 | X25: ='LTO HS-laskenta'!Q15 -> 0.58139535 | Y25: ='LTO HS-laskenta'!R15 -> 0.58139535 | Z25: ='LTO HS-laskenta'!U15 -> 3.5833333 | AA25: ='LTO HS-laskenta'!V15 -> 2.0833333 | AB25: ='LTO HS-laskenta'!W15 -> 2.0833333
R26: ='LTO HS-laskenta'!F16 -> -22 | S26: ='LTO HS-laskenta'!G16 -> 0.00057077626 | T26: ='LTO HS-laskenta'!M16 -> 20 | U26: ='LTO HS-laskenta'!I16 -> -5 | V26: ='LTO HS-laskenta'!N16 -> 3 | W26: ='LTO HS-laskenta'!P16 -> 1 | X26: ='LTO HS-laskenta'!Q16 -> 0.5952381 | Y26: ='LTO HS-laskenta'!R16 -> 0.5952381 | Z26: ='LTO HS-laskenta'!U16 -> 3.5 | AA26: ='LTO HS-laskenta'!V16 -> 2.0833333 | AB26: ='LTO HS-laskenta'!W16 -> 2.0833333
R27: ='LTO HS-laskenta'!F17 -> -21 | S27: ='LTO HS-laskenta'!G17 -> 0.0011415525 | T27: ='LTO HS-laskenta'!M17 -> 20 | U27: ='LTO HS-laskenta'!I17 -> -5 | V27: ='LTO HS-laskenta'!N17 -> 4 | W27: ='LTO HS-laskenta'!P17 -> 1 | X27: ='LTO HS-laskenta'!Q17 -> 0.6097561 | Y27: ='LTO HS-laskenta'!R17 -> 0.6097561 | Z27: ='LTO HS-laskenta'!U17 -> 8.5416667 | AA27: ='LTO HS-laskenta'!V17 -> 5.2083333 | AB27: ='LTO HS-laskenta'!W17 -> 5.2083333
... R34: ='LTO HS-laskenta'!F24 -> -14 | S34: ='LTO HS-laskenta'!G24 -> 0.021917808 | T34: ='LTO HS-laskenta'!M24 -> 20 | U34: ='LTO HS-laskenta'!I24 -> -5 | V34: ='LTO HS-laskenta'!N24 -> 11 | W34: ='LTO HS-laskenta'!P24 -> 1 | X34: ='LTO HS-laskenta'!Q24 -> 0.73529412 | Y34: ='LTO HS-laskenta'!R24 -> 0.73529412 | Z34: ='LTO HS-laskenta'!U24 -> 69.416667 | AA34: ='LTO HS-laskenta'!V24 -> 51.041667 | AB34: ='LTO HS-laskenta'!W24 -> 51.041667
C35: Toimintapisteen määritys ja SFP:n laskenta | J35: Tulo | L35: Poisto | R35: ='LTO HS-laskenta'!F25 -> -13 | S35: ='LTO HS-laskenta'!G25 -> 0.028652968 | T35: ='LTO HS-laskenta'!M25 -> 20 | U35: ='LTO HS-laskenta'!I25 -> -5 | V35: ='LTO HS-laskenta'!N25 -> 12 | W35: ='LTO HS-laskenta'!P25 -> 1 | X35: ='LTO HS-laskenta'!Q25 -> 0.75757576 | Y35: ='LTO HS-laskenta'!R25 -> 0.75757576 | Z35: ='LTO HS-laskenta'!U25 -> 81.125 | AA35: ='LTO HS-laskenta'!V25 -> 61.458333 | AB35: ='LTO HS-laskenta'!W25 -> 61.458333
C36: Ilman tilavuusvirta (syötä arvot) | G36: =IF(AND('Laskenta tulopuoli'!N134,'Laskenta poistopuoli'!N135),"","Tarkasta lähtötarvot!") | J36: 84 | K36: dm³/s | L36: 84 | M36: dm³/s | R36: ='LTO HS-laskenta'!F26 -> -12 | S36: ='LTO HS-laskenta'!G26 -> 0.034589041 | T36: ='LTO HS-laskenta'!M26 -> 20 | U36: ='LTO HS-laskenta'!I26 -> -5 | V36: ='LTO HS-laskenta'!N26 -> 13 | W36: ='LTO HS-laskenta'!P26 -> 1 | X36: ='LTO HS-laskenta'!Q26 -> 0.78125 | Y36: ='LTO HS-laskenta'!R26 -> 0.78125 | Z36: ='LTO HS-laskenta'!U26 -> 69.333333 | AA36: ='LTO HS-laskenta'!V26 -> 54.166667 | AB36: ='LTO HS-laskenta'!W26 -> 54.166667
C37: Paine-ero (syötä arvot) | J37: 50 | K37: Pa | L37: 50 | M37: Pa | R37: ='LTO HS-laskenta'!F27 -> -11 | S37: ='LTO HS-laskenta'!G27 -> 0.040639269 | T37: ='LTO HS-laskenta'!M27 -> 20 | U37: ='LTO HS-laskenta'!I27 -> -5 | V37: ='LTO HS-laskenta'!N27 -> 14 | W37: ='LTO HS-laskenta'!P27 -> 1 | X37: ='LTO HS-laskenta'!Q27 -> 0.80645161 | Y37: ='LTO HS-laskenta'!R27 -> 0.80645161 | Z37: ='LTO HS-laskenta'!U27 -> 68.458333 | AA37: ='LTO HS-laskenta'!V27 -> 55.208333 | AB37: ='LTO HS-laskenta'!W27 -> 55.208333
R38: ='LTO HS-laskenta'!F28 -> -10 | S38: ='LTO HS-laskenta'!G28 -> 0.046575342 | T38: ='LTO HS-laskenta'!M28 -> 20 | U38: ='LTO HS-laskenta'!I28 -> -5 | V38: ='LTO HS-laskenta'!N28 -> 15 | W38: ='LTO HS-laskenta'!P28 -> 1 | X38: ='LTO HS-laskenta'!Q28 -> 0.83333333 | Y38: ='LTO HS-laskenta'!R28 -> 0.83333333 | Z38: ='LTO HS-laskenta'!U28 -> 65 | AA38: ='LTO HS-laskenta'!V28 -> 54.166667 | AB38: ='LTO HS-laskenta'!W28 -> 54.166667
C39: Puhaltimien toiminta: | J39: Tulo | L39: Poisto | R39: ='LTO HS-laskenta'!F29 -> -9 | S39: ='LTO HS-laskenta'!G29 -> 0.054680365 | T39: ='LTO HS-laskenta'!M29 -> 20 | U39: ='LTO HS-laskenta'!I29 -> -4.5258366 | V39: ='LTO HS-laskenta'!N29 -> 15.525837 | W39: ='LTO HS-laskenta'!P29 -> 1 | X39: ='LTO HS-laskenta'!Q29 -> 0.8457185 | Y39: ='LTO HS-laskenta'!R29 -> 0.8457185 | Z39: ='LTO HS-laskenta'!U29 -> 85.791667 | AA39: ='LTO HS-laskenta'!V29 -> 72.5556 | AB39: ='LTO HS-laskenta'!W29 -> 72.5556
C40: Ohjausjännite | J40: ='Laskenta tulopuoli'!N65 -> 5.7887004 | K40: V | L40: ='Laskenta poistopuoli'!N65 -> 5.4547728 | M40: V | R40: ='LTO HS-laskenta'!F30 -> -8 | S40: ='LTO HS-laskenta'!G30 -> 0.063356164 | T40: ='LTO HS-laskenta'!M30 -> 20 | U40: ='LTO HS-laskenta'!I30 -> -3.6801181 | V40: ='LTO HS-laskenta'!N30 -> 15.680118 | W40: ='LTO HS-laskenta'!P30 -> 1 | X40: ='LTO HS-laskenta'!Q30 -> 0.8457185 | Y40: ='LTO HS-laskenta'!R30 -> 0.8457185 | Z40: ='LTO HS-laskenta'!U30 -> 88.666667 | AA40: ='LTO HS-laskenta'!V30 -> 74.987041 | AB40: ='LTO HS-laskenta'!W30 -> 74.987041
C41: Puhaltimen teho | J41: ='Laskenta tulopuoli'!J117 -> 49.722015 | K41: W | L41: ='Laskenta poistopuoli'!J118 -> 42.772608 | M41: W | R41: ='LTO HS-laskenta'!F31 -> -7 | S41: ='LTO HS-laskenta'!G31 -> 0.075 | T41: ='LTO HS-laskenta'!M31 -> 20 | U41: ='LTO HS-laskenta'!I31 -> -2.8343996 | V41: ='LTO HS-laskenta'!N31 -> 15.8344 | W41: ='LTO HS-laskenta'!P31 -> 1 | X41: ='LTO HS-laskenta'!Q31 -> 0.8457185 | Y41: ='LTO HS-laskenta'!R31 -> 0.8457185 | Z41: ='LTO HS-laskenta'!U31 -> 114.75 | AA41: ='LTO HS-laskenta'!V31 -> 97.046198 | AB41: ='LTO HS-laskenta'!W31 -> 97.046198
R42: ='LTO HS-laskenta'!F32 -> -6 | S42: ='LTO HS-laskenta'!G32 -> 0.08847032 | T42: ='LTO HS-laskenta'!M32 -> 20 | U42: ='LTO HS-laskenta'!I32 -> -1.9886811 | V42: ='LTO HS-laskenta'!N32 -> 15.988681 | W42: ='LTO HS-laskenta'!P32 -> 1 | X42: ='LTO HS-laskenta'!Q32 -> 0.8457185 | Y42: ='LTO HS-laskenta'!R32 -> 0.8457185 | Z42: ='LTO HS-laskenta'!U32 -> 127.83333 | AA42: ='LTO HS-laskenta'!V32 -> 108.11102 | AB42: ='LTO HS-laskenta'!W32 -> 108.11102
J43: Kokonaisteho | L43: ='SFP ja kokonaisteho'!D8 -> 98.546623 | M43: W | R43: ='LTO HS-laskenta'!F33 -> -5 | S43: ='LTO HS-laskenta'!G33 -> 0.10547945 | T43: ='LTO HS-laskenta'!M33 -> 20 | U43: ='LTO HS-laskenta'!I33 -> -1.1429626 | V43: ='LTO HS-laskenta'!N33 -> 16.142963 | W43: ='LTO HS-laskenta'!P33 -> 1 | X43: ='LTO HS-laskenta'!Q33 -> 0.8457185 | Y43: ='LTO HS-laskenta'!R33 -> 0.8457185 | Z43: ='LTO HS-laskenta'!U33 -> 155.20833 | AA43: ='LTO HS-laskenta'!V33 -> 131.26256 | AB43: ='LTO HS-laskenta'!W33 -> 131.26256
J44: SFP | L44: ='SFP ja kokonaisteho'!D15 -> 1.1731741 | M44: kW/m3/s | R44: ='LTO HS-laskenta'!F34 -> -4 | S44: ='LTO HS-laskenta'!G34 -> 0.12888128 | T44: ='LTO HS-laskenta'!M34 -> 20 | U44: ='LTO HS-laskenta'!I34 -> -0.29724412 | V44: ='LTO HS-laskenta'!N34 -> 16.297244 | W44: ='LTO HS-laskenta'!P34 -> 1 | X44: ='LTO HS-laskenta'!Q34 -> 0.8457185 | Y44: ='LTO HS-laskenta'!R34 -> 0.8457185 | Z44: ='LTO HS-laskenta'!U34 -> 205 | AA44: ='LTO HS-laskenta'!V34 -> 173.37229 | AB44: ='LTO HS-laskenta'!W34 -> 173.37229
R45: ='LTO HS-laskenta'!F35 -> -3 | S45: ='LTO HS-laskenta'!G35 -> 0.15570776 | T45: ='LTO HS-laskenta'!M35 -> 20 | U45: ='LTO HS-laskenta'!I35 -> 0.54847439 | V45: ='LTO HS-laskenta'!N35 -> 16.451526 | W45: ='LTO HS-laskenta'!P35 -> 1 | X45: ='LTO HS-laskenta'!Q35 -> 0.8457185 | Y45: ='LTO HS-laskenta'!R35 -> 0.8457185 | Z45: ='LTO HS-laskenta'!U35 -> 225.20833 | AA45: ='LTO HS-laskenta'!V35 -> 190.46285 | AB45: ='LTO HS-laskenta'!W35 -> 190.46285
C46: Tehostusvaran laskenta | J46: Tulo | L46: Poisto | R46: ='LTO HS-laskenta'!F36 -> -2 | S46: ='LTO HS-laskenta'!G36 -> 0.18424658 | T46: ='LTO HS-laskenta'!M36 -> 20 | U46: ='LTO HS-laskenta'!I36 -> 1.3941929 | V46: ='LTO HS-laskenta'!N36 -> 16.605807 | W46: ='LTO HS-laskenta'!P36 -> 1 | X46: ='LTO HS-laskenta'!Q36 -> 0.8457185 | Y46: ='LTO HS-laskenta'!R36 -> 0.8457185 | Z46: ='LTO HS-laskenta'!U36 -> 229.16667 | AA46: ='LTO HS-laskenta'!V36 -> 193.81049 | AB46: ='LTO HS-laskenta'!W36 -> 193.81049
C47: Tehostusvara | J47: ='Laskenta tulopuoli'!M125 -> 0.73397195 | L47: ='Laskenta poistopuoli'!M126 -> 0.79259191 | R47: ='LTO HS-laskenta'!F37 -> -1 | S47: ='LTO HS-laskenta'!G37 -> 0.20924658 | T47: ='LTO HS-laskenta'!M37 -> 20 | U47: ='LTO HS-laskenta'!I37 -> 2.2399114 | V47: ='LTO HS-laskenta'!N37 -> 16.760089 | W47: ='LTO HS-laskenta'!P37 -> 1 | X47: ='LTO HS-laskenta'!Q37 -> 0.8457185 | Y47: ='LTO HS-laskenta'!R37 -> 0.8457185 | Z47: ='LTO HS-laskenta'!U37 -> 191.625 | AA47: ='LTO HS-laskenta'!V37 -> 162.06081 | AB47: ='LTO HS-laskenta'!W37 -> 162.06081
C48: Maksimi ilman tilavuusvirta tehostuksella | J48: ='Laskenta tulopuoli'!J124 -> 145.65364 | K48: l/s | L48: ='Laskenta poistopuoli'!J125 -> 150.57772 | M48: l/s | R48: ='LTO HS-laskenta'!F38 -> 0 | S48: ='LTO HS-laskenta'!G38 -> 0.24920091 | T48: ='LTO HS-laskenta'!M38 -> 20 | U48: ='LTO HS-laskenta'!I38 -> 3.0856299 | V48: ='LTO HS-laskenta'!N38 -> 16.91437 | W48: ='LTO HS-laskenta'!P38 -> 1 | X48: ='LTO HS-laskenta'!Q38 -> 0.8457185 | Y48: ='LTO HS-laskenta'!R38 -> 0.8457185 | Z48: ='LTO HS-laskenta'!U38 -> 291.66667 | AA48: ='LTO HS-laskenta'!V38 -> 246.6679 | AB48: ='LTO HS-laskenta'!W38 -> 246.6679
C49: Maksimi paine-ero tehostuksella | J49: ='Laskenta tulopuoli'!K124 -> 150.33294 | K49: Pa | L49: ='Laskenta poistopuoli'!K125 -> 160.66929 | M49: Pa | R49: ='LTO HS-laskenta'!F39 -> 1 | S49: ='LTO HS-laskenta'!G39 -> 0.30993151 | T49: ='LTO HS-laskenta'!M39 -> 20 | U49: ='LTO HS-laskenta'!I39 -> 3.9313484 | V49: ='LTO HS-laskenta'!N39 -> 17.068652 | W49: ='LTO HS-laskenta'!P39 -> 1 | X49: ='LTO HS-laskenta'!Q39 -> 0.8457185 | Y49: ='LTO HS-laskenta'!R39 -> 0.8457185 | Z49: ='LTO HS-laskenta'!U39 -> 421.16667 | AA49: ='LTO HS-laskenta'!V39 -> 356.18844 | AB49: ='LTO HS-laskenta'!W39 -> 356.18844
R50: ='LTO HS-laskenta'!F40 -> 2 | S50: ='LTO HS-laskenta'!G40 -> 0.36917808 | T50: ='LTO HS-laskenta'!M40 -> 20 | U50: ='LTO HS-laskenta'!I40 -> 4.7770669 | V50: ='LTO HS-laskenta'!N40 -> 17.222933 | W50: ='LTO HS-laskenta'!P40 -> 1 | X50: ='LTO HS-laskenta'!Q40 -> 0.8457185 | Y50: ='LTO HS-laskenta'!R40 -> 0.8457185 | Z50: ='LTO HS-laskenta'!U40 -> 389.25 | AA50: ='LTO HS-laskenta'!V40 -> 329.19593 | AB50: ='LTO HS-laskenta'!W40 -> 329.19593
C51: Laitteen äänitehotasot | R51: ='LTO HS-laskenta'!F41 -> 3 | S51: ='LTO HS-laskenta'!G41 -> 0.41598174 | T51: ='LTO HS-laskenta'!M41 -> 20 | U51: ='LTO HS-laskenta'!I41 -> 5.6227854 | V51: ='LTO HS-laskenta'!N41 -> 17.377215 | W51: ='LTO HS-laskenta'!P41 -> 1 | X51: ='LTO HS-laskenta'!Q41 -> 0.8457185 | Y51: ='LTO HS-laskenta'!R41 -> 0.8457185 | Z51: ='LTO HS-laskenta'!U41 -> 290.41667 | AA51: ='LTO HS-laskenta'!V41 -> 245.61075 | AB51: ='LTO HS-laskenta'!W41 -> 245.61075
C52: Äänilähde | D52: Äänitehotasot oktaavikaistoittain LW,okt [dB] | L52: LWtot [dB] | M52: LWAtot [dB] | R52: ='LTO HS-laskenta'!F42 -> 4 | S52: ='LTO HS-laskenta'!G42 -> 0.45079909 | T52: ='LTO HS-laskenta'!M42 -> 20 | U52: ='LTO HS-laskenta'!I42 -> 6.4685039 | V52: ='LTO HS-laskenta'!N42 -> 17.531496 | W52: ='LTO HS-laskenta'!P42 -> 1 | X52: ='LTO HS-laskenta'!Q42 -> 0.8457185 | Y52: ='LTO HS-laskenta'!R42 -> 0.8457185 | Z52: ='LTO HS-laskenta'!U42 -> 203.33333 | AA52: ='LTO HS-laskenta'!V42 -> 171.96276 | AB52: ='LTO HS-laskenta'!W42 -> 171.96276
D53: 63 Hz | E53: 125 Hz | F53: 250 Hz | G53: 500 Hz | H53: 1 kHz | I53: 2 kHz | J53: 4 kHz | K53: 8 kHz | R53: ='LTO HS-laskenta'!F43 -> 5 | S53: ='LTO HS-laskenta'!G43 -> 0.48413242 | T53: ='LTO HS-laskenta'!M43 -> 20 | U53: ='LTO HS-laskenta'!I43 -> 7.3142224 | V53: ='LTO HS-laskenta'!N43 -> 17.685778 | W53: ='LTO HS-laskenta'!P43 -> 1 | X53: ='LTO HS-laskenta'!Q43 -> 0.8457185 | Y53: ='LTO HS-laskenta'!R43 -> 0.8457185 | Z53: ='LTO HS-laskenta'!U43 -> 182.5 | AA53: ='LTO HS-laskenta'!V43 -> 154.34363 | AB53: ='LTO HS-laskenta'!W43 -> 154.34363
C54: Tuloilmakanava | D54: ='Laskenta äänitehotasot'!AL137 -> 62.781768 | E54: ='Laskenta äänitehotasot'!AM137 -> 62.781768 | F54: ='Laskenta äänitehotasot'!AN137 -> 65.781768 | G54: ='Laskenta äänitehotasot'!AO137 -> 59.781768 | H54: ='Laskenta äänitehotasot'!AP137 -> 51.781768 | I54: ='Laskenta äänitehotasot'!AQ137 -> 50.781768 | J54: ='Laskenta äänitehotasot'!AR137 -> 46.781768 | K54: ='Laskenta äänitehotasot'!AS137 -> 35.781768 | ... M54: ='Laskenta äänitehotasot'!AU137 -> 61.781768 | R54: ='LTO HS-laskenta'!F44 -> 6 | S54: ='LTO HS-laskenta'!G44 -> 0.51586758 | T54: ='LTO HS-laskenta'!M44 -> 20 | U54: ='LTO HS-laskenta'!I44 -> 8.1599409 | V54: ='LTO HS-laskenta'!N44 -> 17.840059 | W54: ='LTO HS-laskenta'!P44 -> 1 | X54: ='LTO HS-laskenta'!Q44 -> 0.8457185 | Y54: ='LTO HS-laskenta'!R44 -> 0.8457185 | Z54: ='LTO HS-laskenta'!U44 -> 162.16667 | AA54: ='LTO HS-laskenta'!V44 -> 137.14735 | AB54: ='LTO HS-laskenta'!W44 -> 137.14735
C55: Ulkoilmakanava | D55: ='Laskenta äänitehotasot'!AL138 -> 58.363316 | E55: ='Laskenta äänitehotasot'!AM138 -> 58.363316 | F55: ='Laskenta äänitehotasot'!AN138 -> 56.363316 | G55: ='Laskenta äänitehotasot'!AO138 -> 56.363316 | H55: ='Laskenta äänitehotasot'!AP138 -> 46.363316 | I55: ='Laskenta äänitehotasot'!AQ138 -> 43.363316 | J55: ='Laskenta äänitehotasot'!AR138 -> 32.363316 | K55: ='Laskenta äänitehotasot'!AS138 -> 23.363316 | ... M55: ='Laskenta äänitehotasot'!AU138 -> 55.363316 | R55: ='LTO HS-laskenta'!F45 -> 7 | S55: ='LTO HS-laskenta'!G45 -> 0.5533105 | T55: ='LTO HS-laskenta'!M45 -> 20 | U55: ='LTO HS-laskenta'!I45 -> 9.0056594 | V55: ='LTO HS-laskenta'!N45 -> 17.994341 | W55: ='LTO HS-laskenta'!P45 -> 1 | X55: ='LTO HS-laskenta'!Q45 -> 0.8457185 | Y55: ='LTO HS-laskenta'!R45 -> 0.8457185 | Z55: ='LTO HS-laskenta'!U45 -> 177.66667 | AA55: ='LTO HS-laskenta'!V45 -> 150.25599 | AB55: ='LTO HS-laskenta'!W45 -> 150.25599
C56: Poistoilmakanava | D56: ='Laskenta äänitehotasot'!AL139 -> 59.12729 | E56: ='Laskenta äänitehotasot'!AM139 -> 58.12729 | F56: ='Laskenta äänitehotasot'!AN139 -> 57.12729 | G56: ='Laskenta äänitehotasot'!AO139 -> 58.12729 | H56: ='Laskenta äänitehotasot'!AP139 -> 47.12729 | I56: ='Laskenta äänitehotasot'!AQ139 -> 38.12729 | J56: ='Laskenta äänitehotasot'!AR139 -> 26.12729 | K56: ='Laskenta äänitehotasot'!AS139 -> 18.12729 | ... M56: ='Laskenta äänitehotasot'!AU139 -> 56.12729 | R56: ='LTO HS-laskenta'!F46 -> 8 | S56: ='LTO HS-laskenta'!G46 -> 0.58984018 | T56: ='LTO HS-laskenta'!M46 -> 20 | U56: ='LTO HS-laskenta'!I46 -> 9.8513779 | V56: ='LTO HS-laskenta'!N46 -> 18.148622 | W56: ='LTO HS-laskenta'!P46 -> 1 | X56: ='LTO HS-laskenta'!Q46 -> 0.8457185 | Y56: ='LTO HS-laskenta'!R46 -> 0.8457185 | Z56: ='LTO HS-laskenta'!U46 -> 160 | AA56: ='LTO HS-laskenta'!V46 -> 135.31496 | AB56: ='LTO HS-laskenta'!W46 -> 135.31496
C57: Jäteilmakanava | D57: ='Laskenta äänitehotasot'!AL140 -> 64.745864 | E57: ='Laskenta äänitehotasot'!AM140 -> 64.745864 | F57: ='Laskenta äänitehotasot'!AN140 -> 66.745864 | G57: ='Laskenta äänitehotasot'!AO140 -> 60.745864 | H57: ='Laskenta äänitehotasot'!AP140 -> 54.745864 | I57: ='Laskenta äänitehotasot'!AQ140 -> 52.745864 | J57: ='Laskenta äänitehotasot'!AR140 -> 46.745864 | K57: ='Laskenta äänitehotasot'!AS140 -> 33.745864 | ... M57: ='Laskenta äänitehotasot'!AU140 -> 62.745864 | R57: ='LTO HS-laskenta'!F47 -> 9 | S57: ='LTO HS-laskenta'!G47 -> 0.61746575 | T57: ='LTO HS-laskenta'!M47 -> 20 | U57: ='LTO HS-laskenta'!I47 -> 10.697096 | V57: ='LTO HS-laskenta'!N47 -> 18.302904 | W57: ='LTO HS-laskenta'!P47 -> 1 | X57: ='LTO HS-laskenta'!Q47 -> 0.8457185 | Y57: ='LTO HS-laskenta'!R47 -> 0.8457185 | Z57: ='LTO HS-laskenta'!U47 -> 110.91667 | AA57: ='LTO HS-laskenta'!V47 -> 93.804277 | AB57: ='LTO HS-laskenta'!W47 -> 93.804277
C58: Vaipan läpi | D58: ='Laskenta äänitehotasot'!AL141 -> 46 | E58: ='Laskenta äänitehotasot'!AM141 -> 42 | F58: ='Laskenta äänitehotasot'!AN141 -> 45 | G58: ='Laskenta äänitehotasot'!AO141 -> 45 | H58: ='Laskenta äänitehotasot'!AP141 -> 37 | I58: ='Laskenta äänitehotasot'!AQ141 -> 25 | J58: ='Laskenta äänitehotasot'!AR141 -> 20 | K58: ='Laskenta äänitehotasot'!AS141 -> 15 | ... M58: ='Laskenta äänitehotasot'!AU141 -> 44 | R58: ='LTO HS-laskenta'!F48 -> 10 | S58: ='LTO HS-laskenta'!G48 -> 0.64394977 | T58: ='LTO HS-laskenta'!M48 -> 20 | U58: ='LTO HS-laskenta'!I48 -> 11.542815 | V58: ='LTO HS-laskenta'!N48 -> 18.457185 | W58: ='LTO HS-laskenta'!P48 -> 1 | X58: ='LTO HS-laskenta'!Q48 -> 0.8457185 | Y58: ='LTO HS-laskenta'!R48 -> 0.8457185 | Z58: ='LTO HS-laskenta'!U48 -> 96.666667 | AA58: ='LTO HS-laskenta'!V48 -> 81.752789 | AB58: ='LTO HS-laskenta'!W48 -> 81.752789
R59: ='LTO HS-laskenta'!F49 -> 11 | S59: ='LTO HS-laskenta'!G49 -> 0.67625571 | T59: ='LTO HS-laskenta'!M49 -> 20 | U59: ='LTO HS-laskenta'!I49 -> 12.388533 | V59: ='LTO HS-laskenta'!N49 -> 18.611467 | W59: ='LTO HS-laskenta'!P49 -> 1 | X59: ='LTO HS-laskenta'!Q49 -> 0.8457185 | Y59: ='LTO HS-laskenta'!R49 -> 0.8457185 | Z59: ='LTO HS-laskenta'!U49 -> 106.125 | AA59: ='LTO HS-laskenta'!V49 -> 89.751876 | AB59: ='LTO HS-laskenta'!W49 -> 89.751876
C60: Poistoilman lämmöntalteenoton vuosihyötysuhteen laskenta | R60: ='LTO HS-laskenta'!F50 -> 12 | S60: ='LTO HS-laskenta'!G50 -> 0.71415525 | T60: ='LTO HS-laskenta'!M50 -> 20 | U60: ='LTO HS-laskenta'!I50 -> 13.234252 | V60: ='LTO HS-laskenta'!N50 -> 18.765748 | W60: ='LTO HS-laskenta'!P50 -> 1 | X60: ='LTO HS-laskenta'!Q50 -> 0.8457185 | Y60: ='LTO HS-laskenta'!R50 -> 0.8457185 | Z60: ='LTO HS-laskenta'!U50 -> 110.66667 | AA60: ='LTO HS-laskenta'!V50 -> 93.592848 | AB60: ='LTO HS-laskenta'!W50 -> 93.592848
C61: YM monisteen 122 mukaisesti | Y61: YHTEENSÄ | Z61: =SUM(Z16:Z60) -> 4701.75 | AA61: =SUM(AA16:AA60) -> 3914.2584 | AB61: =SUM(AB16:AB60) -> 3914.2584
C62: LTO-vaatimuksen piiriin kuuluva erillispoistoilmavirta qep1 (syötä arvo) | L62: 0 | M62: dm3/s | R62: Käytetyt lyhenteet:
C63: Erillispoistoilmavirran käyttöaika Tqep1 (syötä arvo) | L63: 0 | M63: h/vrk | R63: tulko | S63: Ulkoilman lämpötila [°C]
C64: Sisälämpötila ts (syötä arvo) | L64: 20 | M64: °C | R64: Aika | S64: Ulkoilman lämpötilaa vastaava suhteellinen aika vuodessa, TRY 2020 [%]
C65: Minimi jäteilman lämpötila tj,min | L65: -5 | M65: °C | R65: tsisä | S65: Sisäilman lämpötila (= poistoilman lämpötila) [°C]
C66: Maksimi tuloilman lämpötila tt,max (syötä arvo) | L66: 21 | M66: °C | R66: tjäte | S66: Jäteilman lämpötila (= poistoilman lämpötila LTO:n jälkeen) [°C]
C67: Säävyöhyke | R67: tLTO | S67: Tuloilman lämpötila LTO:n jälkeen (sis. tulopuhaltimen lämmittävän vaikutuksen) [°C]
R68: RLTO | S68: LTO:n läpi kulkevan tulo- ja poistoilmavirran suhde
F69: Vuosihyötysuhde ηa | L69: ='LTO HS-laskenta'!D24 -> 0.83251095 | R69: ηt | S69: LTO:n tuloilman lämpötilahyötysuhde [%]
F70: Jälkilämmityspatterin tehontarve mitoitusolosuhteissa | L70: ='LTO HS-laskenta'!U55 -> 2217.6 | M70: W | R70: ηp | S70: LTO:n poistoilman lämpötilahyötysuhde [%]
F71: Ilmanvaihdon kokonaisenergiantarve | L71: ='LTO HS-laskenta'!U56 -> 11421.02 | M71: kWh | R71: SS,Kd | S71: Sisäilman lämpötilan tsisä ja ulkoilman lämpötilan tulko välinen lämmöntarveluku [Kd]
F72: Talteenotettu lämmitysenergia | L72: ='LTO HS-laskenta'!U57 -> 9513.5145 | M72: kWh | R72: ST,Kd | S72: Tuloilman lämpötilan tLTO ja ulkoilman lämpötilan tulko välinen lämmöntarveluku [Kd]
R73: SJ,Kd | S73: Jäteilman lämpötilan tjäte ja sisäilman lämpötilan tsisä välinen lämmöntarveluku [Kd]
N74: v1.0 | AC74: =N74 -> v1.0

Sheet SFP ja kokonaisteho
O2: SFP = 1,8 kW/m³/s
C3: SFP:n laskenta
C4: Idle | D4: =N45 -> 6.052 | E4: W | O4: qV | P4: Pd
C5: Tulopuhallin | D5: =Tulostus!J41 -> 49.722015 | E5: W | O5: 10 | P5: 4
C6: Poistopuhallin | D6: =Tulostus!L41 -> 42.772608 | E6: W | O6: 20 | P6: 100
C7: Kokonaisteho | D7: =SUM(D4:D6) -> 98.546623 | E7: W | O7: 30 | P7: 148.9 | S7: 170 | T7: 150
C8: Tulostus | D8: =IF(AND('Laskenta tulopuoli'!$N$134,'Laskenta poistopuoli'!$N$135),'SFP ja kokonaisteho'!D7,"-") -> 98.546623 | F8: <-- Jos virheellinen toimintapiste, tulostetaan "-" | O8: 45 | P8: 191.2
O9: 60 | P9: 206.8
C10: Tulovirta | D10: =Tulostus!J36 -> 84 | E10: dm³/s | O10: 70 | P10: 205.6
C11: Poistoilma | D11: =Tulostus!L36 -> 84 | E11: dm³/s | O11: 90 | P11: 181.5
C12: Maksimi | D12: =MAX(D10:D11) -> 84 | E12: dm³/s | O12: 110 | P12: 134.7
O13: 130 | P13: 70.2
C14: SFP | D14: =D7/D12 -> 1.1731741 | E14: kW/m³/s | O14: 140 | P14: 31.2
C15: Tulostus | D15: =IF(AND('Laskenta tulopuoli'!$N$134,'Laskenta poistopuoli'!$N$135),'SFP ja kokonaisteho'!D14,"-") -> 1.1731741 | F15: <-- Jos virheellinen toimintapiste, tulostetaan "-" | O15: 145 | P15: 10
O16: 148 | P16: 2
O18: SFP-otsikon tulostuspaikka
O19: dm³/s | P19: PfD
O20: 75 | P20: 210
C27: ---------------------------------------------------------------------
C28: Measurement: | D28: (Tue | E28: 07/21/26 | F28: - | G28: 15:36:24)
C29: HAMEG | D29: HM8115-2 | E29: - | F29: version | G29: 2.03
C30: ---------------------------------------------------------------------
C31: TIME | D31: VOLTAGE | E31: (V) | F31: CURRENT | G31: (A) | H31: FUNCTION | I31: (WATT/VAr/VA/PF)
C32: ---------------------------------------------------------------------
C33: 0.65028935 | D33: U3 | E33: = | F33: 230.5 | G33: V | H33: I1 | I33: = | J33: 0.0693 | K33: A | L33: P | M33: = | N33: 5.81 | O33: WATT
C34: 0.65030093 | D34: U3 | E34: = | F34: 230.2 | G34: V | H34: I1 | I34: = | J34: 0.0691 | K34: A | L34: P | M34: = | N34: 6.05 | O34: WATT
C35: 0.6503125 | D35: U3 | E35: = | F35: 230.1 | G35: V | H35: I1 | I35: = | J35: 0.0665 | K35: A | L35: P | M35: = | N35: 6.28 | O35: WATT
C36: 0.65032407 | D36: U3 | E36: = | F36: 230.1 | G36: V | H36: I1 | I36: = | J36: 0.0717 | K36: A | L36: P | M36: = | N36: 6.32 | O36: WATT
C37: 0.65033565 | D37: U3 | E37: = | F37: 230 | G37: V | H37: I1 | I37: = | J37: 0.0729 | K37: A | L37: P | M37: = | N37: 5.71 | O37: WATT
C38: 0.65034722 | D38: U3 | E38: = | F38: 230.2 | G38: V | H38: I1 | I38: = | J38: 0.0695 | K38: A | L38: P | M38: = | N38: 5.96 | O38: WATT
C39: 0.6503588 | D39: U3 | E39: = | F39: 230.1 | G39: V | H39: I1 | I39: = | J39: 0.0699 | K39: A | L39: P | M39: = | N39: 6.28 | O39: WATT
C40: 0.65037037 | D40: U3 | E40: = | F40: 230.2 | G40: V | H40: I1 | I40: = | J40: 0.0714 | K40: A | L40: P | M40: = | N40: 5.77 | O40: WATT
C41: 0.65038194 | D41: U3 | E41: = | F41: 230.1 | G41: V | H41: I1 | I41: = | J41: 0.0704 | K41: A | L41: P | M41: = | N41: 6.54 | O41: WATT
C42: 0.65039352 | D42: U3 | E42: = | F42: 230 | G42: V | H42: I1 | I42: = | J42: 0.0696 | K42: A | L42: P | M42: = | N42: 5.8 | O42: WATT
N45: =AVERAGE(N33:N42) -> 6.052

Sheet Laskenta tulopuoli
B2: Tehty | C2: Tarkista kovakoodatut raja-arvot
AE3: Tulosteen puhallinkäyrät
B4: 1. Mittaustulokset raakadata | I4: 2. Puhallinkäyrien sovitteet 2. asteen polynomeilla
I5: x = tilavuusvirta, y = paine-ero | AE5: Tulo 10 V | AG5: =B29 -> Tulo 8 V | AI5: =B44 -> Tulo 6 V | AK5: =B57 -> Tulo 4 V | AM5: =B66 -> Tulo 2V
B6: Tulopuoli | I6: y = Ax²+Bx+C | AE6: qV | AF6: PfD | AG6: qV | AH6: PfD | AI6: qV | AJ6: PfD | AK6: qV | AL6: PfD | AM6: qV | AN6: PfD
F7: Vähennetty idleteho | AD7: Max | AE7: 162.5 | AF7: =$J$9*AE7^2+$K$9*AE7+$L$9 -> 0.052656361 | AG7: 136.7 | AH7: =$J$10*AG7^2+$K$10*AG7+$L$10 -> 1.0093895 | AI7: 94.5 | AJ7: =$J$11*AI7^2+$K$11*AI7+$L$11 -> 0.22320526 | AK7: 56.3 | AL7: =$J$12*AK7^2+$K$12*AK7+$L$12 -> 0.89482257 | AM7: 20 | AN7: =$J$13*AM7^2+$K$13*AM7+$L$13 -> 0.75508146
B8: Tulo 10 V | F8: ='SFP ja kokonaisteho'!D4 -> 6.052 | J8: A | K8: B | L8: C | AE8: =AVERAGE(AE7,AE9) -> 142 | AF8: =$J$9*AE8^2+$K$9*AE8+$L$9 -> 181.41098 | AG8: =AVERAGE(AG7,AG9) -> 117.65 | AH8: =$J$10*AG8^2+$K$10*AG8+$L$10 -> 151.98855 | AI8: =AVERAGE(AI7,AI9) -> 79.75 | AJ8: =$J$11*AI8^2+$K$11*AI8+$L$11 -> 93.87174 | AK8: =AVERAGE(AK7,AK9) -> 46.225 | AL8: =$J$12*AK8^2+$K$12*AK8+$L$12 -> 42.384311 | AM8: =AVERAGE(AM7,AM9) -> 16.25 | AN8: =$J$13*AM8^2+$K$13*AM8+$L$13 -> 7.9860107
B9: qV (l/s) | C9: PfD (Pa) | D9: Pkorj. (W) | E9: SFP | F9: P-idle | I9: 10 V | J9: {=LINEST(C10:C24,B10:B24^{1,2})} -> -0.020224346 | K9: -2.6884341 | L9: 970.97233 | AE9: =AVERAGE(AE7,AE11) -> 121.5 | AF9: =$J$9*AE9^2+$K$9*AE9+$L$9 -> 345.77074 | AG9: =AVERAGE(AG7,AG11) -> 98.6 | AH9: =$J$10*AG9^2+$K$10*AG9+$L$10 -> 280.26161 | AI9: =AVERAGE(AI7,AI11) -> 65 | AJ9: =$J$11*AI9^2+$K$11*AI9+$L$11 -> 170.83822 | AK9: =AVERAGE(AK7,AK11) -> 36.15 | AL9: =$J$12*AK9^2+$K$12*AK9+$L$12 -> 76.531929 | AM9: =AVERAGE(AM7,AM11) -> 12.5 | AN9: =$J$13*AM9^2+$K$13*AM9+$L$13 -> 14.570851
B10: 161.25322 | C10: 12.589535 | D10: 180.06729 | E10: =D10/B10 -> 1.116674 | F10: =D10-$F$8 -> 174.01529 | I10: 8 V | J10: {=LINEST(C31:C42,B31:B42^{1,2})} -> -0.031284027 | K10: 0.031676725 | L10: 581.28034 | AE10: =AVERAGE(AE9,AE11) -> 101 | AF10: =$J$9*AE10^2+$K$9*AE10+$L$9 -> 493.13194 | AG10: =AVERAGE(AG9,AG11) -> 79.55 | AH10: =$J$10*AG10^2+$K$10*AG10+$L$10 -> 385.82857 | AI10: =AVERAGE(AI9,AI11) -> 50.25 | AJ10: =$J$11*AI10^2+$K$11*AI10+$L$11 -> 231.12265 | AK10: =AVERAGE(AK9,AK11) -> 26.075 | AL10: =$J$12*AK10^2+$K$12*AK10+$L$12 -> 103.33768 | AM10: =AVERAGE(AM9,AM11) -> 8.75 | AN10: =$J$13*AM10^2+$K$13*AM10+$L$13 -> 20.509601
B11: 151.47698 | C11: 99.159868 | D11: 178.74126 | E11: =D11/B11 -> 1.1799896 | F11: =D11-$F$8 -> 172.68926 | I11: 6 V | J11: {=LINEST(C46:C53,B46:B53^{1,2})} -> -0.038338531 | K11: 0.33143572 | L11: 311.27519 | AD11: Min | AE11: 80.5 | AF11: =$J$9*AE11^2+$K$9*AE11+$L$9 -> 623.49457 | AG11: 60.5 | AH11: =$J$10*AG11^2+$K$10*AG11+$L$10 -> 468.68943 | AI11: 35.5 | AJ11: =$J$11*AI11^2+$K$11*AI11+$L$11 -> 274.72503 | AK11: 16 | AL11: =$J$12*AK11^2+$K$12*AK11+$L$12 -> 122.80155 | AM11: 5 | AN11: =$J$13*AM11^2+$K$13*AM11+$L$13 -> 25.802262
B12: 155.44368 | C12: 67.71633 | D12: 179.00195 | E12: =D12/B12 -> 1.151555 | F12: =D12-$F$8 -> 172.94995 | I12: 4 V | J12: {=LINEST(C59:C63,B59:B63^{1,2})} -> -0.036164845 | K12: -0.41026257 | L12: 138.62395
B13: 146.41055 | C13: 140.80974 | D13: 178.59301 | E13: =D13/B13 -> 1.2198097 | F13: =D13-$F$8 -> 172.54101 | I13: 2 V | J13: {=LINEST(C68:C70,B68:B70^{1,2})} -> -0.022972065 | K13: -1.0955104 | L13: 31.854116
B14: 139.02973 | C14: 207.89135 | D14: 179.01073 | E14: =D14/B14 -> 1.2875716 | F14: =D14-$F$8 -> 172.95873 | AE14: Ohjausjännitteen otsikot
B15: 134.22877 | C15: 253.65101 | D15: 179.00459 | E15: =D15/B15 -> 1.3335784 | F15: =D15-$F$8 -> 172.95259 | AE15: 10 V | AF15: =AE11 -> 80.5 | AG15: =AF11 -> 623.49457
B16: 127.92849 | C16: 299.92704 | D16: 178.56001 | E16: =D16/B16 -> 1.3957799 | F16: =D16-$F$8 -> 172.50801 | AE16: 8 V | AF16: =AG11 -> 60.5 | AG16: =AH11 -> 468.68943
B17: 117.46584 | C17: 360.26176 | D17: 178.62911 | E17: =D17/B17 -> 1.5206897 | F17: =D17-$F$8 -> 172.57711 | AE17: 6 V | AF17: =AI11 -> 35.5 | AG17: =AJ11 -> 274.72503
B18: 112.06828 | C18: 405.86837 | D18: 178.71643 | E18: =D18/B18 -> 1.5947102 | F18: =D18-$F$8 -> 172.66443 | I18: 3. Mitoituspisteen verkkokäyrä | AE18: 4 V | AF18: =AK11 -> 16 | AG18: =AL11+2 -> 124.80155
B19: 106.01401 | C19: 454.57353 | D19: 178.79844 | E19: =D19/B19 -> 1.6865548 | F19: =D19-$F$8 -> 172.74644 | AE19: 2 V | AF19: =AM11+2 -> 7 | AG19: =AN11-2 -> 23.802262
B20: 99.558133 | C20: 504.35557 | D20: 178.39049 | E20: =D20/B20 -> 1.7918223 | F20: =D20-$F$8 -> 172.33849
B21: 90.535815 | C21: 562.92278 | D21: 180.43107 | E21: =D21/B21 -> 1.9929248 | F21: =D21-$F$8 -> 174.37907
B22: 81.067286 | C22: 625.82557 | D22: 180.72995 | E22: =D22/B22 -> 2.229382 | F22: =D22-$F$8 -> 174.67795
B23: 68.043692 | C23: 709.05783 | D23: 179.76186 | E23: =D23/B23 -> 2.6418593 | F23: =D23-$F$8 -> 173.70986 | I23: Mitoituspiste:
B24: 34.855135 | C24: 845.24574 | D24: 165.98182 | E24: =D24/B24 -> 4.7620478 | F24: =D24-$F$8 -> 159.92982 | I24: =Tulostus!J36 -> 84 | J24: dm³/s
I25: =Tulostus!J37 -> 50 | J25: Pa
I27: 2. potenssin verkkokäyrän kerroin:
I28: x = tilavuusvirta, y = paine-ero
B29: Tulo 8 V | I29: y = ax² --> a = y/x²
B30: qV (l/s) | C30: PfD (Pa) | D30: Pkorj. (W) | E30: SFP | F30: P-idle | I30: a = | J30: =I25/I24^2 -> 0.0070861678
B31: 135.56076 | C31: 7.2985681 | D31: 119.40849 | E31: =D31/B31 -> 0.88084852 | F31: =D31-$F$8 -> 113.35649 | I31: Lineaarisovitteen kerroin:
B32: 130.63631 | C32: 53.107095 | D32: 120.37565 | E32: =D32/B32 -> 0.92145628 | F32: =D32-$F$8 -> 114.32365 | I32: y = Ax --> A = y/x
B33: 124.62733 | C33: 101.59284 | D33: 121.83362 | E33: =D33/B33 -> 0.97758351 | F33: =D33-$F$8 -> 115.78162 | I33: A = | J33: =I25/I24 -> 0.5952381
B34: 117.18919 | C34: 159.37364 | D34: 121.82194 | E34: =D34/B34 -> 1.0395322 | F34: =D34-$F$8 -> 115.76994
B35: 111.04522 | C35: 202.99883 | D35: 122.09151 | E35: =D35/B35 -> 1.0994756 | F35: =D35-$F$8 -> 116.03951
B36: 100.97426 | C36: 257.0755 | D36: 121.6316 | E36: =D36/B36 -> 1.2045803 | F36: =D36-$F$8 -> 115.5796
B37: 93.772165 | C37: 303.9911 | D37: 120.40988 | E37: =D37/B37 -> 1.2840685 | F37: =D37-$F$8 -> 114.35788 | I37: 4. Verkkokäyrän ja puhallinkäyrien leikkauspisteet
B38: 85.758245 | C38: 353.74293 | D38: 118.69252 | E38: =D38/B38 -> 1.3840362 | F38: =D38-$F$8 -> 112.64052 | I38: ax²=Ax²+Bx+C ---> (A-a)x²+Bx+C = 0
B39: 76.053116 | C39: 404.94192 | D39: 116.25213 | E39: =D39/B39 -> 1.528565 | F39: =D39-$F$8 -> 110.20013
B40: 64.62997 | C40: 455.11407 | D40: 112.93014 | E40: =D40/B40 -> 1.7473339 | F40: =D40-$F$8 -> 106.87814 | I40: Ratkaistaan toisen asteen yhtälön ratkaisukaavalla:
B41: 50.728913 | C41: 505.34745 | D41: 107.18569 | E41: =D41/B41 -> 2.1129113 | F41: =D41-$F$8 -> 101.13369
B42: 28.961055 | C42: 553.66912 | D42: 96.96137 | E42: =D42/B42 -> 3.3479917 | F42: =D42-$F$8 -> 90.90937
M43: Kaksi ratkaisua: | O43: Valinta | P43: Vastaava paine verkkokäyrällä
B44: Tulo 6 V | I44: Vohj | J44: a = (A-a) | K44: b = B | L44: c = C | M44: x1 | N44: x2 | O44: x2 | P44: PfD(x2)
B45: qV (l/s) | C45: PfD (Pa) | D45: Pkorj. (W) | E45: SFP | F45: P-idle | I45: 10 | J45: =J9-$J$30 -> -0.027310514 | K45: =K9 -> -2.6884341 | L45: =L9 -> 970.97233 | M45: =(-K45+SQRT(K45^2-4*J45*L45))/(2*J45) -> -244.09317 | N45: =(-K45-SQRT(K45^2-4*J45*L45))/(2*J45) -> 145.65364 | O45: =IF(M45<0,N45,M45) -> 145.65364 | P45: =$J$30*O45^2 -> 150.33294
B46: 93.591613 | C46: 6.4708808 | D46: 58.480677 | E46: =D46/B46 -> 0.62484955 | F46: =D46-$F$8 -> 52.428677 | I46: 8 | J46: =J10-$J$30 -> -0.038370194 | K46: =K10 -> 0.031676725 | L46: =L10 -> 581.28034 | M46: =(-K46+SQRT(K46^2-4*J46*L46))/(2*J46) -> -122.67028 | N46: =(-K46-SQRT(K46^2-4*J46*L46))/(2*J46) -> 123.49583 | O46: =IF(M46<0,N46,M46) -> 123.49583 | P46: =$J$30*O46^2 -> 108.07271
B47: 87.949328 | C47: 43.930706 | D47: 58.139214 | E47: =D47/B47 -> 0.66105354 | F47: =D47-$F$8 -> 52.087214 | I47: 6 | J47: =J11-$J$30 -> -0.045424698 | K47: =K11 -> 0.33143572 | L47: =L11 -> 311.27519 | M47: =(-K47+SQRT(K47^2-4*J47*L47))/(2*J47) -> -79.212316 | N47: =(-K47-SQRT(K47^2-4*J47*L47))/(2*J47) -> 86.508693 | O47: =IF(M47<0,N47,M47) -> 86.508693 | P47: =$J$30*O47^2 -> 53.031136
B48: 81.244469 | C48: 85.066538 | D48: 59.53175 | E48: =D48/B48 -> 0.73274834 | F48: =D48-$F$8 -> 53.47975 | I48: 4 | J48: =J12-$J$30 -> -0.043251013 | K48: =K12 -> -0.41026257 | L48: =L12 -> 138.62395 | M48: =(-K48+SQRT(K48^2-4*J48*L48))/(2*J48) -> -61.554755 | N48: =(-K48-SQRT(K48^2-4*J48*L48))/(2*J48) -> 52.069138 | O48: =IF(M48<0,N48,M48) -> 52.069138 | P48: =$J$30*O48^2 -> 19.211984
B49: 74.446297 | C49: 123.21641 | D49: 58.914003 | E49: =D49/B49 -> 0.79136244 | F49: =D49-$F$8 -> 52.862003 | I49: 2 | J49: =J13-$J$30 -> -0.030058233 | K49: =K13 -> -1.0955104 | L49: =L13 -> 31.854116 | M49: =(-K49+SQRT(K49^2-4*J49*L49))/(2*J49) -> -55.530365 | N49: =(-K49-SQRT(K49^2-4*J49*L49))/(2*J49) -> 19.084096 | O49: =IF(M49<0,N49,M49) -> 19.084096 | P49: =$J$30*O49^2 -> 2.5808016
B50: 66.985914 | C50: 161.72637 | D50: 58.51554 | E50: =D50/B50 -> 0.87354993 | F50: =D50-$F$8 -> 52.46354 | O50: 5 | P50: =J30*O50^2 -> 0.1771542
B51: 57.401278 | C51: 204.33533 | D51: 56.951276 | E51: =D51/B51 -> 0.99216041 | F51: =D51-$F$8 -> 50.899276
B52: 46.551996 | C52: 243.10867 | D52: 55.526463 | E52: =D52/B52 -> 1.1927837 | F52: =D52-$F$8 -> 49.474463
B53: 31.463307 | C53: 283.89827 | D53: 52.28153 | E53: =D53/B53 -> 1.6616667 | F53: =D53-$F$8 -> 46.22953
I56: 5. Ohjausjännitteen laskenta em. leikkauspisteiden avulla
B57: Tulo 4 V | I57: Puhaltimessa rajoitus n. 9–10 V alueella. Jaetaan laskenta kahteen alueeseen 0–9 V ja 9–10 V.
B58: qV (l/s) | C58: PfD (Pa) | D58: Pkorj. (W) | E58: SFP | F58: P-idle
B59: 55.099329 | C59: 5.9898461 | D59: 26.753221 | E59: =D59/B59 -> 0.48554532 | F59: =D59-$F$8 -> 20.701221 | I59: Lineaarisovitteet (1. aste)
B60: 47.709268 | C60: 36.889514 | D60: 26.045296 | E60: =D60/B60 -> 0.54591692 | F60: =D60-$F$8 -> 19.993296 | I60: x = ohjausjännite, y = tilavuusvirta
B61: 37.445207 | C61: 73.06512 | D61: 24.800469 | E61: =D61/B61 -> 0.66231356 | F61: =D61-$F$8 -> 18.748469 | I61: y = Ax + B | M61: Valitaan alue mitoituspisteen mukaan
B62: 23.867735 | C62: 107.55172 | D62: 24.776316 | E62: =D62/B62 -> 1.0380674 | F62: =D62-$F$8 -> 18.724316 | I62: Alue | J62: A | K62: B | M62: Alue: | N62: =IF(I24<J67,I63,I64) -> 0–9 V
B63: 10.197175 | C63: 130.92468 | D63: 22.81314 | E63: =D63/B63 -> 2.2372019 | F63: =D63-$F$8 -> 16.76114 | I63: 0–9 V | J63: {=LINEST(O46:O49,I46:I49)} -> 17.383738 | K63: -16.629251
I64: 9–10 V | J64: {=LINEST(J66:J67,I66:I67)} -> 5.8292523 | K64: 87.361121 | M64: Vohj: | N64: =IF(N62=I63,(I24-K63)/J63,(I24-K64)/J64) -> 5.7887004
M65: Tulostus | N65: =IF(N134,N64,"-") -> 5.7887004
B66: Tulo 2V | I66: 10 | J66: =O45 -> 145.65364
B67: qV (l/s) | C67: PfD (Pa) | D67: Pkorj. (W) | E67: SFP | F67: P-idle | I67: 9 | J67: =J63*I67+K63 -> 139.82439
B68: 4.6200236 | C68: 26.302502 | D68: 12.309769 | E68: =D68/B68 -> 2.6644385 | F68: =D68-$F$8 -> 6.2577686 | I68: =I46 -> 8 | J68: =O46 -> 123.49583
B69: 12.058153 | C69: 15.304167 | D69: 12.860124 | E69: =D69/B69 -> 1.0665086 | F69: =D69-$F$8 -> 6.8081242 | I69: =I47 -> 6 | J69: =O47 -> 86.508693
B70: 19.048482 | C70: 2.6510147 | D70: 12.623527 | E70: =D70/B70 -> 0.66270518 | F70: =D70-$F$8 -> 6.5715275 | I70: =I48 -> 4 | J70: =O48 -> 52.069138
I71: =I49 -> 2 | J71: =O49 -> 19.084096
B74: Versioon v.1.1 Huom MAC350 koneessa, ei tässä koneessä käytössä | I74: 6. Käyttöalueen tarkastus
B75: Vaihdettu tiukempi kenno (2.5 lamelliväli) | I75: Käyttöalueen yläraja (lineaarinen): | N75: Käyttöalueen alarajan verkkokäyrä:
B76: Mitattu kennolla 3.0 | I76: Pa | J76: 660 | N76: Pa | O76: 10
I77: l/s | J77: 85 | N77: l/s | O77: 150
B78: Painehäviöt Ekocoilin kennoajoista | I78: Kerroin | J78: =J76/J77 -> 7.7647059 | N78: Kerroin | O78: =O76/O77^2 -> 0.00044444444
B79: l/s | C79: 3.0 kenno | D79: 2.5 kenno | E79: Erotus
B80: 40 | C80: 0 | D80: 0 | E80: 0 | I80: Pisteitä tulostusta varten, paineen yläraja | N80: Pisteitä tulostusta varten, paineen alaraja
B81: 160 | C81: 45 | D81: 48.8 | E81: =D81-C81 -> 3.8 | I81: dm³/s | J81: Pa | N81: dm³/s | O81: Pa
B82: 240 | C82: 71.4 | D82: 85.7 | E82: =D82-C82 -> 14.3 | I82: 5 | J82: =$J$78*I82 -> 38.823529 | N82: 5 | O82: =$O$78*N82^2 -> 0.011111111
B83: 300 | C83: 106 | D83: 119 | E83: =D83-C83 -> 13 | I83: =AVERAGE(I85,I82,I82) -> 31.666667 | J83: =$J$78*I83 -> 245.88235 | N83: =AVERAGE(N85,N82,N82) -> 53.333333 | O83: =$O$78*N83^2 -> 1.2641975
B84: 350 | C84: 139 | D84: 151 | E84: =D84-C84 -> 12 | I84: =AVERAGE(I85,I85,I82) -> 58.333333 | J84: =$J$78*I84 -> 452.94118 | N84: =AVERAGE(N85,N85,N82) -> 101.66667 | O84: =$O$78*N84^2 -> 4.5938272
I85: =J77 -> 85 | J85: =$J$78*I85 -> 660 | N85: =O77 -> 150 | O85: =$O$78*N85^2 -> 10
B86: Sovite | C86: 1. aste | D86: {=LINEST(E80:E84,B80:B84)} -> 0.045981903 | E86: -1.404055
I88: 7. Tehon laskenta
I90: Tehon sovitteet
I91: y = teho, x = paine | M91: Tehorajoitus
I92: y = Ax² + Bx+C | L92: Max | M92: 180
I94: Vohj | J94: A | K94: B | L94: C | M94: PfD | N94: P
I95: 10 | J95: {=LINEST(F10:F22,C10:C22^{1,2})} -> 1.8032009e-05 | K95: -0.010217566 | L95: 173.8647 | M95: =P45 -> 150.33294 | N95: =IF((J95*$M$95^2+K95*$M$95+L95)>M92,M92,(J95*$M$95^2+K95*$M$95+L95)) -> 172.73619 | O95: <--- Huom. rajoitus
I96: 8 | J96: {=LINEST(F31:F40,C31:C40^{1,2})} -> -0.0001139372 | K96: 0.039360913 | L96: 112.81191 | M96: =P46 -> 108.07271 | N96: =J96*$M$96^2+K96*$M$96+L96 -> 115.735
I97: 6 | J97: {=LINEST(F46:F52,C46:C52^{1,2})} -> -0.0001507599 | K97: 0.026492285 | L97: 51.932657 | M97: =P47 -> 53.031136 | N97: =J97*$M$97^2+K97*$M$97+L97 -> 52.91359
I98: 4 | J98: {=LINEST(F59:F63,C59:C63^{1,2})} -> -0.00010480872 | K98: -0.013641828 | L98: 20.695644 | M98: =P48 -> 19.211984 | N98: =J98*$M$98^2+K98*$M$98+L98 -> 20.394872
I99: 2 | J99: {=LINEST(F68:F70,C68:C70^{1,2})} -> -0.0029063095 | K99: 0.070881954 | L99: 6.4040436 | M99: =P49 -> 2.5808016 | N99: =J99*$M$99^2+K99*$M$99+L99 -> 6.5676182
I101: Sovitteet teho vs. ohjausjännite
I102: 0–8 V: 2. asteen polynomi
I103: 8–10 V: lineaarinen
B104: Mitatut tulokset | J104: A | K104: B | L104: C | M104: D | N104: P [W]
B105: 10V | C105: {=LINEST(C10:C24,B10:B24^{1,2})} -> -0.020224346 | D105: -2.6884341 | E105: 970.97233 | I105: 0–8 V | J105: {=LINEST(N96:N99,I96:I99^{1,2})} -> 3.0621348 | K105: -12.620305 | L105: 20.14025 | N105: =J105*N64^2+K105*N64+L105 -> 49.694322
B106: 8V | C106: {=LINEST(C31:C42,B31:B42^{1,2})} -> -0.031284027 | D106: 0.031676725 | E106: 581.28034 | I106: 8–10 V | J106: {=LINEST(N95:N96,I95:I96)} -> 28.500592 | K106: -112.26973 | N106: =J106*N64+K106 -> 52.711653
B107: 6V | C107: {=LINEST(C46:C53,B46:B53^{1,2})} -> -0.038338531 | D107: 0.33143572 | E107: 311.27519
B108: 4V | C108: {=LINEST(C59:C63,B59:B63^{1,2})} -> -0.036164845 | D108: -0.41026257 | E108: 138.62395 | I108: Sovitteet teho vs. PfD
B109: 2V | C109: {=LINEST(C68:C70,B68:B70^{1,2})} -> -0.022972065 | D109: -1.0955104 | E109: 31.854116 | I109: 0–8 V: 2. asteen polynomi
B110: Korjatut (2.5 lamellivälin kennolla) | I110: 8–10 V: lineaarinen
...

Sheet Laskenta poistopuoli
B2: Tehty | C2: Tarkista vielä kovakoodatut raja-arvot
AE3: Tulosteen puhallinkäyrät
B4: 1. Mittaustulokset raakadata | I4: 2. Puhallinkäyrien sovitteet 2. asteen polynomeilla
I5: x = tilavuusvirta, y = paine-ero | AE5: =B8 -> Poisto 10 V | AG5: =B28 -> Poisto 8 V | AI5: =B44 -> Poisto 6 V | AK5: =B57 -> Poisto 4 V | AM5: =B66 -> Poisto 2 V
B6: Poistopuoli | I6: y = Ax²+Bx+C | AE6: qV | AF6: PfD | AG6: qV | AH6: PfD | AI6: qV | AJ6: PfD | AK6: qV | AL6: PfD | AM6: qV | AN6: PfD
F7: Vähennetty idleteho | AD7: Max | AE7: 167.5 | AF7: =$J$9*AE7^2+$K$9*AE7+$L$9 -> 1.2447381 | AG7: 141.6 | AH7: =$J$10*AG7^2+$K$10*AG7+$L$10 -> 0.88547405 | AI7: 101.8 | AJ7: =$J$11*AI7^2+$K$11*AI7+$L$11 -> 1.1071271 | AK7: 64 | AL7: =$J$12*AK7^2+$K$12*AK7+$L$12 -> 0.67757407 | AM7: 26.5 | AN7: =$J$13*AM7^2+$K$13*AM7+$L$13 -> 0.96833092
B8: Poisto 10 V | F8: ='SFP ja kokonaisteho'!D4 -> 6.052 | J8: A | K8: B | L8: C | AE8: =AVERAGE(AE7,AE9) -> 146.875 | AF8: =$J$9*AE8^2+$K$9*AE8+$L$9 -> 193.82589 | AG8: =AVERAGE(AG7,AG9) -> 122.2 | AH8: =$J$10*AG8^2+$K$10*AG8+$L$10 -> 163.70628 | AI8: =AVERAGE(AI7,AI9) -> 85.975 | AJ8: =$J$11*AI8^2+$K$11*AI8+$L$11 -> 103.97712 | AK8: =AVERAGE(AK7,AK9) -> 52.5 | AL8: =$J$12*AK8^2+$K$12*AK8+$L$12 -> 49.918115 | AM8: =AVERAGE(AM7,AM9) -> 21.125 | AN8: =$J$13*AM8^2+$K$13*AM8+$L$13 -> 11.213332
B9: qV (l/s) | C9: PfD (Pa) | D9: Pkorj. (W) | E9: SFP | F9: P-idle | I9: 10 V | J9: =C105 -> -0.022609798 | K9: =D105 -> -2.2293127 | L9: =E105 -> 1009.0008 | AE9: =AVERAGE(AE7,AE11) -> 126.25 | AF9: =$J$9*AE9^2+$K$9*AE9+$L$9 -> 367.17105 | AG9: =AVERAGE(AG7,AG11) -> 102.8 | AH9: =$J$10*AG9^2+$K$10*AG9+$L$10 -> 300.45783 | AI9: =AVERAGE(AI7,AI11) -> 70.15 | AJ9: =$J$11*AI9^2+$K$11*AI9+$L$11 -> 187.3316 | AK9: =AVERAGE(AK7,AK11) -> 41 | AL9: =$J$12*AK9^2+$K$12*AK9+$L$12 -> 88.093885 | AM9: =AVERAGE(AM7,AM11) -> 15.75 | AN9: =$J$13*AM9^2+$K$13*AM9+$L$13 -> 19.174498
B10: 165.48061 | C10: 8.3332389 | D10: 185.43047 | E10: =D10/B10 -> 1.1205571 | F10: =D10-$F$8 -> 179.37847 | I10: 8 V | J10: =C106 -> -0.034633399 | K10: =D106 -> 0.74346559 | L10: =E106 -> 590.02978 | AE10: =AVERAGE(AE9,AE11) -> 105.625 | AF10: =$J$9*AE10^2+$K$9*AE10+$L$9 -> 521.28021 | AG10: =AVERAGE(AG9,AG11) -> 83.4 | AH10: =$J$10*AG10^2+$K$10*AG10+$L$10 -> 411.14013 | AI10: =AVERAGE(AI9,AI11) -> 54.325 | AJ10: =$J$11*AI10^2+$K$11*AI10+$L$11 -> 251.17057 | AK10: =AVERAGE(AK9,AK11) -> 29.5 | AL10: =$J$12*AK10^2+$K$12*AK10+$L$12 -> 115.20488 | AM10: =AVERAGE(AM9,AM11) -> 10.375 | AN10: =$J$13*AM10^2+$K$13*AM10+$L$13 -> 24.851828
B11: 161.46428 | C11: 60.281619 | D11: 185.35418 | E11: =D11/B11 -> 1.1479579 | F11: =D11-$F$8 -> 179.30218 | I11: 6 V | J11: =C107 -> -0.038963911 | K11: =D107 -> 0.81597495 | L11: =E107 -> 321.83324 | AD11: Min | AE11: 85 | AF11: =$J$9*AE11^2+$K$9*AE11+$L$9 -> 656.15339 | AG11: 64 | AH11: =$J$10*AG11^2+$K$10*AG11+$L$10 -> 495.75318 | AI11: 38.5 | AJ11: =$J$11*AI11^2+$K$11*AI11+$L$11 -> 295.49402 | AK11: 18 | AL11: =$J$12*AK11^2+$K$12*AK11+$L$12 -> 131.25111 | AM11: 5 | AN11: =$J$13*AM11^2+$K$13*AM11+$L$13 -> 28.245324
B12: 155.43356 | C12: 105.25805 | D12: 185.40029 | E12: =D12/B12 -> 1.1927945 | F12: =D12-$F$8 -> 179.34829 | I12: 4 V | J12: =C108 -> -0.041832784 | K12: =D108 -> 0.5917331 | L12: =E108 -> 134.15374
B13: 151.29243 | C13: 162.52919 | D13: 184.95875 | E13: =D13/B13 -> 1.2225248 | F13: =D13-$F$8 -> 178.90675 | I13: 2V | J13: =C109 -> -0.03952554 | K13: =D109 -> -0.02364284 | L13: =E109 -> 29.351677
B14: 146.54204 | C14: 210.31375 | D14: 185.1632 | E14: =D14/B14 -> 1.26355 | F14: =D14-$F$8 -> 179.1112 | AE14: Ohjausjännitteen otsikot
B15: 141.05701 | C15: 259.59449 | D15: 185.03449 | E15: =D15/B15 -> 1.311771 | F15: =D15-$F$8 -> 178.98249 | AE15: 10 V | AF15: =AE11 -> 85 | AG15: =AF11 -> 656.15339
B16: 135.23734 | C16: 307.43668 | D16: 184.35047 | E16: =D16/B16 -> 1.3631625 | F16: =D16-$F$8 -> 178.29847 | AE16: 8 V | AF16: =AG11 -> 64 | AG16: =AH11 -> 495.75318
B17: 124.36313 | C17: 369.82267 | D17: 184.72622 | E17: =D17/B17 -> 1.4853777 | F17: =D17-$F$8 -> 178.67422 | AE17: 6 V | AF17: =AI11 -> 38.5 | AG17: =AJ11 -> 295.49402
B18: 118.89863 | C18: 415.41832 | D18: 184.69175 | E18: =D18/B18 -> 1.5533548 | F18: =D18-$F$8 -> 178.63975 | I18: 3. Mitoituspisteen verkkokäyrä | AE18: 4 V | AF18: =AK11 -> 18 | AG18: =AL11+10 -> 141.25111
B19: 112.79326 | C19: 462.64525 | D19: 184.43436 | E19: =D19/B19 -> 1.6351541 | F19: =D19-$F$8 -> 178.38236 | AE19: 2 V | AF19: =AM11+2 -> 7 | AG19: =AN11+12 -> 40.245324
B20: 105.63205 | C20: 515.36791 | D20: 184.88009 | E20: =D20/B20 -> 1.7502272 | F20: =D20-$F$8 -> 178.82809
B21: 99.248953 | C21: 565.57947 | D21: 185.73537 | E21: =D21/B21 -> 1.8714089 | F21: =D21-$F$8 -> 179.68337
B22: 90.899154 | C22: 619.0934 | D22: 185.71108 | E22: =D22/B22 -> 2.0430452 | F22: =D22-$F$8 -> 179.65908 | I22: Mitoituspiste:
B23: 81.627542 | C23: 678.80835 | D23: 185.6188 | E23: =D23/B23 -> 2.2739727 | F23: =D23-$F$8 -> 179.5668 | I23: =Tulostus!L36 -> 84 | J23: dm³/s
B24: 75.692307 | C24: 714.24155 | D24: 184.66112 | E24: =D24/B24 -> 2.4396286 | F24: =D24-$F$8 -> 178.60912 | I24: =Tulostus!L37 -> 50 | J24: Pa
B25: 64.232597 | C25: 773.4095 | D25: 183.30863 | E25: =D25/B25 -> 2.8538257 | F25: =D25-$F$8 -> 177.25663
I26: 2. potenssin verkkokäyrän kerroin:
I27: x = tilavuusvirta, y = paine-ero
B28: Poisto 8 V | I28: y = ax² --> a = y/x²
B29: qV (l/s) | C29: PfD (Pa) | D29: Pkorj. (W) | E29: SFP | F29: P-idle | I29: a = | J29: =I24/I23^2 -> 0.0070861678
B30: 140.34312 | C30: 9.6040813 | D30: 120.54169 | E30: =D30/B30 -> 0.858907 | F30: =D30-$F$8 -> 114.48969 | I30: Lineaarisovitteen kerroin:
B31: 134.93147 | C31: 56.56159 | D31: 121.79004 | E31: =D31/B31 -> 0.9026066 | F31: =D31-$F$8 -> 115.73804 | I31: y = Ax --> A = y/x
B32: 129.88143 | C32: 104.34907 | D32: 123.15049 | E32: =D32/B32 -> 0.94817631 | F32: =D32-$F$8 -> 117.09849 | I32: A = | J32: =I24/I23 -> 0.5952381
B33: 123.93107 | C33: 155.91492 | D33: 123.0732 | E33: =D33/B33 -> 0.99307779 | F33: =D33-$F$8 -> 117.0212
B34: 117.70557 | C34: 205.77863 | D34: 123.41342 | E34: =D34/B34 -> 1.0484926 | F34: =D34-$F$8 -> 117.36142
B35: 107.99931 | C35: 258.87814 | D35: 123.9952 | E35: =D35/B35 -> 1.1481111 | F35: =D35-$F$8 -> 117.9432
B36: 100.92309 | C36: 309.2347 | D36: 123.7249 | E36: =D36/B36 -> 1.2259326 | F36: =D36-$F$8 -> 117.6729
B37: 92.989359 | C37: 358.41789 | D37: 122.14905 | E37: =D37/B37 -> 1.3135809 | F37: =D37-$F$8 -> 116.09705 | I37: 4. Verkkokäyrän ja puhallinkäyrien leikkauspisteet
B38: 83.523543 | C38: 409.42576 | D38: 121.12884 | E38: =D38/B38 -> 1.4502359 | F38: =D38-$F$8 -> 115.07684 | I38: ax²=Ax²+Bx+C ---> (A-a)x²+Bx+C = 0
B39: 73.652283 | C39: 457.98557 | D39: 118.51286 | E39: =D39/B39 -> 1.609086 | F39: =D39-$F$8 -> 112.46086
B40: 61.580575 | C40: 507.01798 | D40: 114.89212 | E40: =D40/B40 -> 1.8657202 | F40: =D40-$F$8 -> 108.84012 | I40: Ratkaistaan toisen asteen yhtälön ratkaisukaavalla:
B41: 28.233993 | C41: 582.82833 | D41: 100.49413 | E41: =D41/B41 -> 3.559331 | F41: =D41-$F$8 -> 94.442126
M43: Kaksi ratkaisua: | O43: Valinta | P43: Vastaava paine verkkokäyrällä
B44: Poisto 6 V | I44: Vohj | J44: a = (A-a) | K44: b = B | L44: c = C | M44: x1 | N44: x2 | O44: x2 | P44: PfD(x2)
B45: qV (l/s) | C45: PfD (Pa) | D45: Pkorj. (W) | E45: SFP | F45: P-idle | I45: 10 | J45: =J9-$J$29 -> -0.029695966 | K45: =K9 -> -2.2293127 | L45: =L9 -> 1009.0008 | M45: =(-K45+SQRT(K45^2-4*J45*L45))/(2*J45) -> -225.64895 | N45: =(-K45-SQRT(K45^2-4*J45*L45))/(2*J45) -> 150.57772 | O45: =IF(M45<0,N45,M45) -> 150.57772 | P45: =$J$29*O45^2 -> 160.66929
B46: 100.23825 | C46: 9.3712681 | D46: 57.938548 | E46: =D46/B46 -> 0.57800837 | F46: =D46-$F$8 -> 51.886548 | I46: 8 | J46: =J10-$J$29 -> -0.041719566 | K46: =K10 -> 0.74346559 | L46: =L10 -> 590.02978 | M46: =(-K46+SQRT(K46^2-4*J46*L46))/(2*J46) -> -110.34639 | N46: =(-K46-SQRT(K46^2-4*J46*L46))/(2*J46) -> 128.16694 | O46: =IF(M46<0,N46,M46) -> 128.16694 | P46: =$J$29*O46^2 -> 116.40281
B47: 95.381216 | C47: 44.973437 | D47: 59.233103 | E47: =D47/B47 -> 0.62101434 | F47: =D47-$F$8 -> 53.181103 | I47: 6 | J47: =J11-$J$29 -> -0.046050079 | K47: =K11 -> 0.81597495 | L47: =L11 -> 321.83324 | M47: =(-K47+SQRT(K47^2-4*J47*L47))/(2*J47) -> -75.207348 | N47: =(-K47-SQRT(K47^2-4*J47*L47))/(2*J47) -> 92.926643 | O47: =IF(M47<0,N47,M47) -> 92.926643 | P47: =$J$29*O47^2 -> 61.191617
B48: 88.959437 | C48: 87.822686 | D48: 59.828655 | E48: =D48/B48 -> 0.6725386 | F48: =D48-$F$8 -> 53.776655 | I48: 4 | J48: =J12-$J$29 -> -0.048918951 | K48: =K12 -> 0.5917331 | L48: =L12 -> 134.15374 | M48: =(-K48+SQRT(K48^2-4*J48*L48))/(2*J48) -> -46.667621 | N48: =(-K48-SQRT(K48^2-4*J48*L48))/(2*J48) -> 58.763814 | O48: =IF(M48<0,N48,M48) -> 58.763814 | P48: =$J$29*O48^2 -> 24.469854
B49: 82.390984 | C49: 127.06832 | D49: 60.129697 | E49: =D49/B49 -> 0.72980919 | F49: =D49-$F$8 -> 54.077697 | I49: 2 | J49: =J13-$J$29 -> -0.046611708 | K49: =K13 -> -0.02364284 | L49: =L13 -> 29.351677 | M49: =(-K49+SQRT(K49^2-4*J49*L49))/(2*J49) -> -25.348842 | N49: =(-K49-SQRT(K49^2-4*J49*L49))/(2*J49) -> 24.841612 | O49: =IF(M49<0,N49,M49) -> 24.841612 | P49: =$J$29*O49^2 -> 4.3729145
B50: 71.918386 | C50: 180.33525 | D50: 59.468073 | E50: =D50/B50 -> 0.82688274 | F50: =D50-$F$8 -> 53.416073 | O50: 5 | P50: =J29*O50^2 -> 0.1771542
B51: 64.542975 | C51: 212.49909 | D51: 58.836512 | E51: =D51/B51 -> 0.91158661 | F51: =D51-$F$8 -> 52.784512
B52: 54.642574 | C52: 248.09143 | D52: 57.549014 | E52: =D52/B52 -> 1.05319 | F52: =D52-$F$8 -> 51.497014
B53: 39.858394 | C53: 289.86155 | D53: 54.958795 | E53: =D53/B53 -> 1.3788512 | F53: =D53-$F$8 -> 48.906795
B54: 17.708729 | C54: 325.69251 | D54: 48.925 | E54: =D54/B54 -> 2.7627618 | F54: =D54-$F$8 -> 42.873
I55: 5. Ohjausjännitteen laskenta em. leikkauspisteiden avulla
I56: Puhaltimessa rajoitus 9–10 V alueella. Jaetaan laskenta kahteen alueeseen 0–9 V ja 9–10 V.
B57: Poisto 4 V
B58: qV (l/s) | C58: PfD (Pa) | D58: Pkorj. (W) | E58: SFP | F58: P-idle
B59: 63.551819 | C59: 2.394063 | D59: 26.797465 | E59: =D59/B59 -> 0.42166322 | F59: =D59-$F$8 -> 20.745465 | I59: Lineaarisovitteet (1. aste)
B60: 56.222983 | C60: 35.6833 | D60: 26.234583 | E60: =D60/B60 -> 0.4666167 | F60: =D60-$F$8 -> 20.182583 | I60: x = ohjausjännite, y = tilavuusvirta
B61: 43.952765 | C61: 79.734582 | D61: 25.409612 | E61: =D61/B61 -> 0.5781118 | F61: =D61-$F$8 -> 19.357612 | I61: y = Ax + B | M61: Valitaan alue mitoituspisteen mukaan
B62: 31.914757 | C62: 109.73171 | D62: 25.400086 | E62: =D62/B62 -> 0.79587279 | F62: =D62-$F$8 -> 19.348086 | I62: Alue | J62: A | K62: B | M62: Alue: | N62: =IF(I23<J67,I63,I64) -> 0–9 V
B63: 15.411319 | C63: 133.5634 | D63: 23.609539 | E63: =D63/B63 -> 1.531961 | F63: =D63-$F$8 -> 17.557539 | I63: 0–9 V | J63: {=LINEST(O46:O49,I46:I49)} -> 17.206941 | K63: -9.8599507
I64: 9–10 V | J64: {=LINEST(J66:J67,I66:I67)} -> 5.575206 | K64: 94.825661 | M64: Vohj: | N64: =IF(N62=I63,(I23-K63)/J63,(I23-K64)/J64) -> 5.4547728
M65: Tulostus | N65: =IF(N135,N64,"-") -> 5.4547728
B66: Poisto 2 V | I66: 10 | J66: =O45 -> 150.57772
B67: qV (l/s) | C67: PfD (Pa) | D67: Pkorj. (W) | E67: SFP | F67: P-idle | I67: 9 | J67: =J63*I67+K63 -> 145.00251
B68: 25.299281 | C68: 3.4550646 | D68: 12.703516 | E68: =D68/B68 -> 0.50212951 | F68: =D68-$F$8 -> 6.6515157 | I68: =I46 -> 8 | J68: =O46 -> 128.16694
B69: 19.46366 | C69: 13.917879 | D69: 12.570649 | E69: =D69/B69 -> 0.64585227 | F69: =D69-$F$8 -> 6.5186491 | I69: =I47 -> 6 | J69: =O47 -> 92.926643
B70: 7.9508086 | C70: 26.665076 | D70: 12.565221 | E70: =D70/B70 -> 1.5803702 | F70: =D70-$F$8 -> 6.5132214 | I70: =I48 -> 4 | J70: =O48 -> 58.763814
I71: =I49 -> 2 | J71: =O49 -> 24.841612
B74: Versioon v.1.1 | I74: 6. Käyttöalueen tarkastus
B75: Vaihdettu tiukempi kenno (2.5 lamelliväli) | I75: Käyttöalueen yläraja (lineaarinen): | N75: Käyttöalueen alarajan verkkokäyrä:
B76: Mitattu kennolla 3.0 | I76: Pa | J76: 660 | N76: Pa | O76: 10
I77: l/s | J77: 85 | N77: l/s | O77: 150
B78: Painehäviöt Ekocoilin kennoajoista | I78: Kerroin | J78: =J76/J77 -> 7.7647059 | N78: Kerroin | O78: =O76/O77^2 -> 0.00044444444
B79: l/s | C79: 3.0 kenno | D79: 2.5 kenno | E79: Erotus
B80: 40 | C80: 0 | D80: 0 | E80: 0 | I80: Pisteitä tulostusta varten, paineen yläraja | N80: Pisteitä tulostusta varten, paineen alaraja
B81: 160 | C81: 45 | D81: 48.8 | E81: =D81-C81 -> 3.8 | I81: dm³/s | J81: Pa | N81: dm³/s | O81: Pa
B82: 240 | C82: 71.4 | D82: 85.7 | E82: =D82-C82 -> 14.3 | I82: 5 | J82: =$J$78*I82 -> 38.823529 | N82: 5 | O82: =$O$78*N82^2 -> 0.011111111
B83: 300 | C83: 106 | D83: 119 | E83: =D83-C83 -> 13 | I83: =AVERAGE(I85,I82,I82) -> 31.666667 | J83: =$J$78*I83 -> 245.88235 | N83: =AVERAGE(N85,N82,N82) -> 53.333333 | O83: =$O$78*N83^2 -> 1.2641975
B84: 350 | C84: 139 | D84: 151 | E84: =D84-C84 -> 12 | I84: =AVERAGE(I85,I85,I82) -> 58.333333 | J84: =$J$78*I84 -> 452.94118 | N84: =AVERAGE(N85,N85,N82) -> 101.66667 | O84: =$O$78*N84^2 -> 4.5938272
I85: =J77 -> 85 | J85: =$J$78*I85 -> 660 | N85: =O77 -> 150 | O85: =$O$78*N85^2 -> 10
B86: Sovite | C86: 1. aste | D86: {=LINEST(E80:E84,B80:B84)} -> 0.045981903 | E86: -1.404055
I88: 7. Tehon laskenta
I90: Tehon sovitteet
I91: y = teho, x = paine | M91: Tehorajoitus
I92: y = Ax² + Bx+C | L92: Max | M92: 180
I94: Vohj | J94: A | K94: B | L94: C | M94: PfD | N94: P
I95: 10 | J95: {=LINEST(F10:F22,C10:C22^{1,2})} -> 1.0596018e-05 | K95: -0.006769075 | L95: 179.71207 | M95: =P45 -> 160.66929 | N95: =IF((J95*$M$95^2+K95*$M$95+L95)>M92,M92,(J95*$M$95^2+K95*$M$95+L95)) -> 178.89802 | O95: <--- Huom. rajoitus
I96: 8 | J96: {=LINEST(F30:F40,C30:C40^{1,2})} -> -9.7252604e-05 | K96: 0.041265197 | L96: 113.70569 | M96: =P46 -> 116.40281 | N96: =J96*$M$96^2+K96*$M$96+L96 -> 117.19134
I97: 6 | J97: {=LINEST(F46:F54,C46:C54^{1,2})} -> -0.00025262882 | K97: 0.061979129 | L97: 50.843735 | M97: =P47 -> 61.191617 | N97: =J97*$M$97^2+K97*$M$97+L97 -> 53.690391
I98: 4 | J98: {=LINEST(F59:F63,C59:C63^{1,2})} -> -0.00013927094 | K98: -0.0019590959 | L98: 20.624747 | M98: =P48 -> 24.469854 | N98: =J98*$M$98^2+K98*$M$98+L98 -> 20.493417
I99: 2 | J99: {=LINEST(F68:F70,C68:C70^{1,2})} -> 0.00052878645 | K99: -0.021885514 | L99: 6.7208192 | M99: =P49 -> 4.3729145 | N99: =J99*$M$99^2+K99*$M$99+L99 -> 6.6352274
I101: Sovitteet teho vs. ohjausjännite
I102: 0–8 V: 2. asteen polynomi
I103: 8–10 V: lineaarinen
B104: Mitatut tulokset | J104: A | K104: B | L104: C | M104: D | N104: P [W]
B105: 10V | C105: {=LINEST(C10:C25,B10:B25^{1,2})} -> -0.022609798 | D105: -2.2293127 | E105: 1009.0008 | I105: 0–8 V | J105: {=LINEST(N96:N99,I96:I99^{1,2})} -> 3.1026722 | K105: -12.783457 | L105: 20.339712 | N105: =J105*N64^2+K105*N64+L105 -> 42.927461
B106: 8V | C106: {=LINEST(C30:C41,B30:B41^{1,2})} -> -0.034633399 | D106: 0.74346559 | E106: 590.02978 | I106: 8–10 V | J106: {=LINEST(N95:N96,I95:I96)} -> 30.853343 | K106: -129.63541 | N106: =J106*N64+K106 -> 38.662566
B107: 6V | C107: {=LINEST(C46:C54,B46:B54^{1,2})} -> -0.038963911 | D107: 0.81597495 | E107: 321.83324
B108: 4V | C108: {=LINEST(C59:C63,B59:B63^{1,2})} -> -0.041832784 | D108: 0.5917331 | E108: 134.15374 | I108: Sovitteet teho vs. PfD
...

Sheet Laskenta poistopuoli_W
C3: EI KÄYTETÄ
C4: 1. Mittaustulokset raakadata | I4: 2. Puhallinkäyrien sovitteet 2. asteen polynomeilla
I5: x = tilavuusvirta, y = paine-ero
C6: Poistopuoli | I6: y = Ax²+Bx+C
C8: Poisto 10 V | E8: Huom. Teho kokonaisteho | J8: A | K8: B | L8: C
C9: qV (l/s) | D9: PfD (Pa) | E9: Pkorj. (W) | F9: RPM | G9: SFP | I9: 10 V | J9: {=LINEST(D10:D21,C10:C21^{1,2})} -> -0.022543803 | K9: -0.86276553 | L9: 544.39114
C10: 134.81056 | D10: 12.794885 | E10: 240.50764 | F10: 0 | G10: 1.7840415 | I10: 8 V | J10: {=LINEST(D25:D34,C25:C34^{1,2})} -> -0.021560916 | K10: -0.50836215 | L10: 450.35485
C11: 125.93197 | D11: 54.692051 | E11: 243.41396 | F11: 0 | G11: 1.9329004 | I11: 6 V | J11: {=LINEST(D38:D45,C38:C45^{1,2})} -> -0.018274772 | K11: -0.6426322 | L11: 251.08822
C12: 120.72635 | D12: 104.34823 | E12: 242.3612 | F12: 0 | G12: 2.0075253 | I12: 4 V | J12: {=LINEST(D50:D55,C50:C55^{1,2})} -> -0.016793781 | K12: -0.57772656 | L12: 107.75561
C13: 115.54056 | D13: 157.59765 | E13: 239.8447 | F13: 0 | G13: 2.0758484 | I13: 2 V | J13: {=LINEST(D60:D63,C60:C63^{1,2})} -> 0.00279763 | K13: -1.2300493 | L13: 25.57182
C14: 109.04871 | D14: 209.02383 | E14: 239.73303 | F14: 0 | G14: 2.1984031
C15: 99.307102 | D15: 254.91464 | E15: 230.02514 | F15: 0 | G15: 2.316301
C16: 88.260192 | D16: 298.84514 | E16: 212.6203 | F16: 0 | G16: 2.409017
C17: 72.164255 | D17: 349.68388 | E17: 200.53656 | F17: 0 | G17: 2.7788904
C18: 56.992237 | D18: 400.31554 | E18: 189.81612 | F18: 0 | G18: 3.3305609 | I18: 3. Mitoituspisteen verkkokäyrä
C19: 44.635842 | D19: 455.79561 | E19: 179.96287 | F19: 0 | G19: 4.0318019 | I19: Mitoituspiste:
C20: 31.758748 | D20: 498.57577 | E20: 169.89166 | F20: 0 | G20: 5.3494445 | I20: =Tulostus!L36 -> 84 | J20: dm³/s
C21: 11.919643 | D21: 539.51381 | E21: 162.90006 | F21: 0 | G21: 13.666522 | I21: =Tulostus!L37 -> 50 | J21: Pa
C23: Poisto 8 V | I23: 2. potenssin verkkokäyrän kerroin:
C24: qV (l/s) | D24: PfD (Pa) | E24: Pkorj. (W) | F24: RPM | G24: SFP | I24: x = tilavuusvirta, y = paine-ero
C25: 129.68036 | D25: 9.5153865 | E25: 230.11031 | F25: 0 | G25: 1.7744423 | I25: y = ax² --> a = y/x²
C26: 123.22104 | D26: 55.555002 | E26: 222.68373 | F26: 0 | G26: 1.8071891 | I26: a = | J26: =I21/I20^2 -> 0.0070861678
C27: 116.10132 | D27: 104.6171 | E27: 214.39902 | F27: 0 | G27: 1.8466544
C28: 107.98267 | D28: 155.57091 | E28: 203.77151 | F28: 0 | G28: 1.8870761
C29: 98.255539 | D29: 205.69575 | E29: 189.85068 | F29: 0 | G29: 1.9322135
C30: 85.997883 | D30: 252.19469 | E30: 173.69183 | F30: 0 | G30: 2.0197222 | I30: 4. Verkkokäyrän ja puhallinkäyrien leikkauspisteet
C31: 69.473491 | D31: 308.06544 | E31: 153.19126 | F31: 0 | G31: 2.2050318 | I31: ax²=Ax²+Bx+C ---> (A-a)x²+Bx+C = 0
C32: 50.409265 | D32: 345.40442 | E32: 135.41466 | F32: 0 | G32: 2.6863051
C33: 37.218221 | D33: 400.32032 | E33: 115.9053 | F33: 0 | G33: 3.1142086 | I33: Ratkaistaan toisen asteen yhtälön ratkaisukaavalla:
C34: 18.772038 | D34: 445.13213 | E34: 104.00466 | F34: 0 | G34: 5.5404035
C36: Poisto 6 V
C37: qV (l/s) | D37: PfD (Pa) | E37: Pkorj. (W) | F37: RPM | G37: SFP | M37: Kaksi ratkaisua: | O37: Valinta | P37: Vastaava paine verkkokäyrällä
C38: 96.737715 | D38: 12.325798 | E38: 80.238802 | F38: 0 | G38: 0.82944694 | I38: Vohj | J38: a = (A-a) | K38: b = B | L38: c = C | M38: x1 | N38: x2 | O38: x2 | P38: PfD(x2)
C39: 91.70739 | D39: 37.477889 | E39: 76.166908 | F39: 0 | G39: 0.83054276 | I39: 10 | J39: =J9-$J$26 -> -0.02962997 | K39: =K9 -> -0.86276553 | L39: =L9 -> 544.39114 | M39: =(-K39+SQRT(K39^2-4*J39*L39))/(2*J39) -> -150.88565 | N39: =(-K39-SQRT(K39^2-4*J39*L39))/(2*J39) -> 121.76764 | O39: =IF(M39<0,N39,M39) -> 121.76764 | P39: =$J$26*O39^2 -> 105.06916
C40: 84.175542 | D40: 73.24186 | E40: 71.458978 | F40: 0 | G40: 0.84892804 | I40: 8 | J40: =J10-$J$26 -> -0.028647084 | K40: =K10 -> -0.50836215 | L40: =L10 -> 450.35485 | M40: =(-K40+SQRT(K40^2-4*J40*L40))/(2*J40) -> -134.56898 | N40: =(-K40-SQRT(K40^2-4*J40*L40))/(2*J40) -> 116.8233 | O40: =IF(M40<0,N40,M40) -> 116.8233 | P40: =$J$26*O40^2 -> 96.709769
C41: 74.867345 | D41: 107.05478 | E41: 65.013194 | F41: 0 | G41: 0.86837852 | I41: 6 | J41: =J11-$J$26 -> -0.02536094 | K41: =K11 -> -0.6426322 | L41: =L11 -> 251.08822 | M41: =(-K41+SQRT(K41^2-4*J41*L41))/(2*J41) -> -112.97481 | N41: =(-K41-SQRT(K41^2-4*J41*L41))/(2*J41) -> 87.63536 | O41: =IF(M41<0,N41,M41) -> 87.63536 | P41: =$J$26*O41^2 -> 54.42146
C42: 61.927153 | D42: 140.35742 | E42: 58.195123 | F42: 0 | G42: 0.93973516 | I42: 4 | J42: =J12-$J$26 -> -0.023879949 | K42: =K12 -> -0.57772656 | L42: =L12 -> 107.75561 | M42: =(-K42+SQRT(K42^2-4*J42*L42))/(2*J42) -> -80.351245 | N42: =(-K42-SQRT(K42^2-4*J42*L42))/(2*J42) -> 56.158289 | O42: =IF(M42<0,N42,M42) -> 56.158289 | P42: =$J$26*O42^2 -> 22.348026
C43: 45.661771 | D43: 178.06503 | E43: 52.103463 | F43: 0 | G43: 1.1410741 | I43: 2 | J43: =J13-$J$26 -> -0.0042885378 | K43: =K13 -> -1.2300493 | L43: =L13 -> 25.57182 | M43: =(-K43+SQRT(K43^2-4*J43*L43))/(2*J43) -> -306.29043 | N43: =(-K43-SQRT(K43^2-4*J43*L43))/(2*J43) -> 19.467894 | O43: =IF(M43<0,N43,M43) -> 19.467894 | P43: =$J$26*O43^2 -> 2.6856498
C44: 31.097024 | D44: 210.9873 | E44: 47.192677 | F44: 0 | G44: 1.5175946
C45: 13.409746 | D45: 242.37004 | E45: 31.449548 | F45: 0 | G45: 2.3452754
I47: 5. Ohjausjännitteen laskenta em. leikkauspisteiden avulla
C48: Poisto 4 V | I48: Puhaltimessa rajoitus 8–10 V alueella. Jaetaan laskenta kahteen alueeseen 0–8 V ja 8–10 V.
C49: qV (l/s) | D49: PfD (Pa) | E49: Pkorj. (W) | F49: RPM | G49: SFP
C50: 62.493893 | D50: 4.1632351 | E50: 36.086288 | F50: 0 | G50: 0.57743703 | I50: Lineaarisovitteet (1. aste)
C51: 57.097449 | D51: 20.952781 | E51: 33.887254 | F51: 0 | G51: 0.59349856 | I51: x = ohjausjännite, y = tilavuusvirta
C52: 49.44029 | D52: 41.054264 | E52: 31.118849 | F52: 0 | G52: 0.62942287 | I52: y = Ax + B | M52: Valitaan alue mitoituspisteen mukaan
C53: 38.081171 | D53: 60.227764 | E53: 28.02356 | F53: 0 | G53: 0.73589019 | I53: Alue | J53: A | K53: B | M53: Alue: | N53: =IF(I20<O40,I54,I55) -> 0–8 V
C54: 25.420233 | D54: 80.344287 | E54: 24.730933 | F54: 0 | G54: 0.97288379 | I54: 0–8 V | J54: {=LINEST(O40:O43,I40:I43)} -> 16.177164 | K54: -10.86461
C55: 12.529226 | D55: 98.982785 | E55: 22.368637 | F55: 0 | G55: 1.7853168 | I55: 8–10 V | J55: {=LINEST(O39:O40,I39:I40)} -> 2.4721739 | K55: 97.045905 | M55: Vohj: | N55: =IF(N53=I54,(I20-K54)/J54,(I20-K55)/J55) -> 5.8641063
M56: Tulostus | N56: =IF(N79,N55,"-") -> 5.8641063
C58: Poisto 2 V | I58: 6. Käyttöalueen tarkastus
C59: qV (l/s) | D59: PfD (Pa) | E59: Pkorj. (W) | F59: RPM | G59: SFP | I59: Käyttöalueen ylärajan verkkokäyrä: | N59: Käyttöalueen alarajan verkkokäyrä:
C60: 18.247788 | D60: 4.1116662 | E60: 10.488366 | F60: 0 | G60: 0.57477467 | I60: Pa | J60: 530 | N60: Pa | O60: 40
C61: 13.150251 | D61: 9.6866677 | E61: 10.231774 | F61: 0 | G61: 0.77806683 | I61: l/s | J61: 25 | N61: l/s | O61: 105
C62: 9.06114 | D62: 14.861567 | E62: 10.087877 | F62: 0 | G62: 1.1133121 | I62: Kerroin | J62: =J60/J61^2 -> 0.848 | N62: Kerroin | O62: =O60/O61^2 -> 0.0036281179
C63: 4.5965748 | D63: 19.910742 | E63: 9.8440439 | F63: 0 | G63: 2.1416042
I64: Pisteitä tulostusta varten, paineen yläraja | N64: Pisteitä tulostusta varten, paineen alaraja
I65: dm³/s | J65: Pa | N65: dm³/s | O65: Pa
I66: 5 | J66: =$J$62*I66^2 -> 21.2 | N66: 5 | O66: =$O$62*N66^2 -> 0.090702948
I67: =AVERAGE(I69,I66,I66) -> 11.666667 | J67: =$J$62*I67^2 -> 115.42222 | N67: =AVERAGE(N69,N66,N66) -> 38.333333 | O67: =$O$62*N67^2 -> 5.3313177
I68: =AVERAGE(I69,I69,I66) -> 18.333333 | J68: =$J$62*I68^2 -> 285.02222 | N68: =AVERAGE(N69,N69,N66) -> 71.666667 | O68: =$O$62*N68^2 -> 18.634417
I69: =J61 -> 25 | J69: =$J$62*I69^2 -> 530 | N69: =O61 -> 105 | O69: =$O$62*N69^2 -> 40
I72: TARKASTUKSET
I73: 1. | J73: Onko positiivinen tilavuusvirta? | N73: =IF(I20>0,TRUE,FALSE) -> TRUE
I74: 2. | J74: Onko ohjausjännite enimmillään 10 V? | N74: =IF(OR(I20>O39,ISERROR(O39)),FALSE,TRUE) -> TRUE
I75: 3. | J75: Onko ohjausjännite vähintään 2 V? | N75: =IF(I20<O43,FALSE,TRUE) -> TRUE
C76: Ohjausjännitteen otsikot | I76: 4. | J76: Onko paine positiivinen? | N76: =IF(I21>0,TRUE,FALSE) -> TRUE
C77: 10 V | D77: =C21 -> 11.919643 | E77: =D21 -> 539.51381 | I77: 5. | J77: Onko paine ylärajan alapuolella? | N77: =IF(J26<J62,TRUE,FALSE) -> TRUE
C78: 8 V | D78: =C34+1 -> 19.772038 | E78: =D34-13 -> 432.13213 | I78: 6. | J78: Onko paine alarajan yläpuolella? | N78: =IF(J26>O62,TRUE,FALSE) -> TRUE
C79: 6 V | D79: =C45 -> 13.409746 | E79: =D45+10 -> 252.37004 | I79: 6. | J79: Onko kaikki kunnossa? | N79: =IF(AND(N73,N74,N75,N76,N77),TRUE,FALSE) -> TRUE
C80: 4 V | D80: =C55+1 -> 13.529226 | E80: =D55+9 -> 107.98279
C81: 2 V | D81: =C63+2 -> 6.5965748 | E81: =D63+13 -> 32.910742
C83: 7. Tehon laskenta
C84: Mittauspisteet
D85: U [V] | E85: I [A] | F85: Pkorj [W] | G85: Pfd_korj | H85: Pkor-idle
C86: 10 V | D86: 230.14167 | E86: 0.83491667 | F86: 126.97387 | G86: 60.519782 | H86: =F86-5 -> 121.97387 | J86: Mitoituspiste:
D87: 229.61667 | E87: 0.8335 | F87: 126.65272 | G87: 109.49103 | H87: =F87-5 -> 121.65272 | J87: =I20 -> 84 | K87: l/s
D88: 229.98462 | E88: 0.81307692 | F88: 124.01173 | G88: 157.96682 | H88: =F88-5 -> 119.01173 | J88: =I21 -> 50 | K88: Pa
D89: 230.14167 | E89: 0.81166667 | F89: 123.8857 | G89: 209.60958 | H89: =F89-5 -> 118.8857 | J89: =N55 -> 5.8641063 | K89: ohjausjännite
D90: 229.79167 | E90: 0.762 | F90: 115.59576 | G90: 261.01991 | H90: =F90-5 -> 110.59576
D91: 229.91667 | E91: 0.69733333 | F91: 105.20043 | G91: 311.72372 | H91: =F91-5 -> 100.20043
D92: 230.23333 | E92: 0.64025 | F92: 96.348326 | G92: 359.04955 | H92: =F92-5 -> 91.348326 | J92: Tehon sovitteet
D93: 229.85833 | E93: 0.57116667 | F93: 85.229999 | G93: 407.15443 | H93: =F93-5 -> 80.229999 | J93: y = teho, x = paine | N93: Max
D94: 230.06667 | E94: 0.51025 | F94: 76.480785 | G94: 457.5092 | H94: =F94-5 -> 71.480785 | J94: y = Ax+B tai y = Ax²+Bx+C | N94: =AVERAGE(H86:H89) -> 120.38101 | O94: W
D95: 229.99167 | E95: 0.455 | F95: 68.208959 | G95: 494.53556 | H95: =F95-5 -> 63.208959
C96: 8 V | D96: 229.68333 | E96: 0.79916667 | F96: 121.49498 | G96: 60.774097 | H96: =F96-5 -> 116.49498 | J96: Vohj | K96: A | L96: B | M96: C | N96: PfD | O96: P
D97: 230.05833 | E97: 0.76691667 | F97: 116.7388 | G97: 109.14749 | H97: =F97-5 -> 111.7388 | J97: 10 | K97: {=LINEST(H89:H95,G89:G95^{1,2})} -> -5.5939001e-05 | L97: -0.15775466 | M97: 154.85865 | N97: =P39 -> 105.06916 | O97: =IF((K97*$N$97^2+L97*$N$97+M97)>N94,N94,(K97*$N$97^2+L97*$N$97+M97)) -> 120.38101 | P97: <--- Huom. rajoitus
D98: 230.23333 | E98: 0.72841667 | F98: 110.69798 | G98: 157.53956 | H98: =F98-5 -> 105.69798 | J98: 8 | K98: {=LINEST(H96:H102,G96:G102^{1,2})} -> -0.00019160388 | L98: -0.079375084 | M98: 122.45466 | N98: =P40 -> 96.709769 | O98: =K98*$N$98^2+L98*$N$98+M98 -> 112.98628
D99: 229.73333 | E99: 0.66816667 | F99: 100.80501 | G99: 220.02768 | H99: =F99-5 -> 95.805007 | J99: 6 | K99: {=LINEST(H103:H106,G103:G106^{1,2})} -> -0.00022268724 | L99: -0.093169782 | M99: 56.627058 | N99: =P41 -> 54.42146 | O99: =K99*$N$99^2+L99*$N$99+M99 -> 50.897091
D100: 230.45833 | E100: 0.55591667 | F100: 84.226045 | G100: 309.16577 | H100: =F100-5 -> 79.226045 | J100: 4 | K100: {=LINEST(H107:H109,G107:G109)} -> -0.10326723 | L100: 19.620699 | N100: =P42 -> 22.348026 | O100: =K100*$N$100+L100 -> 17.312881
D101: 229.65 | E101: 0.46241667 | F101: 69.464373 | G101: 378.5543 | H101: =F101-5 -> 64.464373 | J101: 2 | K101: {=LINEST(H110:H111,G110:G111)} -> -0.021806345 | L101: 2.8917893 | N101: =P43 -> 2.6856498 | O101: =K101*$N$101+L101 -> 2.8332251
D102: 229.725 | E102: 0.38133333 | F102: 57.331101 | G102: 434.19417 | H102: =F102-5 -> 52.331101
C103: 6 V | D103: 230.41667 | E103: 0.383 | F103: 57.675017 | G103: 36.914935 | H103: =F103-5 -> 52.675017 | J103: Sovitteet teho vs. ohjausjännite
D104: 230.14167 | E104: 0.33225 | F104: 50.099868 | G104: 104.94515 | H104: =F104-5 -> 45.099868 | J104: 0–8 V: 3. asteen polynomi
D105: 229.95 | E105: 0.26583333 | F105: 39.880552 | G105: 162.63316 | H105: =F105-5 -> 34.880552 | J105: 8–10 V: lineaarinen
D106: 230.15 | E106: 0.19008333 | F106: 28.537172 | G106: 230.46423 | H106: =F106-5 -> 23.537172 | K106: A | L106: B | M106: C | N106: D | O106: P [W]
C107: 4 V | D107: 230.15 | E107: 0.15175 | F107: 22.435744 | G107: 20.823759 | H107: =F107-5 -> 17.435744 | J107: 0–8 V | K107: {=LINEST(O98:O101,J98:J101^{1,2,3})} -> 0.19584217 | L107: 0.037963362 | M107: 1.5284668 | N107: -1.9422993 | O107: =K107*J89^3+L107*J89^2+M107*J89+N107 -> 47.818503
D108: 230.24167 | E108: 0.125075 | F108: 18.24896 | G108: 62.373821 | H108: =F108-5 -> 13.24896 | J108: 8–10 V | K108: {=LINEST(O97:O98,J97:J98)} -> 3.6973627 | L108: 83.407379 | O108: =K108*J89+L108 -> 105.08911
D109: 229.95833 | E109: 0.09645 | F109: 13.896479 | G109: 103.51135 | H109: =F109-5 -> 8.896479
C110: 2 V | D110: 230.08462 | E110: 0.056246154 | F110: 7.7280337 | G110: 7.5095407 | H110: =F110-5 -> 2.7280337 | J110: Sovitteet teho vs. PfD
...

Sheet Laskenta äänitehotasot
AC1: 2. SOVITTEET LwA vs. TILAVUUSVIRTA | AK1: 3. SPEKTRIKORJAUS
B2: 1. RAAKADATA | F2: Valmis | G2: Tarkista spektrikorjaukset | AC2: --> Äänitehotasot mitoituspisteen verkkokäyrän pisteissä
AC3: --> Em. verkkokäyrän LwA logaritmisovitteesta mitoituspisteen LwA | AL3: SPEKTRIKORJAUSTERMIT
B4: TULOKANAVA | AL4: =I6 -> 63 Hz | AM4: =J6 -> 125 Hz | AN4: =K6 -> 250 Hz | AO4: =L6 -> 500 Hz | AP4: =M6 -> 1 kHz | AQ4: =N6 -> 2 kHz | AR4: =O6 -> 4 kHz | AS4: =P6 -> 8 kHz
B5: Tulopuoli | E5: Poistopuoli | H5: P* [W] | I5: Äänitehotasot oktaavikaistoittain LW,okt [dB] | Q5: LW,kok** [dB] | R5: LW,A,kok** [dB] | AC5: Äänikäyrien sovitteet, 1. asteen lineaarinen sovite | AK5: 10 V | AL5: =I8-$R8 -> 2.4654441 | AM5: =J8-$R8 -> 0.64868103 | AN5: =K8-$R8 -> -2.5916321 | AO5: =L8-$R8 -> -0.38179329 | AP5: =M8-$R8 -> -8.738023 | AQ5: =N8-$R8 -> -8.9178436 | AR5: =O8-$R8 -> -10.597832 | AS5: =P8-$R8 -> -19.442026
B6: Uohj [V] | C6: qV [dm3/s] | D6: pd [Pa] | E6: Uohj [V] | F6: qV [dm3/s] | G6: pd [Pa] | I6: 63 Hz | J6: 125 Hz | K6: 250 Hz | L6: 500 Hz | M6: 1 kHz | N6: 2 kHz | O6: 4 kHz | P6: 8 kHz | AC6: y = LwA, x = qV --> y = Ax+B | AL6: =I9-$R9 -> 2.7562032 | AM6: =J9-$R9 -> 0.098934719 | AN6: =K9-$R9 -> -2.9665097 | AO6: =L9-$R9 -> 0.47682691 | AP6: =M9-$R9 -> -9.2252522 | AQ6: =N9-$R9 -> -9.8057076 | AR6: =O9-$R9 -> -11.543213 | AS6: =P9-$R9 -> -20.864205
AG7: Mitoituspisteen verkkokäyrä | AL7: =I10-$R10 -> 0.67228583 | AM7: =J10-$R10 -> -2.8537988 | AN7: =K10-$R10 -> -5.7092918 | AO7: =L10-$R10 -> 1.9630292 | AP7: =M10-$R10 -> -11.84888 | AQ7: =N10-$R10 -> -12.893836 | AR7: =O10-$R10 -> -14.506584 | AS7: =P10-$R10 -> -24.475127
B8: 100 | C8: 151.04412 | D8: 105.50215 | E8: 100 | F8: 156.5473 | G8: 107.02667 | H8: 178.56819 | I8: 73.934863 | J8: 72.1181 | K8: 68.877787 | L8: 71.087626 | M8: 62.731396 | N8: 62.551576 | O8: 60.871587 | P8: 52.027394 | Q8: 78.238415 | R8: 71.469419 | AC8: Vohj | AD8: A | AE8: B | AG8: qV | AH8: LwA | AL8: =I11-$R11 -> -1.5340681 | AM8: =J11-$R11 -> -4.2633408 | AN8: =K11-$R11 -> -7.4407888 | AO8: =L11-$R11 -> 2.5527235 | AP8: =M11-$R11 -> -13.478092 | AQ8: =N11-$R11 -> -14.945066 | AR8: =O11-$R11 -> -17.066649 | AS8: =P11-$R11 -> -27.290671
B9: 100 | C9: 136.93813 | D9: 222.12411 | E9: 100 | F9: 144.09798 | G9: 223.49525 | H9: 178.7953 | I9: 74.803337 | J9: 72.146069 | K9: 69.080625 | L9: 72.523961 | M9: 62.821882 | N9: 62.241427 | O9: 60.503921 | P9: 51.182929 | Q9: 78.889205 | R9: 72.047134 | AC9: 10 | AD9: {=LINEST(R8:R11,C8:C11)} -> -0.13189777 | AE9: 90.884392 | AG9: ='Laskenta tulopuoli'!O45 -> 145.65364 | AH9: =AD9*AG9+AE9 -> 71.673002 | AK9: 8 V | AL9: =I12-$R12 -> 1.5219117 | AM9: =J12-$R12 -> 0.37762906 | AN9: =K12-$R12 -> -1.770864 | AO9: =L12-$R12 -> 0.21573286 | AP9: =M12-$R12 -> -8.9674616 | AQ9: =N12-$R12 -> -9.4726791 | AR9: =O12-$R12 -> -11.157451 | AS9: =P12-$R12 -> -21.165709
B10: 100 | C10: 121.79571 | D10: 339.63005 | E10: 100 | F10: 129.58702 | G10: 343.29632 | H10: 179.03909 | I10: 75.586806 | J10: 72.060721 | K10: 69.205228 | L10: 76.877549 | M10: 63.06564 | N10: 62.020683 | O10: 60.407936 | P10: 50.439392 | Q10: 80.574758 | R10: 74.91452 | AC10: 8 | AD10: {=LINEST(R12:R15,C12:C15)} -> -0.061554769 | AE10: 76.226742 | AG10: ='Laskenta tulopuoli'!O46 -> 123.49583 | AH10: =AD10*AG10+AE10 -> 68.624985 | AL10: =I13-$R13 -> 1.1570242 | AM10: =J13-$R13 -> 0.76916928 | AN10: =K13-$R13 -> -1.3130005 | AO10: =L13-$R13 -> 0.20091142 | AP10: =M13-$R13 -> -8.5693487 | AQ10: =N13-$R13 -> -9.4861247 | AR10: =O13-$R13 -> -11.413836 | AS10: =P13-$R13 -> -21.59476
B11: 100 | C11: 103.9133 | D11: 469.97003 | E11: 100 | F11: 111.0925 | G11: 478.81948 | H11: 179.327 | I11: 75.817697 | J11: 73.088424 | K11: 69.910976 | L11: 79.904488 | M11: 63.873673 | N11: 62.406699 | O11: 60.285116 | P11: 50.061094 | Q11: 82.342862 | R11: 77.351765 | AC11: 6 | AD11: {=LINEST(R16:R19,C16:C19)} -> -0.16973475 | AE11: 76.388321 | AG11: ='Laskenta tulopuoli'!O47 -> 86.508693 | AH11: =AD11*AG11+AE11 -> 61.70479 | AL11: =I14-$R14 -> 0.71605666 | AM11: =J14-$R14 -> -0.28668176 | AN11: =K14-$R14 -> -1.9061465 | AO11: =L14-$R14 -> 1.3819436 | AP11: =M14-$R14 -> -9.7948474 | AQ11: =N14-$R14 -> -10.627632 | AR11: =O14-$R14 -> -12.989491 | AS11: =P14-$R14 -> -23.403387
B12: 80 | C12: 127.75708 | D12: 76.789748 | E12: 80 | F12: 133.17777 | G12: 77.056728 | H12: 120.86676 | I12: 70.358537 | J12: 69.214255 | K12: 67.065762 | L12: 69.052358 | M12: 59.869164 | N12: 59.363946 | O12: 57.679174 | P12: 47.670917 | Q12: 75.417309 | R12: 68.836626 | AC12: 4 | AD12: {=LINEST(R20:R23,C20:C23)} -> -0.20806967 | AE12: 64.50793 | AG12: ='Laskenta tulopuoli'!O48 -> 52.069138 | AH12: =AD12*AG12+AE12 -> 53.673921 | AL12: =I15-$R15 -> 0.97141852 | AM12: =J15-$R15 -> -0.53631008 | AN12: =K15-$R15 -> -1.9729704 | AO12: =L15-$R15 -> 2.0634415 | AP12: =M15-$R15 -> -10.291438 | AQ12: =N15-$R15 -> -12.019951 | AR12: =O15-$R15 -> -14.889416 | AS12: =P15-$R15 -> -25.305331
B13: 80 | C13: 116.42397 | D13: 162.92389 | E13: 80 | F13: 122.72846 | G13: 164.78058 | H13: 121.53466 | I13: 69.666432 | J13: 69.278578 | K13: 67.196408 | L13: 68.71032 | M13: 59.94006 | N13: 59.023284 | O13: 57.095573 | P13: 46.914648 | Q13: 75.15225 | R13: 68.509408 | AK13: 6 V | AL13: =I16-$R16 -> 3.3947893 | AM13: =J16-$R16 -> 2.489745 | AN13: =K16-$R16 -> 1.603383 | AO13: =L16-$R16 -> -1.3159134 | AP13: =M16-$R16 -> -8.0847837 | AQ13: =N16-$R16 -> -8.4824312 | AR13: =O16-$R16 -> -12.066865 | AS13: =P16-$R16 -> -23.533363
B14: 80 | C14: 103.10986 | D14: 250.629 | E14: 80 | F14: 110.12586 | G14: 253.241 | H14: 121.17076 | I14: 70.397265 | J14: 69.394527 | K14: 67.775062 | L14: 71.063152 | M14: 59.886361 | N14: 59.053577 | O14: 56.691718 | P14: 46.277821 | Q14: 76.096898 | R14: 69.681209 | AC14: Sovite mitoituspisteen verkkokäyrän äänipisteistä | AL14: =I17-$R17 -> 2.12367 | AM14: =J17-$R17 -> 2.3205892 | AN14: =K17-$R17 -> 2.7582662 | AO14: =L17-$R17 -> -1.4429598 | AP14: =M17-$R17 -> -8.6179531 | AQ14: =N17-$R17 -> -9.3952082 | AR14: =O17-$R17 -> -13.289627 | AS14: =P17-$R17 -> -24.646002
B15: 80 | C15: 87.336054 | D15: 342.02618 | E15: 80 | F15: 93.555143 | G15: 352.3014 | H15: 119.13375 | I15: 72.097782 | J15: 70.590053 | K15: 69.153393 | L15: 73.189805 | M15: 60.834925 | N15: 59.106412 | O15: 56.236947 | P15: 45.821032 | Q15: 77.724871 | R15: 71.126363 | AC15: Logaritmisovite y = A ln(x) + B | AL15: =I18-$R18 -> 1.352143 | AM15: =J18-$R18 -> 1.1919905 | AN15: =K18-$R18 -> 4.2561961 | AO15: =L18-$R18 -> -1.9756088 | AP15: =M18-$R18 -> -10.681381 | AQ15: =N18-$R18 -> -11.271426 | AR15: =O18-$R18 -> -15.305501 | AS15: =P18-$R18 -> -26.511636
B16: 60 | C16: 88.788079 | D16: 39.743609 | E16: 60 | F16: 96.13126 | G16: 41.548951 | H16: 58.473119 | I16: 64.945602 | J16: 64.040558 | K16: 63.154196 | L16: 60.234899 | M16: 53.466029 | N16: 53.068381 | O16: 49.483948 | P16: 38.01745 | Q16: 69.685425 | R16: 61.550813 | AC16: y = LwA, x = qV | AL16: =I19-$R19 -> 0.47740682 | AM16: =J19-$R19 -> 0.25764675 | AN16: =K19-$R19 -> 5.3218758 | AO16: =L19-$R19 -> -3.4285258 | AP16: =M19-$R19 -> -12.33756 | AQ16: =N19-$R19 -> -13.498444 | AR16: =O19-$R19 -> -17.660699 | AS16: =P19-$R19 -> -28.805101
B17: 60 | C17: 81.733507 | D17: 84.296605 | E17: 60 | F17: 89.725188 | G17: 88.190203 | H17: 58.683066 | I17: 64.37889 | J17: 64.575809 | K17: 65.013486 | L17: 60.81226 | M17: 53.637267 | N17: 52.860012 | O17: 48.965593 | P17: 37.609218 | Q17: 70.210028 | R17: 62.25522 | AC17: A | AD17: B | AK17: 4 V | AL17: =I20-$R20 -> 2.1129755 | AM17: =J20-$R20 -> 4.1645791 | AN17: =K20-$R20 -> 5.0821587 | AO17: =L20-$R20 -> -2.4019577 | AP17: =M20-$R20 -> -8.7228678 | AQ17: =N20-$R20 -> -10.824264 | AR17: =O20-$R20 -> -15.946137 | AS17: =P20-$R20 -> -28.512948
B18: 60 | C18: 73.137106 | D18: 130.66124 | E18: 60 | F18: 81.086256 | G18: 136.81538 | H18: 58.562181 | I18: 65.221668 | J18: 65.061515 | K18: 68.125721 | L18: 61.893916 | M18: 53.188143 | N18: 52.598098 | O18: 48.564024 | P18: 37.357888 | Q18: 71.773732 | R18: 63.869524 | AC18: {=LINEST(AH9:AH12,LN(AG9:AG12))} -> 17.556095 | AD18: -16.006072 | AL18: =I21-$R21 -> 1.1606886 | AM18: =J21-$R21 -> 4.1344776 | AN18: =K21-$R21 -> 6.7295413 | AO18: =L21-$R21 -> -3.3140886 | AP18: =M21-$R21 -> -9.7764627 | AQ18: =N21-$R21 -> -12.336374 | AR18: =O21-$R21 -> -17.622489 | AS18: =P21-$R21 -> -30.583269
B19: 60 | C19: 62.463574 | D19: 180.53564 | E19: 60 | F19: 69.368287 | G19: 189.90237 | H19: 57.836187 | I19: 66.395548 | J19: 66.175788 | K19: 71.240017 | L19: 62.489615 | M19: 53.580581 | N19: 52.419697 | O19: 48.257442 | P19: 37.11304 | Q19: 73.812877 | R19: 65.918141 | AL19: =I22-$R22 -> 1.60323 | AM19: =J22-$R22 -> 5.1456513 | AN19: =K22-$R22 -> 7.6839133 | AO19: =L22-$R22 -> -4.4267558 | AP19: =M22-$R22 -> -10.379509 | AQ19: =N22-$R22 -> -13.259853 | AR19: =O22-$R22 -> -18.536531 | AS19: =P22-$R22 -> -29.417564
B20: 40 | C20: 53.251415 | D20: 14.652642 | E20: 40 | F20: 60.982403 | G20: 17.819977 | H20: 26.51749 | I20: 55.457044 | J20: 57.508647 | K20: 58.426227 | L20: 50.942111 | M20: 44.6212 | N20: 42.519805 | O20: 37.397932 | P20: 24.831121 | Q20: 62.522881 | R20: 53.344068 | AC20: Mitoituspisteen tilavuusvirta (tuloilma) | AL20: =I23-$R23 -> 1.5748277 | AM20: =J23-$R23 -> 5.8050215 | AN20: =K23-$R23 -> 8.0652802 | AO20: =L23-$R23 -> -4.8309145 | AP20: =M23-$R23 -> -10.593648 | AQ20: =N23-$R23 -> -15.032081 | AR20: =O23-$R23 -> -20.506827 | AS20: =P23-$R23 -> -32.919256 | AW20: Lähin mitoituspistettä
B21: 40 | C21: 49.21957 | D21: 32.244089 | E21: 40 | F21: 57.873575 | G21: 34.720004 | H21: 26.221126 | I21: 55.55825 | J21: 58.532039 | K21: 61.127103 | L21: 51.083473 | M21: 44.621099 | N21: 42.061188 | O21: 36.775072 | P21: 23.814292 | Q21: 64.061135 | R21: 54.397561 | AC21: ='Laskenta tulopuoli'!I24 -> 84 | AD21: dm³/s | AE21: -----> | AF21: LwA | AG21: =AC18*LN(AC21)+AD18 -> 61.781768 | AH21: dB | AI21: Tulokanava | AK21: 10 | AL21: =ROUND(AVERAGE(AL5:AL8),0) -> 1 | AM21: =ROUND(AVERAGE(AM5:AM8),0) -> -2 | AN21: =ROUND(AVERAGE(AN5:AN8),0) -> -5 | AO21: =ROUND(AVERAGE(AO5:AO8),0) -> 1 | AP21: =ROUND(AVERAGE(AP5:AP8),0) -> -11 | AQ21: =ROUND(AVERAGE(AQ5:AQ8),0) -> -12 | AR21: =ROUND(AVERAGE(AR5:AR8),0) -> -13 | AS21: =ROUND(AVERAGE(AS5:AS8),0) -> -23 | AT21: {=10*LOG10(SUM(10^((AL21:AS21+$AL$128:$AS$128)/10)))} -> -0.48509643 | AU21: =IF(ABS(AT21)<0.5,"OK","TARKASTA") -> OK | AW21: =ABS(AK21-'Laskenta tulopuoli'!$N$64) -> 4.2112996
B22: 40 | C22: 44.451053 | D22: 49.933366 | E22: 40 | F22: 52.539269 | G22: 55.25449 | H22: 25.86222 | I22: 56.833908 | J22: 60.376329 | K22: 62.914591 | L22: 50.803922 | M22: 44.851169 | N22: 41.970824 | O22: 36.694147 | P22: 25.813114 | Q22: 65.683184 | R22: 55.230678 | AK22: 8 | AL22: =ROUND(AVERAGE(AL9:AL12),0) -> 1 | AM22: =ROUND(AVERAGE(AM9:AM12),0) -> 0 | AN22: =ROUND(AVERAGE(AN9:AN12),0) -> -2 | AO22: =ROUND(AVERAGE(AO9:AO12),0) -> 1 | AP22: =ROUND(AVERAGE(AP9:AP12),0) -> -9 | AQ22: =ROUND(AVERAGE(AQ9:AQ12),0) -> -10 | AR22: =ROUND(AVERAGE(AR9:AR12),0) -> -13 | AS22: =ROUND(AVERAGE(AS9:AS12),0) -> -23 | AT22: {=10*LOG10(SUM(10^((AL22:AS22+$AL$128:$AS$128)/10)))} -> 0.17837454 | AU22: =IF(ABS(AT22)<0.5,"OK","TARKASTA") -> OK | AW22: =ABS(AK22-'Laskenta tulopuoli'!$N$64) -> 2.2112996
B23: 40 | C23: 38.270824 | D23: 69.716154 | E23: 40 | F23: 44.748956 | G23: 77.701926 | H23: 25.383526 | I23: 58.101221 | J23: 62.331414 | K23: 64.591673 | L23: 51.695478 | M23: 45.932745 | N23: 41.494312 | O23: 36.019566 | P23: 23.607137 | Q23: 67.356154 | R23: 56.526393 | AK23: 6 | AL23: =ROUND(AVERAGE(AL14:AL16),0) -> 1 | AM23: =ROUND(AVERAGE(AM14:AM16),0) -> 1 | AN23: =ROUND(AVERAGE(AN14:AN16),0) -> 4 | AO23: =ROUND(AVERAGE(AO13:AO16),0) -> -2 | AP23: =ROUND(AVERAGE(AP13:AP16),0) -> -10 | AQ23: =ROUND(AVERAGE(AQ13:AQ16),0) -> -11 | AR23: =ROUND(AVERAGE(AR13:AR16),0) -> -15 | AS23: =ROUND(AVERAGE(AS13:AS16),0) -> -26 | AT23: {=10*LOG10(SUM(10^((AL23:AS23+$AL$128:$AS$128)/10)))} -> -0.31924291 | AU23: =IF(ABS(AT23)<0.5,"OK","TARKASTA") -> OK | AW23: =ABS(AK23-'Laskenta tulopuoli'!$N$64) -> 0.21129963
AK24: 4 | AL24: =ROUND(AVERAGE(AL17:AL20),0) -> 2 | AM24: =ROUND(AVERAGE(AM17:AM19),0) -> 4 | AN24: =ROUND(AVERAGE(AN17:AN19),0) -> 6 | AO24: =ROUND(AVERAGE(AO17:AO20),0) -> -4 | AP24: =ROUND(AVERAGE(AP17:AP20),0) -> -10 | AQ24: =ROUND(AVERAGE(AQ17:AQ20),0) -> -13 | AR24: =ROUND(AVERAGE(AR17:AR20),0) -> -18 | AS24: =ROUND(AVERAGE(AS17:AS20),0) -> -30 | AT24: {=10*LOG10(SUM(10^((AL24:AS24+$AL$128:$AS$128)/10)))} -> -0.033366337 | AU24: =IF(ABS(AT24)<0.5,"OK","TARKASTA") -> OK | AW24: =ABS(AK24-'Laskenta tulopuoli'!$N$64) -> 1.7887004
AK25: Valinta | AL25: {=INDEX(AL21:AL24,$AW$25)} -> 1 | AM25: {=INDEX(AM21:AM24,$AW$25)} -> 1 | AN25: {=INDEX(AN21:AN24,$AW$25)} -> 4 | AO25: {=INDEX(AO21:AO24,$AW$25)} -> -2 | AP25: {=INDEX(AP21:AP24,$AW$25)} -> -10 | AQ25: {=INDEX(AQ21:AQ24,$AW$25)} -> -11 | AR25: {=INDEX(AR21:AR24,$AW$25)} -> -15 | AS25: {=INDEX(AS21:AS24,$AW$25)} -> -26 | AT25: Lwtot | AU25: LwA,tot | AW25: =MATCH(MIN(AW21:AW24),AW21:AW24,0) -> 3
AK26: Lopputulos | AL26: =$AG$21+AL25 -> 62.781768 | AM26: =$AG$21+AM25 -> 62.781768 | AN26: =$AG$21+AN25 -> 65.781768 | AO26: =$AG$21+AO25 -> 59.781768 | AP26: =$AG$21+AP25 -> 51.781768 | AQ26: =$AG$21+AQ25 -> 50.781768 | AR26: =$AG$21+AR25 -> 46.781768 | AS26: =$AG$21+AS25 -> 35.781768 | AT26: {=10*LOG10(SUM(10^(AL26:AS26/10)))} -> 69.471301 | AU26: {=10*LOG10(SUM(10^((AL26:AS26+$AL$128:$AS$128)/10)))} -> 61.462525
B28: ULKOKANAVA | AL28: =I30 -> 63 Hz | AM28: =J30 -> 125 Hz | AN28: =K30 -> 250 Hz | AO28: =L30 -> 500 Hz | AP28: =M30 -> 1 kHz | AQ28: =N30 -> 2 kHz | AR28: =O30 -> 4 kHz | AS28: =P30 -> 8 kHz
B29: Tulopuoli | E29: Poistopuoli | H29: P* [W] | I29: Äänitehotasot oktaavikaistoittain LW,okt [dB] | Q29: LW,kok** [dB] | R29: LW,A,kok** [dB] | AC29: Äänikäyrien sovitteet, 1. asteen lineaarinen sovite | AK29: 10 V | AL29: =I32-$R32 -> 7.3318069 | AM29: =J32-$R32 -> 3.8104216 | AN29: =K32-$R32 -> 1.1707486 | AO29: =L32-$R32 -> -0.94068924 | AP29: =M32-$R32 -> -6.9849721 | AQ29: =N32-$R32 -> -9.6118126 | AR29: =O32-$R32 -> -15.061993 | AS29: =P32-$R32 -> -24.080953
B30: Uohj [V] | C30: qV [dm3/s] | D30: pd [Pa] | E30: Uohj [V] | F30: qV [dm3/s] | G30: pd [Pa] | I30: 63 Hz | J30: 125 Hz | K30: 250 Hz | L30: 500 Hz | M30: 1 kHz | N30: 2 kHz | O30: 4 kHz | P30: 8 kHz | AC30: y = LwA, x = qV --> y = Ax+B | AL30: =I33-$R33 -> 6.4689745 | AM30: =J33-$R33 -> 5.7577056 | AN30: =K33-$R33 -> 1.8133902 | AO30: =L33-$R33 -> -1.1452986 | AP30: =M33-$R33 -> -7.0186067 | AQ30: =N33-$R33 -> -9.3782037 | AR30: =O33-$R33 -> -17.317641 | AS30: =P33-$R33 -> -26.214387
AG31: Mitoituspisteen verkkokäyrä | AL31: =I34-$R34 -> 7.3473301 | AM31: =J34-$R34 -> 6.7107013 | AN31: =K34-$R34 -> 1.7597105 | AO31: =L34-$R34 -> -0.5467806 | AP31: =M34-$R34 -> -7.2731553 | AQ31: =N34-$R34 -> -10.369304 | AR31: =O34-$R34 -> -19.849771 | AS31: =P34-$R34 -> -29.271136
B32: 100 | C32: 151.40938 | D32: 102.37758 | E32: 100 | F32: 156.77203 | G32: 104.77336 | H32: 178.56231 | I32: 70.484757 | J32: 66.963372 | K32: 64.323699 | L32: 62.212261 | M32: 56.167978 | N32: 53.541138 | O32: 48.090957 | P32: 39.071998 | Q32: 73.270218 | R32: 63.15295 | AC32: Vohj | AD32: A | AE32: B | AG32: qV | AH32: LwA | AL32: =I35-$R35 -> 7.7862462 | AM32: =J35-$R35 -> 5.5042269 | AN32: =K35-$R35 -> 0.031680401 | AO32: =L35-$R35 -> 0.68423522 | AP32: =M35-$R35 -> -7.3653596 | AQ32: =N35-$R35 -> -11.859376 | AR32: =O35-$R35 -> -21.112559 | AS32: =P35-$R35 -> -29.770889
B33: 100 | C33: 136.37637 | D33: 226.61627 | E33: 100 | F33: 144.06222 | G33: 223.80911 | H33: 178.80434 | I33: 68.927564 | J33: 68.216295 | K33: 64.27198 | L33: 61.313291 | M33: 55.439983 | N33: 53.080386 | O33: 45.140949 | P33: 36.244203 | Q33: 72.801471 | R33: 62.45859 | AC33: 10 | AD33: {=LINEST(R32:R35,C32:C35)} -> -0.0015341895 | AE33: 63.008593 | AG33: =AG9 -> 145.65364 | AH33: =AD33*AG33+AE33 -> 62.785132 | AK33: 8 V | AL33: =I36-$R36 -> 4.5679221 | AM33: =J36-$R36 -> 3.8338804 | AN33: =K36-$R36 -> 1.9591042 | AO33: =L36-$R36 -> -1.018281 | AP33: =M36-$R36 -> -6.9174288 | AQ33: =N36-$R36 -> -8.7632662 | AR33: =O36-$R36 -> -18.255005 | AS33: =P36-$R36 -> -28.150009
B34: 100 | C34: 121.08624 | D34: 344.96427 | E34: 100 | F34: 129.53873 | G34: 343.67252 | H34: 179.05051 | I34: 69.740433 | J34: 69.103804 | K34: 64.152813 | L34: 61.846322 | M34: 55.119947 | N34: 52.023798 | O34: 42.543331 | P34: 33.121966 | Q34: 73.461838 | R34: 62.393102 | AC34: 8 | AD34: {=LINEST(R36:R39,C36:C39)} -> -0.07934017 | AE34: 69.928234 | AG34: =AG10 -> 123.49583 | AH34: =AD34*AG34+AE34 -> 60.130054 | AL34: =I37-$R37 -> 5.1671967 | AM34: =J37-$R37 -> 6.7648357 | AN34: =K37-$R37 -> 2.4863645 | AO34: =L37-$R37 -> -1.0203752 | AP34: =M37-$R37 -> -7.3181668 | AQ34: =N37-$R37 -> -9.449767 | AR34: =O37-$R37 -> -19.96177 | AS34: =P37-$R37 -> -29.422554
B35: 100 | C35: 105.31714 | D35: 460.03002 | E35: 100 | F35: 113.57469 | G35: 461.52845 | H35: 179.30439 | I35: 71.027112 | J35: 68.745092 | K35: 63.272546 | L35: 63.9251 | M35: 55.875506 | N35: 51.381489 | O35: 42.128306 | P35: 33.469977 | Q35: 74.03032 | R35: 63.240865 | AC35: 6 | AD35: {=LINEST(R40:R43,C40:C43)} -> -0.060252306 | AE35: 62.326596 | AG35: =AG11 -> 86.508693 | AH35: =AD35*AG35+AE35 -> 57.114248 | AL35: =I38-$R38 -> 6.1371776 | AM35: =J38-$R38 -> 5.9258733 | AN35: =K38-$R38 -> 0.94358934 | AO35: =L38-$R38 -> 0.91144993 | AP35: =M38-$R38 -> -8.2304336 | AQ35: =N38-$R38 -> -11.036178 | AR35: =O38-$R38 -> -22.099923 | AS35: =P38-$R38 -> -31.399157
B36: 80 | C36: 128.18425 | D36: 73.263269 | E36: 80 | F36: 133.37039 | G36: 75.260818 | H36: 120.824 | I36: 64.961475 | J36: 64.227434 | K36: 62.352658 | L36: 59.375272 | M36: 53.476125 | N36: 51.630287 | O36: 42.138549 | P36: 32.243544 | Q36: 69.421323 | R36: 60.393553 | AC36: 4 | AD36: {=LINEST(R44:R47,C44:C47)} -> -0.053418063 | AE36: 50.006703 | AG36: =AG12 -> 52.069138 | AH36: =AD36*AG36+AE36 -> 47.225271 | AL36: =I39-$R39 -> 2.766683 | AM36: =J39-$R39 -> 2.1695389 | AN36: =K39-$R39 -> -1.2721396 | AO36: =L39-$R39 -> 3.0226529 | AP36: =M39-$R39 -> -10.535366 | AQ36: =N39-$R39 -> -14.417209 | AR36: =O39-$R39 -> -25.030728 | AS36: =P39-$R39 -> -34.349975
B37: 80 | C37: 116.15076 | D37: 164.85021 | E37: 80 | F37: 122.89538 | G37: 163.50217 | H37: 121.53966 | I37: 65.435401 | J37: 67.03304 | K37: 62.754569 | L37: 59.247829 | M37: 52.950038 | N37: 50.818437 | O37: 40.306434 | P37: 30.845651 | Q37: 70.645489 | R37: 60.268204 | AK37: 6 V | AL37: =I40-$R40 -> 2.8988875 | AM37: =J40-$R40 -> 1.4338422 | AN37: =K40-$R40 -> -0.97627245 | AO37: =L40-$R40 -> 2.3317748 | AP37: =M40-$R40 -> -8.8254611 | AQ37: =N40-$R40 -> -10.087026 | AR37: =O40-$R40 -> -22.093315 | AS37: =P40-$R40 -> -32.215608
B38: 80 | C38: 103.26289 | D38: 249.68371 | E38: 80 | F38: 110.3684 | G38: 251.6658 | H38: 121.182 | I38: 66.945498 | J38: 66.734194 | K38: 61.75191 | L38: 61.719771 | M38: 52.577887 | N38: 49.772143 | O38: 38.708397 | P38: 29.409164 | Q38: 71.116213 | R38: 60.808321 | AC38: Sovite mitoituspisteen verkkokäyrän äänipisteistä | AL38: =I41-$R41 -> 4.691402 | AM38: =J41-$R41 -> 4.4674292 | AN38: =K41-$R41 -> 1.4174035 | AO38: =L41-$R41 -> 0.72506595 | AP38: =M41-$R41 -> -8.1499911 | AQ38: =N41-$R41 -> -10.194593 | AR38: =O41-$R41 -> -21.182139 | AS38: =P41-$R41 -> -29.222757
B39: 80 | C39: 89.533392 | D39: 329.93692 | E39: 80 | F39: 96.281441 | G39: 337.01429 | H39: 119.52192 | I39: 66.327471 | J39: 65.730327 | K39: 62.288648 | L39: 66.583441 | M39: 53.025422 | N39: 49.143579 | O39: 38.53006 | P39: 29.210813 | Q39: 71.635284 | R39: 63.560788 | AC39: Logaritmisovite y = A ln(x) + B | AG39: 2. polynomisovite | AL39: =I42-$R42 -> 2.7142961 | AM39: =J42-$R42 -> 3.2536253 | AN39: =K42-$R42 -> 2.4619588 | AO39: =L42-$R42 -> 0.96544275 | AP39: =M42-$R42 -> -9.6321609 | AQ39: =N42-$R42 -> -12.024236 | AR39: =O42-$R42 -> -23.430077 | AS39: =P42-$R42 -> -31.697855
B40: 60 | C40: 89.083669 | D40: 37.697502 | E40: 60 | F40: 96.242814 | G40: 40.597467 | H40: 58.458238 | I40: 60.578702 | J40: 59.113657 | K40: 56.703542 | L40: 60.01159 | M40: 48.854354 | N40: 47.592788 | O40: 35.5865 | P40: 25.464206 | Q40: 65.52297 | R40: 57.679815 | AC40: y = LwA, x = qV | AG40: y = LwA, x = qV | AL40: =I43-$R43 -> 1.5015502 | AM40: =J43-$R43 -> 1.8236804 | AN40: =K43-$R43 -> 2.9020931 | AO40: =L43-$R43 -> 1.2431 | AP40: =M43-$R43 -> -10.476165 | AQ40: =N43-$R43 -> -15.292684 | AR40: =O43-$R43 -> -26.352934 | AS40: =P43-$R43 -> -33.148509
B41: 60 | C41: 81.635487 | D41: 84.867218 | E41: 60 | F41: 89.636625 | G41: 88.753182 | H41: 58.68402 | I41: 61.247003 | J41: 61.02303 | K41: 57.973005 | L41: 57.280667 | M41: 48.40561 | N41: 46.361008 | O41: 35.373462 | P41: 27.332844 | Q41: 65.884326 | R41: 56.555601 | AC41: A | AD41: B | AG41: A | AH41: B | AI41: C | AK41: 4 V | AL41: =I44-$R44 -> 6.9595606 | AM41: =J44-$R44 -> 5.4174497 | AN41: =K44-$R44 -> 1.8244 | AO41: =L44-$R44 -> -4.1553768 | AP41: =M44-$R44 -> -3.4722725 | AQ41: =N44-$R44 -> -12.688631 | AR41: =O44-$R44 -> -25.890935 | AS41: =P44-$R44 -> -25.550094
B42: 60 | C42: 73.240485 | D42: 130.14187 | E42: 60 | F42: 80.894602 | G42: 137.78007 | H42: 58.566093 | I42: 60.290734 | J42: 60.830063 | K42: 60.038397 | L42: 58.541881 | M42: 47.944277 | N42: 45.552202 | O42: 34.146361 | P42: 25.878583 | Q42: 66.13284 | R42: 57.576438 | AC42: {=LINEST(AH33:AH36,LN(AG33:AG36))} -> 14.730898 | AD42: -10.24968 | AG42: {=LINEST(AH33:AH36,AG33:AG36^{1,2})} -> -0.0016085633 | AH42: 0.47522247 | AI42: 27.137737 | AL42: =I45-$R45 -> 9.3474977 | AM42: =J45-$R45 -> 11.450753 | AN42: =K45-$R45 -> 1.998095 | AO42: =L45-$R45 -> -5.0891433 | AP42: =M45-$R45 -> -4.461141 | AQ42: =N45-$R45 -> -14.631421 | AR42: =O45-$R45 -> -21.309918 | AS42: =P45-$R45 -> -22.596462
B43: 60 | C43: 64.14579 | D43: 173.11183 | E43: 60 | F43: 71.049424 | G43: 182.9042 | H43: 57.99296 | I43: 60.432018 | J43: 60.754148 | K43: 61.832561 | L43: 60.173568 | M43: 48.454303 | N43: 43.637784 | O43: 32.577533 | P43: 25.781959 | Q43: 66.950706 | R43: 58.930468 | AL43: =I46-$R46 -> 8.593764 | AM43: =J46-$R46 -> 7.4086581 | AN43: =K46-$R46 -> 4.2746264 | AO43: =L46-$R46 -> -4.0955277 | AP43: =M46-$R46 -> -4.6493435 | AQ43: =N46-$R46 -> -15.018673 | AR43: =O46-$R46 -> -20.907004 | AS43: =P46-$R46 -> -22.053759
B44: 40 | C44: 53.456188 | D44: 13.667847 | E44: 40 | F44: 61.08161 | G44: 17.151838 | H44: 26.532369 | I44: 53.847365 | J44: 52.305255 | K44: 48.712205 | L44: 42.732428 | M44: 43.415532 | N44: 34.199174 | O44: 20.99687 | P44: 21.337711 | Q44: 57.246785 | R44: 46.887805 | AC44: Mitoituspisteen tilavuusvirta (tuloilma) | AL44: =I47-$R47 -> 5.3387636 | AM44: =J47-$R47 -> 6.6372444 | AN44: =K47-$R47 -> 5.1685425 | AO44: =L47-$R47 -> -3.7507601 | AP44: =M47-$R47 -> -4.8149245 | AQ44: =N47-$R47 -> -16.238464 | AR44: =O47-$R47 -> -21.609813 | AS44: =P47-$R47 -> -22.59442
B45: 40 | C45: 49.393908 | D45: 31.542599 | E45: 40 | F45: 57.573293 | G45: 36.079449 | H45: 26.234076 | I45: 57.246171 | J45: 59.349427 | K45: 49.896769 | L45: 42.80953 | M45: 43.437533 | N45: 33.267253 | O45: 26.588756 | P45: 25.302212 | Q45: 61.855503 | R45: 47.898674 | AC45: =AC21 -> 84 | AD45: dm³/s | AE45: -----> | AF45: LwA | AG45: =AVERAGE(AD48:AD49) -> 55.363316 | AH45: dB | AI45: Ulkokanava | AK45: 10 | AL45: =ROUND(AVERAGE(AL29:AL32),0) -> 7 | AM45: =ROUND(AVERAGE(AM29:AM32),0) -> 5 | AN45: =ROUND(AVERAGE(AN29:AN32),0) -> 1 | AO45: =ROUND(AVERAGE(AO29:AO32),0) -> 0 | AP45: =ROUND(AVERAGE(AP29:AP32),0) -> -7 | AQ45: =ROUND(AVERAGE(AQ29:AQ32),0) -> -10 | AR45: =ROUND(AVERAGE(AR29:AR32),0) -> -18 | AS45: =ROUND(AVERAGE(AS29:AS32),0) -> -27 | AT45: {=10*LOG10(SUM(10^((AL45:AS45+$AL$128:$AS$128)/10)))} -> 0.3937877 | AU45: =IF(ABS(AT45)<0.5,"OK","TARKASTA") -> OK
B46: 40 | C46: 44.57118 | D46: 49.518176 | E46: 40 | F46: 52.354409 | G46: 55.865201 | H46: 25.871373 | I46: 55.910231 | J46: 54.725125 | K46: 51.591093 | L46: 43.220939 | M46: 42.667123 | N46: 32.297793 | O46: 26.409463 | P46: 25.262707 | Q46: 59.410087 | R46: 47.316467 | AK46: 8 | AL46: =ROUND(AVERAGE(AL33:AL36),0) -> 5 | AM46: =ROUND(AVERAGE(AM33:AM36),0) -> 5 | AN46: =ROUND(AVERAGE(AN33:AN36),0) -> 1 | AO46: =ROUND(AVERAGE(AO33:AO36),0) -> 0 | AP46: =ROUND(AVERAGE(AP33:AP36),0) -> -8 | AQ46: =ROUND(AVERAGE(AQ33:AQ36),0) -> -11 | AR46: =ROUND(AVERAGE(AR33:AR36),0) -> -21 | AS46: =ROUND(AVERAGE(AS33:AS36),0) -> -31 | AT46: {=10*LOG10(SUM(10^((AL46:AS46+$AL$128:$AS$128)/10)))} -> 0.049398809 | AU46: =IF(ABS(AT46)<0.5,"OK","TARKASTA") -> OK
B47: 40 | C47: 39.396985 | D47: 66.314893 | E47: 40 | F47: 45.734922 | G47: 75.157193 | H47: 25.471892 | I47: 53.283162 | J47: 54.581642 | K47: 53.11294 | L47: 44.193638 | M47: 43.129474 | N47: 31.705934 | O47: 26.334585 | P47: 25.349978 | Q47: 58.773789 | R47: 47.944398 | AC47: LwA | AK47: 6 | AL47: =ROUND(AVERAGE(AL37:AL40),0) -> 3 | AM47: =ROUND(AVERAGE(AM37:AM40),0) -> 3 | AN47: =ROUND(AVERAGE(AN37:AN40),0) -> 1 | AO47: =ROUND(AVERAGE(AO37:AO40),0) -> 1 | AP47: =ROUND(AVERAGE(AP37:AP40),0) -> -9 | AQ47: =ROUND(AVERAGE(AQ37:AQ40),0) -> -12 | AR47: =ROUND(AVERAGE(AR37:AR40),0) -> -23 | AS47: =ROUND(AVERAGE(AS37:AS40),0) -> -32 | AT47: {=10*LOG10(SUM(10^((AL47:AS47+$AL$128:$AS$128)/10)))} -> 0.1952011 | AU47: =IF(ABS(AT47)<0.5,"OK","TARKASTA") -> OK
AC48: Log | AD48: =AC42*LN(AC45)+AD42 -> 55.02023 | AE48: dB | AK48: 4 | AL48: =ROUND(AVERAGE(AL41:AL44),0) -> 8 | AM48: =ROUND(AVERAGE(AM41:AM44),0) -> 8 | AN48: =ROUND(AVERAGE(AN41:AN44),0) -> 3 | AO48: =ROUND(AVERAGE(AO41:AO44),0) -> -4 | AP48: =ROUND(AVERAGE(AP41:AP44),0) -> -4 | AQ48: =ROUND(AVERAGE(AQ41:AQ44),0) -> -15 | AR48: =ROUND(AVERAGE(AR41:AR44),0) -> -22 | AS48: -32 | AT48: {=10*LOG10(SUM(10^((AL48:AS48+$AL$128:$AS$128)/10)))} -> 0.35114765 | AU48: =IF(ABS(AT48)<0.5,"OK","TARKASTA") -> OK | AV48: Käsin
AC49: Poly | AD49: =AG42*AC45^2+AH42*AC45+AI42 -> 55.706402 | AE49: dB | AK49: Valinta | AL49: {=INDEX(AL45:AL48,$AW$25)} -> 3 | AM49: {=INDEX(AM45:AM48,$AW$25)} -> 3 | AN49: {=INDEX(AN45:AN48,$AW$25)} -> 1 | AO49: {=INDEX(AO45:AO48,$AW$25)} -> 1 | AP49: {=INDEX(AP45:AP48,$AW$25)} -> -9 | AQ49: {=INDEX(AQ45:AQ48,$AW$25)} -> -12 | AR49: {=INDEX(AR45:AR48,$AW$25)} -> -23 | AS49: {=INDEX(AS45:AS48,$AW$25)} -> -32 | AT49: Lwtot | AU49: LwA,tot
AK50: Lopputulos | AL50: =$AG$45+AL49 -> 58.363316 | AM50: =$AG$45+AM49 -> 58.363316 | AN50: =$AG$45+AN49 -> 56.363316 | AO50: =$AG$45+AO49 -> 56.363316 | AP50: =$AG$45+AP49 -> 46.363316 | AQ50: =$AG$45+AQ49 -> 43.363316 | AR50: =$AG$45+AR49 -> 32.363316 | AS50: =$AG$45+AS49 -> 23.363316 | AT50: {=10*LOG10(SUM(10^(AL50:AS50/10)))} -> 63.626012 | AU50: {=10*LOG10(SUM(10^((AL50:AS50+$AL$128:$AS$128)/10)))} -> 55.558517
B52: POISTOKANAVA | AL52: =I54 -> 63 Hz | AM52: =J54 -> 125 Hz | AN52: =K54 -> 250 Hz | AO52: =L54 -> 500 Hz | AP52: =M54 -> 1 kHz | AQ52: =N54 -> 2 kHz | AR52: =O54 -> 4 kHz | AS52: =P54 -> 8 kHz
B53: Tulopuoli | E53: Poistopuoli | H53: P* [W] | I53: Äänitehotasot oktaavikaistoittain LW,okt [dB] | Q53: LW,kok** [dB] | R53: LW,A,kok** [dB] | AC53: Äänikäyrien sovitteet, 1. asteen lineaarinen sovite | AK53: 10 V | AL53: =I56-$R56 -> 7.5802088 | AM53: =J56-$R56 -> 4.4399973 | AN53: =K56-$R56 -> 0.31907751 | AO53: =L56-$R56 -> -0.091324477 | AP53: =M56-$R56 -> -5.2218623 | AQ53: =N56-$R56 -> -12.791129 | AR53: =O56-$R56 -> -21.855002 | AS53: =P56-$R56 -> -31.76662
B54: Uohj [V] | C54: qV [dm3/s] | D54: pd [Pa] | E54: Uohj [V] | F54: qV [dm3/s] | G54: pd [Pa] | I54: 63 Hz | J54: 125 Hz | K54: 250 Hz | L54: 500 Hz | M54: 1 kHz | N54: 2 kHz | O54: 4 kHz | P54: 8 kHz | AC54: y = LwA, x = qV --> y = Ax+B | AL54: =I57-$R57 -> 8.8098097 | AM54: =J57-$R57 -> 5.4107222 | AN54: =K57-$R57 -> 2.2924573 | AO54: =L57-$R57 -> -0.43885689 | AP54: =M57-$R57 -> -6.4884561 | AQ54: =N57-$R57 -> -12.617703 | AR54: =O57-$R57 -> -21.758666 | AS54: =P57-$R57 -> -32.390242
AG55: Mitoituspisteen verkkokäyrä | AL55: =I58-$R58 -> 8.6820846 | AM55: =J58-$R58 -> 5.9472137 | AN55: =K58-$R58 -> 3.4881109 | AO55: =L58-$R58 -> -1.1253749 | AP55: =M58-$R58 -> -6.6291194 | AQ55: =N58-$R58 -> -13.551465 | AR55: =O58-$R58 -> -22.037093 | AS55: =P58-$R58 -> -33.518722
B56: 100 | C56: 151.539 | D56: 101.26739 | E56: 100 | F56: 157.0386 | G56: 102.09243 | H56: 184.6074 | I56: 72.304964 | J56: 69.164753 | K56: 65.043833 | L56: 64.633431 | M56: 59.502893 | N56: 51.933627 | O56: 42.869754 | P56: 32.958135 | Q56: 75.108426 | R56: 64.724755 | AC56: Vohj | AD56: A | AE56: B | AG56: qV | AH56: LwA | AL56: =I59-$R59 -> 6.7850256 | AM56: =J59-$R59 -> 5.4871243 | AN56: =K59-$R59 -> 2.1490786 | AO56: =L59-$R59 -> 0.22764374 | AP56: =M59-$R59 -> -6.8543413 | AQ56: =N59-$R59 -> -13.62792 | AR56: =O59-$R59 -> -20.028443 | AS56: =P59-$R59 -> -31.610149
B57: 100 | C57: 136.16184 | D57: 228.3289 | E57: 100 | F57: 143.77222 | G57: 226.35065 | H57: 184.64057 | I57: 72.747048 | J57: 69.347961 | K57: 66.229696 | L57: 63.498382 | M57: 57.448783 | N57: 51.319536 | O57: 42.178573 | P57: 31.546996 | Q57: 75.387492 | R57: 63.937239 | AC57: 10 | AD57: {=LINEST(R56:R59,F56:F59)} -> -0.0022287691 | AE57: 64.725944 | AG57: ='Laskenta poistopuoli'!O45 -> 150.57772 | AH57: =AD57*AG57+AE57 -> 64.390341 | AK57: 8 V | AL57: =I60-$R60 -> 5.9708688 | AM57: =J60-$R60 -> 5.2174694 | AN57: =K60-$R60 -> 2.2013954 | AO57: =L60-$R60 -> -0.74073096 | AP57: =M60-$R60 -> -6.7258012 | AQ57: =N60-$R60 -> -12.306716 | AR57: =O60-$R60 -> -22.917509 | AS57: =P60-$R60 -> -33.274898
B58: 100 | C58: 121.55151 | D58: 341.46771 | E58: 100 | F58: 129.78687 | G58: 341.73795 | H58: 184.67553 | I58: 73.036249 | J58: 70.301378 | K58: 67.842275 | L58: 63.228789 | M58: 57.725045 | N58: 50.802699 | O58: 42.317072 | P58: 30.835443 | Q58: 75.994135 | R58: 64.354164 | AC58: 8 | AD58: {=LINEST(R60:R63,F60:F63)} -> -0.046988099 | AE58: 68.04617 | AG58: ='Laskenta poistopuoli'!O46 -> 128.16694 | AH58: =AD58*AG58+AE58 -> 62.023849 | AL58: =I61-$R61 -> 5.7146722 | AM58: =J61-$R61 -> 5.1552211 | AN58: =K61-$R61 -> 5.3809856 | AO58: =L61-$R61 -> -1.519552 | AP58: =M61-$R61 -> -8.0127101 | AQ58: =N61-$R61 -> -14.003271 | AR58: =O61-$R61 -> -23.982438 | AS58: =P61-$R61 -> -34.034668
B59: 100 | C59: 107.19044 | D59: 446.69245 | E59: 100 | F59: 115.14683 | G59: 450.44582 | H59: 184.71213 | I59: 71.456305 | J59: 70.158404 | K59: 66.820358 | L59: 64.898923 | M59: 57.816938 | N59: 51.04336 | O59: 44.642837 | P59: 33.06113 | Q59: 75.187374 | R59: 64.671279 | AC59: 6 | AD59: {=LINEST(R64:R67,F64:F67)} -> -0.025578195 | AE59: 62.348561 | AG59: ='Laskenta poistopuoli'!O47 -> 92.926643 | AH59: =AD59*AG59+AE59 -> 59.971665 | AL59: =I62-$R62 -> 6.6028437 | AM59: =J62-$R62 -> 5.817668 | AN59: =K62-$R62 -> 3.0202888 | AO59: =L62-$R62 -> 0.53038022 | AP59: =M62-$R62 -> -8.0515637 | AQ59: =N62-$R62 -> -14.213641 | AR59: =O62-$R62 -> -24.646124 | AS59: =P62-$R62 -> -35.871385
B60: 80 | C60: 128.23173 | D60: 72.869834 | E60: 80 | F60: 133.42928 | G60: 74.710109 | H60: 122.91366 | I60: 67.778685 | J60: 67.025285 | K60: 64.009211 | L60: 61.067085 | M60: 55.082015 | N60: 49.5011 | O60: 38.890307 | P60: 28.532918 | Q60: 71.833506 | R60: 61.807816 | AC60: 4 | AD60: {=LINEST(R68:R71,F68:F71)} -> 0.011596106 | AE60: 47.707463 | AG60: ='Laskenta poistopuoli'!O48 -> 58.763814 | AH60: =AD60*AG60+AE60 -> 48.388894 | AL60: =I63-$R63 -> 4.3126923 | AM60: =J63-$R63 -> 4.2403442 | AN60: =K63-$R63 -> 0.12297068 | AO60: =L63-$R63 -> 2.3321471 | AP60: =M63-$R63 -> -9.0314519 | AQ60: =N63-$R63 -> -15.266122 | AR60: =O63-$R63 -> -22.292288 | AS60: =P63-$R63 -> -35.733917
B61: 80 | C61: 115.70517 | D61: 167.97899 | E61: 80 | F61: 122.32953 | G61: 167.82244 | H61: 123.97706 | I61: 68.189856 | J61: 67.630405 | K61: 67.856169 | L61: 60.955632 | M61: 54.462474 | N61: 48.471913 | O61: 38.492746 | P61: 28.440516 | Q61: 73.03067 | R61: 62.475184 | AK61: 6 V | AL61: =I64-$R64 -> 2.5916239 | AM61: =J64-$R64 -> 2.2905632 | AN61: =K64-$R64 -> -0.71059995 | AO61: =L64-$R64 -> 3.1263148 | AP61: =M64-$R64 -> -9.1377153 | AQ61: =N64-$R64 -> -17.636745 | AR61: =O64-$R64 -> -28.942819 | AS61: =P64-$R64 -> -37.418771
B62: 80 | C62: 103.04804 | D62: 251.01049 | E62: 80 | F62: 109.72549 | G62: 255.83199 | H62: 124.19866 | I62: 69.055304 | J62: 68.270128 | K62: 65.472749 | L62: 62.982841 | M62: 54.400897 | N62: 48.238819 | O62: 37.806337 | P62: 26.581076 | Q62: 73.14321 | R62: 62.45246 | AC62: Sovite mitoituspisteen verkkokäyrän äänipisteistä | AL62: =I65-$R65 -> 4.1112193 | AM62: =J65-$R65 -> 2.4308291 | AN62: =K65-$R65 -> 0.53666389 | AO62: =L65-$R65 -> 2.7803451 | AP62: =M65-$R65 -> -8.447215 | AQ62: =N65-$R65 -> -17.918851 | AR62: =O65-$R65 -> -29.741465 | AS62: =P65-$R65 -> -37.819026
B63: 80 | C63: 90.601939 | D63: 323.98986 | E63: 80 | F63: 96.783985 | G63: 334.15808 | H63: 123.33522 | I63: 68.040805 | J63: 67.968457 | K63: 63.851083 | L63: 66.06026 | M63: 54.696661 | N63: 48.461991 | O63: 41.435824 | P63: 27.994195 | Q63: 72.895127 | R63: 63.728112 | AC63: Logaritmisovite y = A ln(x) + B | AG63: 2. polynomisovite | AL63: =I66-$R66 -> 3.6791407 | AM63: =J66-$R66 -> 3.0424233 | AN63: =K66-$R66 -> 1.8056553 | AO63: =L66-$R66 -> 2.0146685 | AP63: =M66-$R66 -> -8.2194368 | AQ63: =N66-$R66 -> -17.347154 | AR63: =O66-$R66 -> -29.638418 | AS63: =P66-$R66 -> -37.434635
B64: 60 | C64: 89.217529 | D64: 36.765182 | E64: 60 | F64: 96.239144 | G64: 40.628877 | H64: 58.79375 | I64: 62.613734 | J64: 62.312673 | K64: 59.31151 | L64: 63.148425 | M64: 50.884395 | N64: 42.385365 | O64: 31.079291 | P64: 22.60334 | Q64: 68.187581 | R64: 60.02211 | AC64: y = LwA, x = qV | AG64: y = LwA, x = qV | AL64: =I67-$R67 -> 2.5858203 | AM64: =J67-$R67 -> 2.2311976 | AN64: =K67-$R67 -> 2.1084716 | AO64: =L67-$R67 -> 2.1410882 | AP64: =M67-$R67 -> -10.463012 | AQ64: =N67-$R67 -> -18.515418 | AR64: =O67-$R67 -> -30.861322 | AS64: =P67-$R67 -> -38.57397
B65: 60 | C65: 81.443814 | D65: 85.979787 | E65: 60 | F65: 89.370393 | G65: 90.435417 | H65: 59.293841 | I65: 64.313537 | J65: 62.633147 | K65: 60.738982 | L65: 62.982663 | M65: 51.755103 | N65: 42.283467 | O65: 30.460853 | P65: 22.383292 | Q65: 68.962167 | R65: 60.202318 | AC65: A | AD65: B | AG65: A | AH65: B | AI65: C | AK65: 4 V | AL65: =I68-$R68 -> 8.7198152 | AM65: =J68-$R68 -> 8.0625322 | AN65: =K68-$R68 -> 2.6859381 | AO65: =L68-$R68 -> -1.8516887 | AP65: =M68-$R68 -> -6.1643435 | AQ65: =N68-$R68 -> -14.440852 | AR65: =O68-$R68 -> -26.939716 | AS65: =P68-$R68 -> -26.052281
B66: 60 | C66: 73.300734 | D66: 129.83881 | E66: 60 | F66: 80.669573 | G66: 138.90773 | H66: 59.548008 | I66: 63.329721 | J66: 62.693003 | K66: 61.456235 | L66: 61.665248 | M66: 51.431143 | N66: 42.303426 | O66: 30.012162 | P66: 22.215945 | Q66: 68.472409 | R66: 59.65058 | AC66: {=LINEST(AH57:AH60,LN(AG57:AG60))} -> 16.541228 | AD66: -17.698457 | AG66: {=LINEST(AH57:AH60,AG57:AG60^{1,2})} -> -0.0022556209 | AH66: 0.63458862 | AI66: 19.272103 | AL66: =I69-$R69 -> 14.409394 | AM66: =J69-$R69 -> 14.46296 | AN66: =K69-$R69 -> 1.76758 | AO66: =L69-$R69 -> -4.6282415 | AP66: =M69-$R69 -> -9.3989227 | AQ66: =N69-$R69 -> -17.02033 | AR66: =O69-$R69 -> -29.987422 | AS66: =P69-$R69 -> -28.359715
B67: 60 | C67: 64.918787 | D67: 169.65127 | E67: 60 | F67: 71.440571 | G67: 181.25079 | H67: 59.354277 | I67: 63.466796 | J67: 63.112173 | K67: 62.989448 | L67: 63.022064 | M67: 50.417964 | N67: 42.365558 | O67: 30.019654 | P67: 22.307006 | Q67: 69.239432 | R67: 60.880976 | AL67: =I70-$R70 -> 17.777381 | AM67: =J70-$R70 -> 8.2113288 | AN67: =K70-$R70 -> 2.6144626 | AO67: =L70-$R70 -> -4.3405138 | AP67: =M70-$R70 -> -8.9663423 | AQ67: =N70-$R70 -> -16.517192 | AR67: =O70-$R70 -> -29.616955 | AS67: =P70-$R70 -> -27.780536
B68: 40 | C68: 53.592262 | D68: 13.007456 | E68: 40 | F68: 60.911031 | G68: 18.293315 | H68: 26.502206 | I68: 55.894716 | J68: 55.237433 | K68: 49.860839 | L68: 45.323213 | M68: 41.010558 | N68: 32.73405 | O68: 20.235185 | P68: 21.12262 | Q68: 59.386268 | R68: 47.174901 | AC68: Mitoituspisteen tilavuusvirta (poistoilma) | AL68: =I71-$R71 -> 8.3438135 | AM68: =J71-$R71 -> 8.6410976 | AN68: =K71-$R71 -> 4.64031 | AO68: =L71-$R71 -> -2.3567197 | AP68: =M71-$R71 -> -7.42718 | AQ68: =N71-$R71 -> -15.196411 | AR68: =O71-$R71 -> -28.173155 | AS68: =P71-$R71 -> -26.203301 | AW68: Lähin mitoituspistettä
B69: 40 | C69: 49.310015 | D69: 31.88073 | E69: 40 | F69: 57.418005 | G69: 36.769502 | H69: 26.362711 | I69: 64.051613 | J69: 64.105178 | K69: 51.409799 | L69: 45.013977 | M69: 40.243296 | N69: 32.621888 | O69: 19.654796 | P69: 21.282504 | Q69: 67.24119 | R69: 49.642219 | AC69: =Tulostus!L36 -> 84 | AD69: dm³/s | AE69: -----> | AF69: LwA | AG69: =AVERAGE(AD72:AD73) -> 56.12729 | AH69: dB | AI69: Poistokanava | AK69: 10 | AL69: =ROUND(AVERAGE(AL53:AL56),0) -> 8 | AM69: =ROUND(AVERAGE(AM53:AM56),0) -> 5 | AN69: =ROUND(AVERAGE(AN53:AN56),0) -> 2 | AO69: =ROUND(AVERAGE(AO53:AO56),0) -> 0 | AP69: =ROUND(AVERAGE(AP53:AP56),0) -> -6 | AQ69: =ROUND(AVERAGE(AQ53:AQ56),0) -> -13 | AR69: =ROUND(AVERAGE(AR53:AR56),0) -> -21 | AS69: =ROUND(AVERAGE(AS53:AS56),0) -> -32 | AT69: {=10*LOG10(SUM(10^((AL69:AS69+$AL$128:$AS$128)/10)))} -> 0.48408529 | AU69: =IF(ABS(AT69)<0.5,"OK","TARKASTA") -> OK | AW69: =ABS(AK69-'Laskenta poistopuoli_W'!$N$55) -> 4.1358937
B70: 40 | C70: 44.730108 | D70: 48.966777 | E70: 40 | F70: 52.036724 | G70: 56.903239 | H70: 26.123929 | I70: 66.763529 | J70: 57.197477 | K70: 51.600611 | L70: 44.645634 | M70: 40.019806 | N70: 32.468956 | O70: 19.369193 | P70: 21.205612 | Q70: 67.369155 | R70: 48.986148 | AF70: Keskiarvo log/poly | AK70: 8 | AL70: =ROUND(AVERAGE(AL57:AL60),0) -> 6 | AM70: =ROUND(AVERAGE(AM57:AM60),0) -> 5 | AN70: =ROUND(AVERAGE(AN57:AN60),0) -> 3 | AO70: =ROUND(AVERAGE(AO57:AO60),0) -> 0 | AP70: =ROUND(AVERAGE(AP57:AP60),0) -> -8 | AQ70: =ROUND(AVERAGE(AQ57:AQ60),0) -> -14 | AR70: =ROUND(AVERAGE(AR57:AR60),0) -> -23 | AS70: =ROUND(AVERAGE(AS57:AS60),0) -> -35 | AT70: {=10*LOG10(SUM(10^((AL70:AS70+$AL$128:$AS$128)/10)))} -> 0.24794535 | AU70: =IF(ABS(AT70)<0.5,"OK","TARKASTA") -> OK | AW70: =ABS(AK70-'Laskenta poistopuoli_W'!$N$55) -> 2.1358937
B71: 40 | C71: 39.957875 | D71: 64.590438 | E71: 40 | F71: 46.130253 | G71: 74.117346 | H71: 25.828508 | I71: 55.880907 | J71: 56.178191 | K71: 52.177403 | L71: 45.180374 | M71: 40.109913 | N71: 32.340682 | O71: 19.363938 | P71: 21.333793 | Q71: 60.053409 | R71: 47.537093 | AC71: LwA | AK71: 6 | AL71: =ROUND(AVERAGE(AL61:AL64),0) -> 3 | AM71: =ROUND(AVERAGE(AM61:AM64),0) -> 2 | AN71: =ROUND(AVERAGE(AN61:AN64),0) -> 1 | AO71: =ROUND(AVERAGE(AO63:AO64),0) -> 2 | AP71: =ROUND(AVERAGE(AP61:AP64),0) -> -9 | AQ71: =ROUND(AVERAGE(AQ61:AQ64),0) -> -18 | AR71: =ROUND(AVERAGE(AR61:AR64),0) -> -30 | AS71: =ROUND(AVERAGE(AS61:AS64),0) -> -38 | AT71: {=10*LOG10(SUM(10^((AL71:AS71+$AL$128:$AS$128)/10)))} -> 0.50849734 | AU71: =IF(ABS(AT71)<0.5,"OK","TARKASTA") -> TARKASTA | AW71: =ABS(AK71-'Laskenta poistopuoli_W'!$N$55) -> 0.13589366
AC72: Log | AD72: =AC66*LN(AC69)+AD66 -> 55.592693 | AE72: dB | AK72: 4 | AL72: =ROUND(AVERAGE(AL65:AL68),0) -> 12 | AM72: =ROUND(AVERAGE(AM65:AM68),0) -> 10 | AN72: =ROUND(AVERAGE(AN65:AN68),0) -> 3 | AO72: =ROUND(AVERAGE(AO65:AO68),0) -> -3 | AP72: =ROUND(AVERAGE(AP65:AP68),0) -> -8 | AQ72: =ROUND(AVERAGE(AQ65:AQ68),0) -> -16 | AR72: =ROUND(AVERAGE(AR65:AR68),0) -> -29 | AS72: -39 | AT72: {=10*LOG10(SUM(10^((AL72:AS72+$AL$128:$AS$128)/10)))} -> -0.034528495 | AU72: =IF(ABS(AT72)<0.5,"OK","TARKASTA") -> OK | AW72: =ABS(AK72-'Laskenta poistopuoli_W'!$N$55) -> 1.8641063
AC73: Poly | AD73: =AG66*AC69^2+AH66*AC69+AI66 -> 56.661886 | AE73: dB | AK73: Valinta | AL73: {=INDEX(AL69:AL72,$AW$73)} -> 3 | AM73: {=INDEX(AM69:AM72,$AW$73)} -> 2 | AN73: {=INDEX(AN69:AN72,$AW$73)} -> 1 | AO73: {=INDEX(AO69:AO72,$AW$73)} -> 2 | AP73: {=INDEX(AP69:AP72,$AW$73)} -> -9 | AQ73: {=INDEX(AQ69:AQ72,$AW$73)} -> -18 | AR73: {=INDEX(AR69:AR72,$AW$73)} -> -30 | AS73: {=INDEX(AS69:AS72,$AW$73)} -> -38 | AT73: Lwtot | AU73: LwA,tot | AW73: =MATCH(MIN(AW69:AW72),AW69:AW72,0) -> 3
AK74: Lopputulos | AL74: =$AG$69+AL73 -> 59.12729 | AM74: =$AG$69+AM73 -> 58.12729 | AN74: =$AG$69+AN73 -> 57.12729 | AO74: =$AG$69+AO73 -> 58.12729 | AP74: =$AG$69+AP73 -> 47.12729 | AQ74: =$AG$69+AQ73 -> 38.12729 | AR74: =$AG$69+AR73 -> 26.12729 | AS74: =$AG$69+AS73 -> 18.12729 | AT74: {=10*LOG10(SUM(10^(AL74:AS74/10)))} -> 64.300877 | AU74: {=10*LOG10(SUM(10^((AL74:AS74+$AL$128:$AS$128)/10)))} -> 56.635787
B76: JÄTEKANAVA | AL76: =I78 -> 63 Hz | AM76: =J78 -> 125 Hz | AN76: =K78 -> 250 Hz | AO76: =L78 -> 500 Hz | AP76: =M78 -> 1 kHz | AQ76: =N78 -> 2 kHz | AR76: =O78 -> 4 kHz | AS76: =P78 -> 8 kHz
B77: Tulopuoli | E77: Poistopuoli | H77: P* [W] | I77: Äänitehotasot oktaavikaistoittain LW,okt [dB] | Q77: LW,kok** [dB] | R77: LW,A,kok** [dB] | AC77: Äänikäyrien sovitteet, 1. asteen lineaarinen sovite | AK77: 10 V | AL77: =I80-$R80 -> 3.8394671 | AM77: =J80-$R80 -> -0.12150646 | AN77: =K80-$R80 -> -1.0809527 | AO77: =L80-$R80 -> -0.94387301 | AP77: =M80-$R80 -> -7.8818595 | AQ77: =N80-$R80 -> -7.191569 | AR77: =O80-$R80 -> -11.243286 | AS77: =P80-$R80 -> -21.985555
B78: Uohj [V] | C78: qV [dm3/s] | D78: pd [Pa] | E78: Uohj [V] | F78: qV [dm3/s] | G78: pd [Pa] | I78: 63 Hz | J78: 125 Hz | K78: 250 Hz | L78: 500 Hz | M78: 1 kHz | N78: 2 kHz | O78: 4 kHz | P78: 8 kHz | AC78: y = LwA, x = qV --> y = Ax+B | AL78: =I81-$R81 -> 1.5171505 | AM78: =J81-$R81 -> -0.97758207 | AN78: =K81-$R81 -> -0.47869268 | AO78: =L81-$R81 -> -0.7312497 | AP78: =M81-$R81 -> -7.2490907 | AQ78: =N81-$R81 -> -8.0920686 | AR78: =O81-$R81 -> -11.878874 | AS78: =P81-$R81 -> -22.543284
AG79: Mitoituspisteen verkkokäyrä | AL79: =I82-$R82 -> 1.6174368 | AM79: =J82-$R82 -> -1.0620633 | AN79: =K82-$R82 -> -0.90039569 | AO79: =L82-$R82 -> 0.53817003 | AP79: =M82-$R82 -> -9.1285769 | AQ79: =N82-$R82 -> -9.0402897 | AR79: =O82-$R82 -> -12.988475 | AS79: =P82-$R82 -> -24.115542
B80: 100 | C80: 151.6067 | D80: 100.68721 | E80: 100 | F80: 157.07133 | G80: 101.76264 | H80: 184.60732 | I80: 77.327507 | J80: 73.366534 | K80: 72.407088 | L80: 72.544167 | M80: 65.606181 | N80: 66.296471 | O80: 62.244754 | P80: 51.502486 | Q80: 80.822159 | R80: 73.48804 | AC80: Vohj | AD80: A | AE80: B | AG80: qV | AH80: LwA | AL80: =I83-$R83 -> -0.30076969 | AM80: =J83-$R83 -> -2.0573957 | AN80: =K83-$R83 -> -2.5853492 | AO80: =L83-$R83 -> 1.4579881 | AP80: =M83-$R83 -> -8.8879037 | AQ80: =N83-$R83 -> -11.01153 | AR80: =O83-$R83 -> -15.419292 | AS80: =P83-$R83 -> -26.583036
B81: 100 | C81: 135.79214 | D81: 231.27661 | E81: 100 | F81: 143.34522 | G81: 230.08054 | H81: 184.64164 | I81: 75.073482 | J81: 72.57875 | K81: 73.077639 | L81: 72.825082 | M81: 66.307241 | N81: 65.464263 | O81: 61.677457 | P81: 51.013047 | Q81: 79.962391 | R81: 73.556332 | AC81: 10 | AD81: {=LINEST(R80:R83,F80:F83)} -> -0.068527798 | AE81: 83.775427 | AG81: =AG57 -> 150.57772 | AH81: =AD81*AG81+AE81 -> 73.456668 | AK81: 8 V | AL81: =I84-$R84 -> 2.8592173 | AM81: =J84-$R84 -> 0.89166356 | AN81: =K84-$R84 -> 0.068557405 | AO81: =L84-$R84 -> -0.46680836 | AP81: =M84-$R84 -> -7.9742134 | AQ81: =N84-$R84 -> -7.8120039 | AR81: =O84-$R84 -> -12.316002 | AS81: =P84-$R84 -> -23.434791
B82: 100 | C82: 120.59381 | D82: 348.65822 | E82: 100 | F82: 129.19223 | G82: 346.36816 | H82: 184.67702 | I82: 75.989712 | J82: 73.310212 | K82: 73.471879 | L82: 74.910445 | M82: 65.243698 | N82: 65.331985 | O82: 61.3838 | P82: 50.256733 | Q82: 80.885124 | R82: 74.372275 | AC82: 8 | AD82: {=LINEST(R84:R87,F84:F87)} -> -0.12679309 | AE82: 86.767219 | AG82: =AG58 -> 128.16694 | AH82: =AD82*AG82+AE82 -> 70.516536 | AL82: =I85-$R85 -> 0.18539903 | AM82: =J85-$R85 -> 0.89196176 | AN82: =K85-$R85 -> 2.0732321 | AO82: =L85-$R85 -> -0.37808227 | AP82: =M85-$R85 -> -8.1332046 | AQ82: =N85-$R85 -> -8.5580051 | AR82: =O85-$R85 -> -13.041476 | AS82: =P85-$R85 -> -24.086789
B83: 100 | C83: 104.87641 | D83: 463.15571 | E83: 100 | F83: 112.84136 | G83: 466.66286 | H83: 184.7179 | I83: 76.211378 | J83: 74.454752 | K83: 73.926799 | L83: 77.970136 | M83: 67.624244 | N83: 65.500618 | O83: 61.092856 | P83: 49.929112 | Q83: 82.247147 | R83: 76.512148 | AC83: 6 | AD83: {=LINEST(R88:R91,F88:F91)} -> -0.10593147 | AE83: 74.730735 | AG83: =AG59 -> 92.926643 | AH83: =AD83*AG83+AE83 -> 64.88688 | AL83: =I86-$R86 -> -0.74115115 | AM83: =J86-$R86 -> -0.42217308 | AN83: =K86-$R86 -> -0.52896662 | AO83: =L86-$R86 -> 1.5078715 | AP83: =M86-$R86 -> -9.694828 | AQ83: =N86-$R86 -> -9.8291902 | AR83: =O86-$R86 -> -14.799324 | AS83: =P86-$R86 -> -26.182917
B84: 80 | C84: 128.34957 | D84: 71.89203 | E84: 80 | F84: 133.48734 | G84: 74.166449 | H84: 122.90596 | I84: 73.324121 | J84: 71.356568 | K84: 70.533461 | L84: 69.998096 | M84: 62.490691 | N84: 62.6529 | O84: 58.148902 | P84: 47.030113 | Q84: 77.838155 | R84: 70.464904 | AC84: 4 | AD84: {=LINEST(R92:R95,F92:F95)} -> -0.2210031 | AE84: 68.989134 | AG84: =AG60 -> 58.763814 | AH84: =AD84*AG84+AE84 -> 56.002149 | AL84: =I87-$R87 -> -2.5888026 | AM84: =J87-$R87 -> -3.2741332 | AN84: =K87-$R87 -> -3.0408038 | AO84: =L87-$R87 -> 2.9758167 | AP84: =M87-$R87 -> -11.97695 | AQ84: =N87-$R87 -> -13.091089 | AR84: =O87-$R87 -> -18.101488 | AS84: =P87-$R87 -> -29.730058
B85: 80 | C85: 115.7076 | D85: 167.96197 | E85: 80 | F85: 121.94822 | G85: 170.71258 | H85: 123.99914 | I85: 71.002487 | J85: 71.70905 | K85: 72.89032 | L85: 70.439006 | M85: 62.683884 | N85: 62.259083 | O85: 57.775612 | P85: 46.730299 | Q85: 77.93238 | R85: 70.817088 | AK85: 6 V | AL85: =I88-$R88 -> 2.542917 | AM85: =J88-$R88 -> 1.9346508 | AN85: =K88-$R88 -> 2.334652 | AO85: =L88-$R88 -> -0.87690408 | AP85: =M88-$R88 -> -7.0086063 | AQ85: =N88-$R88 -> -8.8647474 | AR85: =O88-$R88 -> -14.719533 | AS85: =P88-$R88 -> -27.842088
B86: 80 | C86: 102.57332 | D86: 253.93326 | E86: 80 | F86: 109.49508 | G86: 257.31786 | H86: 124.19295 | I86: 71.411524 | J86: 71.730502 | K86: 71.623709 | L86: 73.660547 | M86: 62.457847 | N86: 62.323485 | O86: 57.353352 | P86: 45.969759 | Q86: 78.485058 | R86: 72.152675 | AC86: Sovite mitoituspisteen verkkokäyrän äänipisteistä | AL86: =I89-$R89 -> 3.2237493 | AM86: =J89-$R89 -> 3.1201428 | AN86: =K89-$R89 -> 3.6376804 | AO86: =L89-$R89 -> -2.4964987 | AP86: =M89-$R89 -> -7.5469312 | AQ86: =N89-$R89 -> -8.9397313 | AR86: =O89-$R89 -> -14.87271 | AS86: =P89-$R89 -> -27.648469
B87: 80 | C87: 88.812714 | D87: 333.92245 | E87: 80 | F87: 94.620434 | G87: 346.36903 | H87: 123.08302 | I87: 72.777503 | J87: 72.092172 | K87: 72.325501 | L87: 78.342122 | M87: 63.389355 | N87: 62.275216 | O87: 57.264817 | P87: 45.636247 | Q87: 80.966842 | R87: 75.366305 | AC87: Logaritmisovite y = A ln(x) + B | AL87: =I90-$R90 -> 0.998934 | AM87: =J90-$R90 -> 2.0522252 | AN87: =K90-$R90 -> 4.1940485 | AO87: =L90-$R90 -> -2.8201044 | AP87: =M90-$R90 -> -7.5898572 | AQ87: =N90-$R90 -> -10.344631 | AR87: =O90-$R90 -> -16.319427 | AS87: =P90-$R90 -> -29.130517
B88: 60 | C88: 89.259188 | D88: 36.474293 | E88: 60 | F88: 96.307032 | G88: 40.046752 | H88: 58.787488 | I88: 67.601974 | J88: 66.993708 | K88: 67.393709 | L88: 64.182153 | M88: 58.050451 | N88: 56.19431 | O88: 50.339524 | P88: 37.21697 | Q88: 73.018245 | R88: 65.059057 | AC88: y = LwA, x = qV | AL88: =I91-$R91 -> -0.51787389 | AM88: =J91-$R91 -> 1.2053428 | AN88: =K91-$R91 -> 5.3773279 | AO88: =L91-$R91 -> -3.7019819 | AP88: =M91-$R91 -> -10.145454 | AQ88: =N91-$R91 -> -12.776447 | AR88: =O91-$R91 -> -18.811659 | AS88: =P91-$R91 -> -31.338159
B89: 60 | C89: 81.379404 | D89: 86.352699 | E89: 60 | F89: 88.998886 | G89: 92.757963 | H89: 59.313357 | I89: 68.020295 | J89: 67.916688 | K89: 68.434226 | L89: 62.300047 | M89: 57.249614 | N89: 55.856814 | O89: 49.923835 | P89: 37.148077 | Q89: 73.467364 | R89: 64.796546 | AC89: A | AD89: B | AK89: 4 V | AL89: =I92-$R92 -> 4.2871545 | AM89: =J92-$R92 -> 4.1552284 | AN89: =K92-$R92 -> 5.064442 | AO89: =L92-$R92 -> -3.0063204 | AP89: =M92-$R92 -> -7.356365 | AQ89: =N92-$R92 -> -10.587768 | AR89: =O92-$R92 -> -17.334462 | AS89: =P92-$R92 -> -31.976997
B90: 60 | C90: 72.922634 | D90: 131.73618 | E90: 60 | F90: 80.416957 | G90: 140.16725 | H90: 59.549055 | I90: 66.802332 | J90: 67.855623 | K90: 69.997446 | L90: 62.983293 | M90: 58.21354 | N90: 55.458767 | O90: 49.483971 | P90: 36.67288 | Q90: 73.798767 | R90: 65.803398 | AC90: {=LINEST(AH81:AH84,LN(AG81:AG84))} -> 18.507935 | AD90: -19.259404 | AL90: =I93-$R93 -> 6.0298589 | AM90: =J93-$R93 -> 5.1144183 | AN90: =K93-$R93 -> 6.0360548 | AO90: =L93-$R93 -> -3.6411074 | AP90: =M93-$R93 -> -8.0795127 | AQ90: =N93-$R93 -> -11.374794 | AR90: =O93-$R93 -> -18.763721 | AS90: =P93-$R93 -> -32.449488
B91: 60 | C91: 63.826827 | D91: 174.53059 | E91: 60 | F91: 69.813715 | G91: 188.06484 | H91: 59.270676 | I91: 67.202184 | J91: 68.9254 | K91: 73.097385 | L91: 64.018076 | M91: 57.574603 | N91: 54.94361 | O91: 48.908399 | P91: 36.381898 | Q91: 75.676441 | R91: 67.720057 | AL91: =I94-$R94 -> 6.9894645 | AM91: =J94-$R94 -> 3.1260673 | AN91: =K94-$R94 -> 7.3028478 | AO91: =L94-$R94 -> -4.6312231 | AP91: =M94-$R94 -> -8.9169901 | AQ91: =N94-$R94 -> -13.032088 | AR91: =O94-$R94 -> -20.449195 | AS91: =P94-$R94 -> -33.615913
B92: 40 | C92: 53.723937 | D92: 12.363758 | E92: 40 | F92: 61.035386 | G92: 17.464651 | H92: 26.506948 | I92: 59.950062 | J92: 59.818136 | K92: 60.727349 | L92: 52.656587 | M92: 48.306542 | N92: 45.075139 | O92: 38.328446 | P92: 23.685911 | Q92: 65.341729 | R92: 55.662907 | AC92: Mitoituspisteen tilavuusvirta (poistoilma) | AL92: =I95-$R95 -> 0.47859806 | AM92: =J95-$R95 -> 2.9119701 | AN92: =K95-$R95 -> 8.5788415 | AO92: =L95-$R95 -> -5.5654502 | AP92: =M95-$R95 -> -10.93938 | AQ92: =N95-$R95 -> -15.156248 | AR92: =O95-$R95 -> -22.677961 | AS92: =P95-$R95 -> -35.302593
B93: 40 | C93: 49.281365 | D93: 31.995962 | E93: 40 | F93: 57.170637 | G93: 37.851465 | H93: 26.352369 | I93: 62.259119 | J93: 61.343678 | K93: 62.265315 | L93: 52.588153 | M93: 48.149747 | N93: 44.854467 | O93: 37.465539 | P93: 23.779772 | Q93: 67.000845 | R93: 56.22926 | AC93: =AC69 -> 84 | AD93: dm³/s | AE93: -----> | AF93: LwA | AG93: =AC90*LN(AC93)+AD90 -> 62.745864 | AH93: dB | AI93: Jätekanava | AK93: 10 | AL93: =ROUND(AVERAGE(AL77:AL80),0) -> 2 | AM93: =ROUND(AVERAGE(AM77:AM80),0) -> -1 | AN93: =ROUND(AVERAGE(AN77:AN80),0) -> -1 | AO93: =ROUND(AVERAGE(AO77:AO80),0) -> 0 | AP93: =ROUND(AVERAGE(AP77:AP80),0) -> -8 | AQ93: =ROUND(AVERAGE(AQ77:AQ80),0) -> -9 | AR93: =ROUND(AVERAGE(AR77:AR80),0) -> -13 | AS93: =ROUND(AVERAGE(AS77:AS80),0) -> -24 | AT93: {=10*LOG10(SUM(10^((AL93:AS93+$AL$128:$AS$128)/10)))} -> 0.009597249 | AU93: =IF(ABS(AT93)<0.5,"OK","TARKASTA") -> OK
B94: 40 | C94: 44.548593 | D94: 49.596346 | E94: 40 | F94: 51.858687 | G94: 57.478812 | H94: 26.115534 | I94: 64.360879 | J94: 60.497481 | K94: 64.674262 | L94: 52.740191 | M94: 48.454424 | N94: 44.339326 | O94: 36.922219 | P94: 23.755501 | Q94: 68.497255 | R94: 57.371414 | AK94: 8 | AL94: =ROUND(AVERAGE(AL81:AL84),0) -> 0 | AM94: =ROUND(AVERAGE(AM81:AM84),0) -> 0 | AN94: =ROUND(AVERAGE(AN81:AN84),0) -> 0 | AO94: =ROUND(AVERAGE(AO81:AO84),0) -> 1 | AP94: =ROUND(AVERAGE(AP81:AP84),0) -> -9 | AQ94: =ROUND(AVERAGE(AQ81:AQ84),0) -> -10 | AR94: =ROUND(AVERAGE(AR81:AR84),0) -> -15 | AS94: =ROUND(AVERAGE(AS81:AS84),0) -> -26 | AT94: {=10*LOG10(SUM(10^((AL94:AS94+$AL$128:$AS$128)/10)))} -> 0.28173663 | AU94: =IF(ABS(AT94)<0.5,"OK","TARKASTA") -> OK
B95: 40 | C95: 39.280099 | D95: 66.671657 | E95: 40 | F95: 44.884292 | G95: 77.356605 | H95: 25.761734 | I95: 59.667156 | J95: 62.100528 | K95: 67.767399 | L95: 53.623108 | M95: 48.249178 | N95: 44.03231 | O95: 36.510596 | P95: 23.885964 | Q95: 69.472338 | R95: 59.188558 | AK95: 6 | AL95: =ROUND(AVERAGE(AL85:AL88),0) -> 2 | AM95: =ROUND(AVERAGE(AM85:AM88),0) -> 2 | AN95: =ROUND(AVERAGE(AN85:AN88),0) -> 4 | AO95: =ROUND(AVERAGE(AO85:AO88),0) -> -2 | AP95: =ROUND(AVERAGE(AP85:AP88),0) -> -8 | AQ95: =ROUND(AVERAGE(AQ85:AQ88),0) -> -10 | AR95: =ROUND(AVERAGE(AR85:AR88),0) -> -16 | AS95: =ROUND(AVERAGE(AS85:AS88),0) -> -29 | AT95: {=10*LOG10(SUM(10^((AL95:AS95+$AL$128:$AS$128)/10)))} -> 0.061893055 | AU95: =IF(ABS(AT95)<0.5,"OK","TARKASTA") -> OK
AK96: 4 | AL96: =ROUND(AVERAGE(AL89:AL92),0) -> 4 | AM96: =ROUND(AVERAGE(AM89:AM92),0) -> 4 | AN96: =ROUND(AVERAGE(AN89:AN91),0) -> 6 | AO96: =ROUND(AVERAGE(AO89:AO92),0) -> -4 | AP96: =ROUND(AVERAGE(AP89:AP92),0) -> -9 | AQ96: =ROUND(AVERAGE(AQ89:AQ92),0) -> -13 | AR96: =ROUND(AVERAGE(AR89:AR92),0) -> -20 | AS96: =ROUND(AVERAGE(AS89:AS92),0) -> -33 | AT96: {=10*LOG10(SUM(10^((AL96:AS96+$AL$128:$AS$128)/10)))} -> 0.054860534 | AU96: =IF(ABS(AT96)<0.5,"OK","TARKASTA") -> OK
AK97: Valinta | AL97: {=INDEX(AL93:AL96,$AW$73)} -> 2 | AM97: {=INDEX(AM93:AM96,$AW$73)} -> 2 | AN97: {=INDEX(AN93:AN96,$AW$73)} -> 4 | AO97: {=INDEX(AO93:AO96,$AW$73)} -> -2 | AP97: {=INDEX(AP93:AP96,$AW$73)} -> -8 | AQ97: {=INDEX(AQ93:AQ96,$AW$73)} -> -10 | AR97: {=INDEX(AR93:AR96,$AW$73)} -> -16 | AS97: {=INDEX(AS93:AS96,$AW$73)} -> -29 | AT97: Lwtot | AU97: LwA,tot
AK98: Lopputulos | AL98: =$AG$93+AL97 -> 64.745864 | AM98: =$AG$93+AM97 -> 64.745864 | AN98: =$AG$93+AN97 -> 66.745864 | AO98: =$AG$93+AO97 -> 60.745864 | AP98: =$AG$93+AP97 -> 54.745864 | AQ98: =$AG$93+AQ97 -> 52.745864 | AR98: =$AG$93+AR97 -> 46.745864 | AS98: =$AG$93+AS97 -> 33.745864 | AT98: {=10*LOG10(SUM(10^(AL98:AS98/10)))} -> 70.939656 | AU98: {=10*LOG10(SUM(10^((AL98:AS98+$AL$128:$AS$128)/10)))} -> 62.807757
B100: VAIPAN LÄPI | AL100: =I102 -> 63 Hz | AM100: =J102 -> 125 Hz | AN100: =K102 -> 250 Hz | AO100: =L102 -> 500 Hz | AP100: =M102 -> 1 kHz | AQ100: =N102 -> 2 kHz | AR100: =O102 -> 4 kHz | AS100: =P102 -> 8 kHz
B101: Tulopuoli | E101: Poistopuoli | H101: P* [W] | I101: Äänitehotasot oktaavikaistoittain LW,okt [dB] | Q101: LW,kok** [dB] | R101: LW,A,kok** [dB] | S101: KESKIARVO | AC101: Äänikäyrien sovitteet, 1. asteen lineaarinen sovite | AK101: 10 V | AL101: =I104-$R104 -> -1.1160644 | AM101: =J104-$R104 -> -2.3341066 | AN101: =K104-$R104 -> -3.1524593 | AO101: =L104-$R104 -> 0.66303468 | AP101: =M104-$R104 -> -5.02684 | AQ101: =N104-$R104 -> -16.118363 | AR101: =O104-$R104 -> -19.958813 | AS101: =P104-$R104 -> -20.817564
B102: Uohj [V] | C102: qV [dm3/s] | D102: pd [Pa] | E102: Uohj [V] | F102: qV [dm3/s] | G102: pd [Pa] | I102: 63 Hz | J102: 125 Hz | K102: 250 Hz | L102: 500 Hz | M102: 1 kHz | N102: 2 kHz | O102: 4 kHz | P102: 8 kHz | S102: qV [dm3/s] | AC102: y = LwA, x = qV --> y = Ax+B | AL102: =I105-$R105 -> -1.9365189 | AM102: =J105-$R105 -> -2.5283746 | AN102: =K105-$R105 -> -3.4016026 | AO102: =L105-$R105 -> 1.036246 | AP102: =M105-$R105 -> -5.5158365 | AQ102: =N105-$R105 -> -16.304881 | AR102: =O105-$R105 -> -20.32978 | AS102: =P105-$R105 -> -21.660401
AG103: Mitoituspisteen verkkokäyrä | AL103: =I106-$R106 -> -2.3421679 | AM103: =J106-$R106 -> -3.5930148 | AN103: =K106-$R106 -> -4.7349616 | AO103: =L106-$R106 -> 1.7559375 | AP103: =M106-$R106 -> -7.1778289 | AQ103: =N106-$R106 -> -18.070938 | AR103: =O106-$R106 -> -22.403076 | AS103: =P106-$R106 -> -23.712363
B104: 100 | C104: 151.40711 | D104: 102.39702 | E104: 100 | F104: 154.67353 | G104: 125.58148 | H104: 355.42186 | I104: 52.79702 | J104: 51.578978 | K104: 50.760625 | L104: 54.576119 | M104: 48.886244 | N104: 37.794721 | O104: 33.954271 | P104: 33.09552 | Q104: 59.181075 | R104: 53.913084 | S104: =AVERAGE(C104,F104) -> 153.04032 | AC104: Vohj | AD104: A | AE104: B | AG104: qV | AH104: LwA | AL104: =I107-$R107 -> -3.1481655 | AM104: =J107-$R107 -> -5.3376287 | AN104: =K107-$R107 -> -6.3155078 | AO104: =L107-$R107 -> 2.3064603 | AP104: =M107-$R107 -> -8.2864997 | AQ104: =N107-$R107 -> -20.130382 | AR104: =O107-$R107 -> -24.525123 | AS104: =P107-$R107 -> -26.028326
...

Sheet SEC laskenta
P3: SEC-luku
W4: Vertailuarvo | Y4: =L24 -> -42.037855 | Z4: =INDEX(W6:W13,IF($Y$4<Y6,1,MATCH(Y4,Y6:Y13)+1)) -> A+
J5: Tulo | L5: Poisto | P5: ta | Q5: 8760
C6: Ilman tilavuusvirta | I6: Älä muuta tähän | J6: =Tulostus!J36 -> 84 | K6: l/s | L6: =Tulostus!L36 -> 84 | M6: l/s | P6: pef | Q6: 2.5 | W6: A+ | Y6: -42 | Z6: =IF($Y$4<Y6,1,0) -> 1
C7: Paine-ero | I7: Älä muuta tähän | J7: =Tulostus!J37 -> 50 | K7: Pa | L7: =Tulostus!L37 -> 50 | M7: Pa | P7: qnet | Q7: 1.3 | W7: A | X7: -42 | Y7: -34 | Z7: =IF(AND($Y$4>=X7,$Y$4<Y7),1,0) -> 0
P8: MISC | Q8: =INDEX(S24:S25,P23) -> 1.1 | R8: Yleinen luokitus | W8: B | X8: -34 | Y8: -26 | Z8: =IF(AND($Y$4>=X8,$Y$4<Y8),1,0) -> 0
C9: SEC-laskennan parametrit | P9: CTRL | Q9: =INDEX(T29:T32,P28) -> 0.65 | R9: ilmanvaihdon ohjaus | W9: C | X9: -26 | Y9: -23 | Z9: =IF(AND($Y$4>=X9,$Y$4<Y9),1,0) -> 0
C10: Yleinen luokittelu | P10: x | Q10: =INDEX(T36:T39,P35) -> 2 | R10: moottori & ohjaus | W10: D | X10: -23 | Y10: -20 | Z10: =IF(AND($Y$4>=X10,$Y$4<Y10),1,0) -> 0
C11: Ilmanvaihdon ohjaus | P11: th | Q11: =INDEX(R44:R46,P43) -> 5112 | W11: E | X11: -20 | Y11: -10 | Z11: =IF(AND($Y$4>=X11,$Y$4<Y11),1,0) -> 0
C12: Moottori & ohjaus | P12: ΔTh | Q12: =INDEX(S44:S46,P43) -> 9.5 | W12: F | X12: -10 | Y12: 0 | Z12: =IF(AND($Y$4>=X12,$Y$4<Y12),1,0) -> 0
C13: Ilmasto | P13: ηh | Q13: 0.75 | W13: G | X13: 0 | Z13: =IF($Y$4>X13,1,0) -> 0
C14: LTO:n lämpötilahyötysuhde ηt | K14: Älä muuta tähän | L14: =Tulostus!AA7 -> 0.84549847 | P14: cair | Q14: 0.000344
P15: qref | Q15: 2.2
P16: ηt | Q16: =Y16 -> 0.84549847 | R16: lämmöntalteenoton lämpötilahyötysuhde vertailuilmavirralla ja 50 Pa paine-erolla | Y16: 0.84549847 | Z16: Vertailuilmavirralla 84 l/s
C17: Puhaltimien toiminta: | J17: Tulopuoli | L17: Poistopuoli | P17: Qdefr | Q17: =Q18*Q19*Q14*Q7*Q6 -> 0.4507776
C18: Ohjausjännite | J18: =Tulostus!J40 -> 5.7887004 | K18: V | L18: =Tulostus!L40 -> 5.4547728 | M18: V | P18: tdefr | Q18: =INDEX(T44:T46,P43) -> 168
C19: Puhaltimen teho | J19: =Tulostus!J41 -> 49.722015 | K19: W | L19: =Tulostus!L41 -> 42.772608 | M19: W | P19: Δtdefr | Q19: =INDEX(U44:U46,P43) -> 2.4
P20: SPI | Q20: =(L22/(MAX(L6,J6)*3.6))/1000 -> 0.00032588169 | R20: kW/m3/h
C22: Kokonaisteho | L22: =Tulostus!L43 -> 98.546623 | M22: W | X22: =432*0.7 -> 302.4
C23: SFP | L23: =Tulostus!L44 -> 1.1731741 | M23: kW/m3/s | P23: 1 | S23: MISC
C24: SEC | L24: =Q5*Q6*Q8*Q9^Q10*Q20-(Q11*Q12*Q13^(-1)*Q14*(Q15-(Q7*Q9*Q8*(1-Q16))))+Q17 -> -42.037855 | P24: Kanavaliitäntäinen | S24: 1.1
C25: SEC-luokka | L25: =Z4 -> A+ | P25: Muu kuin kanavaliitäntäinen | S25: 1.21
P28: 4 | T28: CTRL
P29: Käsikäyttö (ei tarpeenmuk. Ilmanvaihto) | T29: 1
P30: Kello-ohjaus (ei tarpeenmuk. Ilmanvaihto) | T30: 0.95
P31: Keskitetty tarpeenmukainen ohjaus | T31: 0.85
P32: Paikallinen tarpeenmukainen ohjaus | T32: 0.65
P35: 4 | T35: x-arvo
P36: Päällä/pois päältä & yksinopeuksinen | T36: 1
P37: Kaksinopeuksinen | T37: 1.2
P38: Kolminopeuksinen | T38: 1.5
P39: Portaaton säätö (taajuusmuuttaja) | T39: 2
P43: 2 | R43: th | S43: ΔTh | T43: tdefr | U43: Δtdefr | V43: Qdefr
P44: Kylmä | R44: 6552 | S44: 14.5 | T44: 1003 | U44: 5.2 | V44: 5.82
P45: Keskiarvo | R45: 5112 | S45: 9.5 | T45: 168 | U45: 2.4 | V45: 0.45
P46: Lämmin | R46: 4392 | S46: 5 | T46: 0 | U46: 0 | V46: 0

Sheet LTO HS-laskenta
B3: Hakee arvot tulostus-välilehdeltä. | F3: =C19 -> -26 | H3: =$C$12 -> 21 | I3: =MAX(J3:K3) -> -5 | J3: =IF(M3-$C$8*$C$10*(M3-F3)<$C$11,$C$11,M3-$C$8*$C$10*(M3-F3)) -> -5 | K3: =M3-P3*Q3*(M3-F3) -> -5 | L3: =M3-T3*(M3-F3) -> 20 | M3: =$C$5 -> 20 | N3: =MIN(F3+R3/P3*(M3-F3),H3) -> -1 | P3: =$C$8 -> 1 | Q3: =MIN(R3/P3,(H3-F3)/(M3-F3)) -> 0.54347826 | R3: =(M3-J3)/(M3-F3) -> 0.54347826
B4: Älä muuta tästä! | T4: Total | U4: =SUM(U6:U50) -> 4701.75 | V4: =SUM(V6:V50) -> 3914.2584 | W4: =SUM(W6:W50) -> 3914.2584 | AD4: 30v pysyvyysarvot | AH4: TRY 2020 pysyvyysarvot
B5: Sisälämpötila | C5: =Tulostus!L64 -> 20 | D5: °C | F5: tu | G5: Aika vuodessa | H5: tLTO,maks | I5: tj | J5: tj,min | K5: tj,maks | L5: tj, korjaamaton | M5: tsisä | N5: tLTO | O5: tLTO, korjaamaton | P5: RLTO | Q5: ηt | R5: ηp | S5: ηt, korjaamaton | T5: ηp,korjaamaton | U5: SS,Kd | V5: ST,Kd | W5: SJ,Kd | AD5: Vyöhykkeet | AH5: Vyöhykkeet
B6: Tuloilmamäärä | C6: =Tulostus!J36 -> 84 | D6: l/s | F6: -32 | G6: =IF($C$14=1,INDEX(AD9:AG9,1,'LTO HS-laskenta'!$C$13),INDEX(AH9:AK9,1,'LTO HS-laskenta'!$C$13)) -> 0 | H6: =$C$12 -> 21 | I6: =MAX(J6:K6) -> -5 | J6: =IF(M6-$C$8*$C$10*(M6-F6)<$C$11,$C$11,M6-$C$8*$C$10*(M6-F6)) -> -5 | K6: =M6-P6*Q6*(M6-F6) -> -5 | L6: =M6-T6*(M6-F6) -> -23.977362 | M6: =$C$5 -> 20 | N6: =MIN(F6+R6/P6*(M6-F6),H6) -> -7 | O6: =F6+S6/P6*(M6-F6) -> 11.977362 | P6: =$C$8 -> 1 | Q6: =MIN(R6/P6,(H6-F6)/(M6-F6)) -> 0.48076923 | R6: =(M6-J6)/(M6-F6) -> 0.48076923 | S6: =$C$10 -> 0.8457185 | T6: =S6*$C$8 -> 0.8457185 | U6: =G6*(M6-F6)*365 -> 0 | V6: =G6*(N6-F6)*365 -> 0 | W6: =G6*(M6-J6)*365 -> 0 | Y6: =$C$7/1000*1.2*1006*(M6-F6)*8760*(G6-G5)/1000 -> #VALUE! | Z6: =1.2*1006*$C$7/1000*(M6-I6)/1000*(G6-G5)*8760 -> #VALUE! | AD6: I | AE6: II | AF6: III | AG6: IV | AH6: I | AI6: II | AJ6: III | AK6: IV
B7: Poistoilmamäärä | C7: =Tulostus!L36 -> 84 | D7: l/s | F7: -31 | G7: =IF($C$14=1,INDEX(AD10:AG10,1,'LTO HS-laskenta'!$C$13),INDEX(AH10:AK10,1,'LTO HS-laskenta'!$C$13)) -> 0 | H7: =$C$12 -> 21 | I7: =MAX(J7:K7) -> -5 | J7: =IF(M7-$C$8*$C$10*(M7-F7)<$C$11,$C$11,M7-$C$8*$C$10*(M7-F7)) -> -5 | K7: =M7-P7*Q7*(M7-F7) -> -5 | L7: =M7-T7*(M7-F7) -> -23.131644 | M7: =$C$5 -> 20 | N7: =MIN(F7+R7/P7*(M7-F7),H7) -> -6 | O7: =F7+S7/P7*(M7-F7) -> 12.131644 | P7: =$C$8 -> 1 | Q7: =MIN(R7/P7,(H7-F7)/(M7-F7)) -> 0.49019608 | R7: =(M7-J7)/(M7-F7) -> 0.49019608 | S7: =$C$10 -> 0.8457185 | T7: =S7*$C$8 -> 0.8457185 | U7: =(G7-G6)*(M7-F7)*365 -> 0 | V7: =(G7-G6)*(N7-F7)*365 -> 0 | W7: =(G7-G6)*(M7-I7)*365 -> 0 | Y7: =$C$7/1000*1.2*1006*(M7-F7)*8760*(G7-G6)/1000 -> 0 | Z7: =1.2*1006*$C$7/1000*(M7-I7)/1000*(G7-G6)*8760 -> 0 | AC7: -34 | AD7: 0 | AE7: =AD7 -> 0 | AF7: 0 | AG7: 0 | AH7: 0 | AI7: 0 | AJ7: 0 | AK7: 0.0029680365
B8: RLTO | C8: =C6/C7 -> 1 | F8: -30 | G8: =IF($C$14=1,INDEX(AD11:AG11,1,'LTO HS-laskenta'!$C$13),INDEX(AH11:AK11,1,'LTO HS-laskenta'!$C$13)) -> 0 | H8: =$C$12 -> 21 | I8: =MAX(J8:K8) -> -5 | J8: =IF(M8-$C$8*$C$10*(M8-F8)<$C$11,$C$11,M8-$C$8*$C$10*(M8-F8)) -> -5 | K8: =M8-P8*Q8*(M8-F8) -> -5 | L8: =M8-T8*(M8-F8) -> -22.285925 | M8: =$C$5 -> 20 | N8: =MIN(F8+R8/P8*(M8-F8),H8) -> -5 | O8: =F8+S8/P8*(M8-F8) -> 12.285925 | P8: =$C$8 -> 1 | Q8: =MIN(R8/P8,(H8-F8)/(M8-F8)) -> 0.5 | R8: =(M8-J8)/(M8-F8) -> 0.5 | S8: =$C$10 -> 0.8457185 | T8: =S8*$C$8 -> 0.8457185 | U8: =(G8-G7)*(M8-F8)*365 -> 0 | V8: =(G8-G7)*(N8-F8)*365 -> 0 | W8: =(G8-G7)*(M8-I8)*365 -> 0 | Y8: =$C$7/1000*1.2*1006*(M8-F8)*8760*(G8-G7)/1000 -> 0 | Z8: =1.2*1006*$C$7/1000*(M8-I8)/1000*(G8-G7)*8760 -> 0 | AC8: -33 | AD8: 0 | AE8: =AD8 -> 0 | AF8: 0 | AG8: 0.0008 | AH8: 0 | AI8: 0 | AJ8: 0 | AK8: 0.004109589
B9: nLTO 1 | C9: ='LTO-kennon HS'!K25/100 -> 0.8457185 | F9: -29 | G9: =IF($C$14=1,INDEX(AD12:AG12,1,'LTO HS-laskenta'!$C$13),INDEX(AH12:AK12,1,'LTO HS-laskenta'!$C$13)) -> 0 | H9: =$C$12 -> 21 | I9: =MAX(J9:K9) -> -5 | J9: =IF(M9-$C$8*$C$10*(M9-F9)<$C$11,$C$11,M9-$C$8*$C$10*(M9-F9)) -> -5 | K9: =M9-P9*Q9*(M9-F9) -> -5 | L9: =M9-T9*(M9-F9) -> -21.440207 | M9: =$C$5 -> 20 | N9: =MIN(F9+R9/P9*(M9-F9),H9) -> -4 | O9: =F9+S9/P9*(M9-F9) -> 12.440207 | P9: =$C$8 -> 1 | Q9: =MIN(R9/P9,(H9-F9)/(M9-F9)) -> 0.51020408 | R9: =(M9-J9)/(M9-F9) -> 0.51020408 | S9: =$C$10 -> 0.8457185 | T9: =S9*$C$8 -> 0.8457185 | U9: =(G9-G8)*(M9-F9)*365 -> 0 | V9: =(G9-G8)*(N9-F9)*365 -> 0 | W9: =(G9-G8)*(M9-I9)*365 -> 0 | Y9: =$C$7/1000*1.2*1006*(M9-F9)*8760*(G9-G8)/1000 -> 0 | Z9: =1.2*1006*$C$7/1000*(M9-I9)/1000*(G9-G8)*8760 -> 0 | AC9: -32 | AD9: 0 | AE9: =AD9 -> 0 | AF9: 0 | AG9: 0.0018 | AH9: 0 | AI9: 0 | AJ9: 0 | AK9: 0.0047945205
B10: nLTO, RT | C10: =MIN(2/(1+C8)*C9,0.99) -> 0.8457185 | F10: -28 | G10: =IF($C$14=1,INDEX(AD13:AG13,1,'LTO HS-laskenta'!$C$13),INDEX(AH13:AK13,1,'LTO HS-laskenta'!$C$13)) -> 0 | H10: =$C$12 -> 21 | I10: =MAX(J10:K10) -> -5 | J10: =IF(M10-$C$8*$C$10*(M10-F10)<$C$11,$C$11,M10-$C$8*$C$10*(M10-F10)) -> -5 | K10: =M10-P10*Q10*(M10-F10) -> -5 | L10: =M10-T10*(M10-F10) -> -20.594488 | M10: =$C$5 -> 20 | N10: =MIN(F10+R10/P10*(M10-F10),H10) -> -3 | O10: =F10+S10/P10*(M10-F10) -> 12.594488 | P10: =$C$8 -> 1 | Q10: =MIN(R10/P10,(H10-F10)/(M10-F10)) -> 0.52083333 | R10: =(M10-J10)/(M10-F10) -> 0.52083333 | S10: =$C$10 -> 0.8457185 | T10: =S10*$C$8 -> 0.8457185 | U10: =(G10-G9)*(M10-F10)*365 -> 0 | V10: =(G10-G9)*(N10-F10)*365 -> 0 | W10: =(G10-G9)*(M10-I10)*365 -> 0 | Y10: =$C$7/1000*1.2*1006*(M10-F10)*8760*(G10-G9)/1000 -> 0 | Z10: =1.2*1006*$C$7/1000*(M10-I10)/1000*(G10-G9)*8760 -> 0 | AC10: -31 | AD10: 0 | AE10: =AD10 -> 0 | AF10: 0 | AG10: 0.0047 | AH10: 0 | AI10: 0 | AJ10: 0.0002283105 | AK10: 0.0060502283
B11: Minimi jäteilma | C11: =Tulostus!L65 -> -5 | D11: °C | F11: -27 | G11: =IF($C$14=1,INDEX(AD14:AG14,1,'LTO HS-laskenta'!$C$13),INDEX(AH14:AK14,1,'LTO HS-laskenta'!$C$13)) -> 0 | H11: =$C$12 -> 21 | I11: =MAX(J11:K11) -> -5 | J11: =IF(M11-$C$8*$C$10*(M11-F11)<$C$11,$C$11,M11-$C$8*$C$10*(M11-F11)) -> -5 | K11: =M11-P11*Q11*(M11-F11) -> -5 | L11: =M11-T11*(M11-F11) -> -19.74877 | M11: =$C$5 -> 20 | N11: =MIN(F11+R11/P11*(M11-F11),H11) -> -2 | O11: =F11+S11/P11*(M11-F11) -> 12.74877 | P11: =$C$8 -> 1 | Q11: =MIN(R11/P11,(H11-F11)/(M11-F11)) -> 0.53191489 | R11: =(M11-J11)/(M11-F11) -> 0.53191489 | S11: =$C$10 -> 0.8457185 | T11: =S11*$C$8 -> 0.8457185 | U11: =(G11-G10)*(M11-F11)*365 -> 0 | V11: =(G11-G10)*(N11-F11)*365 -> 0 | W11: =(G11-G10)*(M11-I11)*365 -> 0 | Y11: =$C$7/1000*1.2*1006*(M11-F11)*8760*(G11-G10)/1000 -> 0 | Z11: =1.2*1006*$C$7/1000*(M11-I11)/1000*(G11-G10)*8760 -> 0 | AC11: -30 | AD11: 0 | AE11: =AD11 -> 0 | AF11: 0 | AG11: 0.0082 | AH11: 0 | AI11: 0 | AJ11: 0.00034246575 | AK11: 0.0079908676
B12: Maksimi tLTO | C12: =Tulostus!L66 -> 21 | D12: °C | F12: -26 | G12: =IF($C$14=1,INDEX(AD15:AG15,1,'LTO HS-laskenta'!$C$13),INDEX(AH15:AK15,1,'LTO HS-laskenta'!$C$13)) -> 0 | H12: =$C$12 -> 21 | I12: =MAX(J12:K12) -> -5 | J12: =IF(M12-$C$8*$C$10*(M12-F12)<$C$11,$C$11,M12-$C$8*$C$10*(M12-F12)) -> -5 | K12: =M12-P12*Q12*(M12-F12) -> -5 | L12: =M12-T12*(M12-F12) -> -18.903051 | M12: =$C$5 -> 20 | N12: =MIN(F12+R12/P12*(M12-F12),H12) -> -1 | O12: =F12+S12/P12*(M12-F12) -> 12.903051 | P12: =$C$8 -> 1 | Q12: =MIN(R12/P12,(H12-F12)/(M12-F12)) -> 0.54347826 | R12: =(M12-J12)/(M12-F12) -> 0.54347826 | S12: =$C$10 -> 0.8457185 | T12: =S12*$C$8 -> 0.8457185 | U12: =(G12-G11)*(M12-F12)*365 -> 0 | V12: =(G12-G11)*(N12-F12)*365 -> 0 | W12: =(G12-G11)*(M12-I12)*365 -> 0 | Y12: =$C$7/1000*1.2*1006*(M12-F12)*8760*(G12-G11)/1000 -> 0 | Z12: =1.2*1006*$C$7/1000*(M12-I12)/1000*(G12-G11)*8760 -> 0 | AC12: -29 | AD12: 0 | AE12: =AD12 -> 0 | AF12: 0 | AG12: 0.0126 | AH12: 0 | AI12: 0 | AJ12: 0.000456621 | AK12: 0.011187215
B13: Vyöhyke | C13: 1 | E13: =C13 -> 1 | F13: -25 | G13: =IF($C$14=1,INDEX(AD16:AG16,1,'LTO HS-laskenta'!$C$13),INDEX(AH16:AK16,1,'LTO HS-laskenta'!$C$13)) -> 0 | H13: =$C$12 -> 21 | I13: =MAX(J13:K13) -> -5 | J13: =IF(M13-$C$8*$C$10*(M13-F13)<$C$11,$C$11,M13-$C$8*$C$10*(M13-F13)) -> -5 | K13: =M13-P13*Q13*(M13-F13) -> -5 | L13: =M13-T13*(M13-F13) -> -18.057333 | M13: =$C$5 -> 20 | N13: =MIN(F13+R13/P13*(M13-F13),H13) -> 0 | O13: =F13+S13/P13*(M13-F13) -> 13.057333 | P13: =$C$8 -> 1 | Q13: =MIN(R13/P13,(H13-F13)/(M13-F13)) -> 0.55555556 | R13: =(M13-J13)/(M13-F13) -> 0.55555556 | S13: =$C$10 -> 0.8457185 | T13: =S13*$C$8 -> 0.8457185 | U13: =(G13-G12)*(M13-F13)*365 -> 0 | V13: =(G13-G12)*(N13-F13)*365 -> 0 | W13: =(G13-G12)*(M13-I13)*365 -> 0 | Y13: =$C$7/1000*1.2*1006*(M13-F13)*8760*(G13-G12)/1000 -> 0 | Z13: =1.2*1006*$C$7/1000*(M13-I13)/1000*(G13-G12)*8760 -> 0 | AC13: -28 | AD13: 0 | AE13: =AD13 -> 0 | AF13: 0 | AG13: 0.0171 | AH13: 0 | AI13: 0 | AJ13: 0.00091324201 | AK13: 0.014726027
B14: Pysyvyystiedot | C14: 2 | F14: -24 | G14: =IF($C$14=1,INDEX(AD17:AG17,1,'LTO HS-laskenta'!$C$13),INDEX(AH17:AK17,1,'LTO HS-laskenta'!$C$13)) -> 0.00011415525 | H14: =$C$12 -> 21 | I14: =MAX(J14:K14) -> -5 | J14: =IF(M14-$C$8*$C$10*(M14-F14)<$C$11,$C$11,M14-$C$8*$C$10*(M14-F14)) -> -5 | K14: =M14-P14*Q14*(M14-F14) -> -5 | L14: =M14-T14*(M14-F14) -> -17.211614 | M14: =$C$5 -> 20 | N14: =MIN(F14+R14/P14*(M14-F14),H14) -> 1 | O14: =F14+S14/P14*(M14-F14) -> 13.211614 | P14: =$C$8 -> 1 | Q14: =MIN(R14/P14,(H14-F14)/(M14-F14)) -> 0.56818182 | R14: =(M14-J14)/(M14-F14) -> 0.56818182 | S14: =$C$10 -> 0.8457185 | T14: =S14*$C$8 -> 0.8457185 | U14: =(G14-G13)*(M14-F14)*365 -> 1.8333333 | V14: =(G14-G13)*(N14-F14)*365 -> 1.0416667 | W14: =(G14-G13)*(M14-I14)*365 -> 1.0416667 | Y14: =$C$7/1000*1.2*1006*(M14-F14)*8760*(G14-G13)/1000 -> 4.4618112 | Z14: =1.2*1006*$C$7/1000*(M14-I14)/1000*(G14-G13)*8760 -> 2.53512 | AC14: -27 | AD14: 0 | AE14: =AD14 -> 0 | AF14: 0.0007 | AG14: 0.0213 | AH14: 0 | AI14: 0 | AJ14: 0.001826484 | AK14: 0.019063927
B15: Muut poistoilmavirrat ei LTO:n kautta | C15: =Tulostus!L62 -> 0 | D15: l/s | F15: -23 | G15: =IF($C$14=1,INDEX(AD18:AG18,1,'LTO HS-laskenta'!$C$13),INDEX(AH18:AK18,1,'LTO HS-laskenta'!$C$13)) -> 0.00034246575 | H15: =$C$12 -> 21 | I15: =MAX(J15:K15) -> -5 | J15: =IF(M15-$C$8*$C$10*(M15-F15)<$C$11,$C$11,M15-$C$8*$C$10*(M15-F15)) -> -5 | K15: =M15-P15*Q15*(M15-F15) -> -5 | L15: =M15-T15*(M15-F15) -> -16.365896 | M15: =$C$5 -> 20 | N15: =MIN(F15+R15/P15*(M15-F15),H15) -> 2 | O15: =F15+S15/P15*(M15-F15) -> 13.365896 | P15: =$C$8 -> 1 | Q15: =MIN(R15/P15,(H15-F15)/(M15-F15)) -> 0.58139535 | R15: =(M15-J15)/(M15-F15) -> 0.58139535 | S15: =$C$10 -> 0.8457185 | T15: =S15*$C$8 -> 0.8457185 | U15: =(G15-G14)*(M15-F15)*365 -> 3.5833333 | V15: =(G15-G14)*(N15-F15)*365 -> 2.0833333 | W15: =(G15-G14)*(M15-I15)*365 -> 2.0833333 | Y15: =$C$7/1000*1.2*1006*(M15-F15)*8760*(G15-G14)/1000 -> 8.7208128 | Z15: =1.2*1006*$C$7/1000*(M15-I15)/1000*(G15-G14)*8760 -> 5.07024 | AC15: -26 | AD15: 0 | AE15: =AD15 -> 0 | AF15: 0.0017 | AG15: 0.0247 | AH15: 0 | AI15: 0.00034246575 | AJ15: 0.0026255708 | AK15: 0.022488584
B16: Käyttöaika / vrk | C16: =Tulostus!L63 -> 0 | D16: h | F16: -22 | G16: =IF($C$14=1,INDEX(AD19:AG19,1,'LTO HS-laskenta'!$C$13),INDEX(AH19:AK19,1,'LTO HS-laskenta'!$C$13)) -> 0.00057077626 | H16: =$C$12 -> 21 | I16: =MAX(J16:K16) -> -5 | J16: =IF(M16-$C$8*$C$10*(M16-F16)<$C$11,$C$11,M16-$C$8*$C$10*(M16-F16)) -> -5 | K16: =M16-P16*Q16*(M16-F16) -> -5 | L16: =M16-T16*(M16-F16) -> -15.520177 | M16: =$C$5 -> 20 | N16: =MIN(F16+R16/P16*(M16-F16),H16) -> 3 | O16: =F16+S16/P16*(M16-F16) -> 13.520177 | P16: =$C$8 -> 1 | Q16: =MIN(R16/P16,(H16-F16)/(M16-F16)) -> 0.5952381 | R16: =(M16-J16)/(M16-F16) -> 0.5952381 | S16: =$C$10 -> 0.8457185 | T16: =S16*$C$8 -> 0.8457185 | U16: =(G16-G15)*(M16-F16)*365 -> 3.5 | V16: =(G16-G15)*(N16-F16)*365 -> 2.0833333 | W16: =(G16-G15)*(M16-I16)*365 -> 2.0833333 | Y16: =$C$7/1000*1.2*1006*(M16-F16)*8760*(G16-G15)/1000 -> 8.5180032 | Z16: =1.2*1006*$C$7/1000*(M16-I16)/1000*(G16-G15)*8760 -> 5.07024 | AC16: -25 | AD16: 0 | AE16: =AD16 -> 0 | AF16: 0.0024 | AG16: 0.0307 | AH16: 0 | AI16: 0.00091324201 | AJ16: 0.0038812785 | AK16: 0.02739726
B17: Poistoilma, kaikki | C17: =(24*C7+C16*C15)/24 -> 84 | D17: l/s | F17: -21 | G17: =IF($C$14=1,INDEX(AD20:AG20,1,'LTO HS-laskenta'!$C$13),INDEX(AH20:AK20,1,'LTO HS-laskenta'!$C$13)) -> 0.0011415525 | H17: =$C$12 -> 21 | I17: =MAX(J17:K17) -> -5 | J17: =IF(M17-$C$8*$C$10*(M17-F17)<$C$11,$C$11,M17-$C$8*$C$10*(M17-F17)) -> -5 | K17: =M17-P17*Q17*(M17-F17) -> -5 | L17: =M17-T17*(M17-F17) -> -14.674459 | M17: =$C$5 -> 20 | N17: =MIN(F17+R17/P17*(M17-F17),H17) -> 4 | O17: =F17+S17/P17*(M17-F17) -> 13.674459 | P17: =$C$8 -> 1 | Q17: =MIN(R17/P17,(H17-F17)/(M17-F17)) -> 0.6097561 | R17: =(M17-J17)/(M17-F17) -> 0.6097561 | S17: =$C$10 -> 0.8457185 | T17: =S17*$C$8 -> 0.8457185 | U17: =(G17-G16)*(M17-F17)*365 -> 8.5416667 | V17: =(G17-G16)*(N17-F17)*365 -> 5.2083333 | W17: =(G17-G16)*(M17-I17)*365 -> 5.2083333 | Y17: =$C$7/1000*1.2*1006*(M17-F17)*8760*(G17-G16)/1000 -> 20.787984 | Z17: =1.2*1006*$C$7/1000*(M17-I17)/1000*(G17-G16)*8760 -> 12.6756 | AC17: -24 | AD17: 0 | AE17: =AD17 -> 0 | AF17: 0.004 | AG17: 0.0382 | AH17: 0.00011415525 | AI17: 0.001369863 | AJ17: 0.0058219178 | AK17: 0.030936073
B18: Koko IV:n RT | C18: =C6/(C7+(C16/24*C15)) -> 1 | F18: -20 | G18: =IF($C$14=1,INDEX(AD21:AG21,1,'LTO HS-laskenta'!$C$13),INDEX(AH21:AK21,1,'LTO HS-laskenta'!$C$13)) -> 0.0028538813 | H18: =$C$12 -> 21 | I18: =MAX(J18:K18) -> -5 | J18: =IF(M18-$C$8*$C$10*(M18-F18)<$C$11,$C$11,M18-$C$8*$C$10*(M18-F18)) -> -5 | K18: =M18-P18*Q18*(M18-F18) -> -5 | L18: =M18-T18*(M18-F18) -> -13.82874 | M18: =$C$5 -> 20 | N18: =MIN(F18+R18/P18*(M18-F18),H18) -> 5 | O18: =F18+S18/P18*(M18-F18) -> 13.82874 | P18: =$C$8 -> 1 | Q18: =MIN(R18/P18,(H18-F18)/(M18-F18)) -> 0.625 | R18: =(M18-J18)/(M18-F18) -> 0.625 | S18: =$C$10 -> 0.8457185 | T18: =S18*$C$8 -> 0.8457185 | U18: =(G18-G17)*(M18-F18)*365 -> 25 | V18: =(G18-G17)*(N18-F18)*365 -> 15.625 | W18: =(G18-G17)*(M18-I18)*365 -> 15.625 | Y18: =$C$7/1000*1.2*1006*(M18-F18)*8760*(G18-G17)/1000 -> 60.84288 | Z18: =1.2*1006*$C$7/1000*(M18-I18)/1000*(G18-G17)*8760 -> 38.0268 | AC18: -23 | AD18: 0 | AE18: =AD18 -> 0 | AF18: 0.0056 | AG18: 0.0449 | AH18: 0.00034246575 | AI18: 0.0023972603 | AJ18: 0.0073059361 | AK18: 0.034018265
B19: Mitoittava ulkoLT | C19: =IF(E13=1,-26,IF(E13=2,-29,IF(E13=3,-32,-38))) -> -26 | D19: °C | F19: -19 | G19: =IF($C$14=1,INDEX(AD22:AG22,1,'LTO HS-laskenta'!$C$13),INDEX(AH22:AK22,1,'LTO HS-laskenta'!$C$13)) -> 0.0053652968 | H19: =$H$17 -> 21 | I19: =MAX(J19:K19) -> -5 | J19: =IF(M19-$C$8*$C$10*(M19-F19)<$C$11,$C$11,M19-$C$8*$C$10*(M19-F19)) -> -5 | K19: =M19-P19*Q19*(M19-F19) -> -5 | L19: =M19-T19*(M19-F19) -> -12.983022 | M19: =$C$5 -> 20 | N19: =MIN(F19+R19/P19*(M19-F19),H19) -> 6 | O19: =F19+S19/P19*(M19-F19) -> 13.983022 | P19: =$C$8 -> 1 | Q19: =MIN(R19/P19,(H19-F19)/(M19-F19)) -> 0.64102564 | R19: =(M19-J19)/(M19-F19) -> 0.64102564 | S19: =$C$10 -> 0.8457185 | T19: =S19*$C$8 -> 0.8457185 | U19: =(G19-G18)*(M19-F19)*365 -> 35.75 | V19: =(G19-G18)*(N19-F19)*365 -> 22.916667 | W19: =(G19-G18)*(M19-I19)*365 -> 22.916667 | Y19: =$C$7/1000*1.2*1006*(M19-F19)*8760*(G19-G18)/1000 -> 87.005318 | Z19: =1.2*1006*$C$7/1000*(M19-I19)/1000*(G19-G18)*8760 -> 55.77264 | AC19: -22 | AD19: 0 | AE19: =AD19 -> 0 | AF19: 0.007 | AG19: 0.0513 | AH19: 0.00057077626 | AI19: 0.0029680365 | AJ19: 0.0083333333 | AK19: 0.04109589
B20: Tuloilman LT, mit. | C20: =N3 -> -1 | D20: °C | F20: -18 | G20: =IF($C$14=1,INDEX(AD23:AG23,1,'LTO HS-laskenta'!$C$13),INDEX(AH23:AK23,1,'LTO HS-laskenta'!$C$13)) -> 0.0070776256 | H20: =$H$17 -> 21 | I20: =MAX(J20:K20) -> -5 | J20: =IF(M20-$C$8*$C$10*(M20-F20)<$C$11,$C$11,M20-$C$8*$C$10*(M20-F20)) -> -5 | K20: =M20-P20*Q20*(M20-F20) -> -5 | L20: =M20-T20*(M20-F20) -> -12.137303 | M20: =$C$5 -> 20 | N20: =MIN(F20+R20/P20*(M20-F20),H20) -> 7 | O20: =F20+S20/P20*(M20-F20) -> 14.137303 | P20: =$C$8 -> 1 | Q20: =MIN(R20/P20,(H20-F20)/(M20-F20)) -> 0.65789474 | R20: =(M20-J20)/(M20-F20) -> 0.65789474 | S20: =$C$10 -> 0.8457185 | T20: =S20*$C$8 -> 0.8457185 | U20: =(G20-G19)*(M20-F20)*365 -> 23.75 | V20: =(G20-G19)*(N20-F20)*365 -> 15.625 | W20: =(G20-G19)*(M20-I20)*365 -> 15.625 | Y20: =$C$7/1000*1.2*1006*(M20-F20)*8760*(G20-G19)/1000 -> 57.800736 | Z20: =1.2*1006*$C$7/1000*(M20-I20)/1000*(G20-G19)*8760 -> 38.0268 | AC20: -21 | AD20: 0 | AE20: =AD20 -> 0 | AF20: 0.0087 | AG20: 0.0574 | AH20: 0.0011415525 | AI20: 0.00456621 | AJ20: 0.010616438 | AK20: 0.048059361
F21: -17 | G21: =IF($C$14=1,INDEX(AD24:AG24,1,'LTO HS-laskenta'!$C$13),INDEX(AH24:AK24,1,'LTO HS-laskenta'!$C$13)) -> 0.0092465753 | H21: =$H$17 -> 21 | I21: =MAX(J21:K21) -> -5 | J21: =IF(M21-$C$8*$C$10*(M21-F21)<$C$11,$C$11,M21-$C$8*$C$10*(M21-F21)) -> -5 | K21: =M21-P21*Q21*(M21-F21) -> -5 | L21: =M21-T21*(M21-F21) -> -11.291585 | M21: =$C$5 -> 20 | N21: =MIN(F21+R21/P21*(M21-F21),H21) -> 8 | O21: =F21+S21/P21*(M21-F21) -> 14.291585 | P21: =$C$8 -> 1 | Q21: =MIN(R21/P21,(H21-F21)/(M21-F21)) -> 0.67567568 | R21: =(M21-J21)/(M21-F21) -> 0.67567568 | S21: =$C$10 -> 0.8457185 | T21: =S21*$C$8 -> 0.8457185 | U21: =(G21-G20)*(M21-F21)*365 -> 29.291667 | V21: =(G21-G20)*(N21-F21)*365 -> 19.791667 | W21: =(G21-G20)*(M21-I21)*365 -> 19.791667 | Y21: =$C$7/1000*1.2*1006*(M21-F21)*8760*(G21-G20)/1000 -> 71.287574 | Z21: =1.2*1006*$C$7/1000*(M21-I21)/1000*(G21-G20)*8760 -> 48.16728 | AC21: -20 | AD21: 0.0008 | AE21: =AD21 -> 0.0008 | AF21: 0.0122 | AG21: 0.0643 | AH21: 0.0028538813 | AI21: 0.0058219178 | AJ21: 0.012671233 | AK21: 0.055251142
C22: =C6/(C7+(C16/24*C15)) -> 1 | F22: -16 | G22: =IF($C$14=1,INDEX(AD25:AG25,1,'LTO HS-laskenta'!$C$13),INDEX(AH25:AK25,1,'LTO HS-laskenta'!$C$13)) -> 0.011872146 | H22: =$H$17 -> 21 | I22: =MAX(J22:K22) -> -5 | J22: =IF(M22-$C$8*$C$10*(M22-F22)<$C$11,$C$11,M22-$C$8*$C$10*(M22-F22)) -> -5 | K22: =M22-P22*Q22*(M22-F22) -> -5 | L22: =M22-T22*(M22-F22) -> -10.445866 | M22: =$C$5 -> 20 | N22: =MIN(F22+R22/P22*(M22-F22),H22) -> 9 | O22: =F22+S22/P22*(M22-F22) -> 14.445866 | P22: =$C$8 -> 1 | Q22: =MIN(R22/P22,(H22-F22)/(M22-F22)) -> 0.69444444 | R22: =(M22-J22)/(M22-F22) -> 0.69444444 | S22: =$C$10 -> 0.8457185 | T22: =S22*$C$8 -> 0.8457185 | U22: =(G22-G21)*(M22-F22)*365 -> 34.5 | V22: =(G22-G21)*(N22-F22)*365 -> 23.958333 | W22: =(G22-G21)*(M22-I22)*365 -> 23.958333 | Y22: =$C$7/1000*1.2*1006*(M22-F22)*8760*(G22-G21)/1000 -> 83.963174 | Z22: =1.2*1006*$C$7/1000*(M22-I22)/1000*(G22-G21)*8760 -> 58.30776 | AC22: -19 | AD22: 0.003 | AE22: =AD22 -> 0.003 | AF22: 0.0193 | AG22: 0.0712 | AH22: 0.0053652968 | AI22: 0.0077625571 | AJ22: 0.016552511 | AK22: 0.062557078
F23: -15 | G23: =IF($C$14=1,INDEX(AD26:AG26,1,'LTO HS-laskenta'!$C$13),INDEX(AH26:AK26,1,'LTO HS-laskenta'!$C$13)) -> 0.016324201 | H23: =$H$17 -> 21 | I23: =MAX(J23:K23) -> -5 | J23: =IF(M23-$C$8*$C$10*(M23-F23)<$C$11,$C$11,M23-$C$8*$C$10*(M23-F23)) -> -5 | K23: =M23-P23*Q23*(M23-F23) -> -5 | L23: =M23-T23*(M23-F23) -> -9.6001477 | M23: =$C$5 -> 20 | N23: =MIN(F23+R23/P23*(M23-F23),H23) -> 10 | O23: =F23+S23/P23*(M23-F23) -> 14.600148 | P23: =$C$8 -> 1 | Q23: =MIN(R23/P23,(H23-F23)/(M23-F23)) -> 0.71428571 | R23: =(M23-J23)/(M23-F23) -> 0.71428571 | S23: =$C$10 -> 0.8457185 | T23: =S23*$C$8 -> 0.8457185 | U23: =(G23-G22)*(M23-F23)*365 -> 56.875 | V23: =(G23-G22)*(N23-F23)*365 -> 40.625 | W23: =(G23-G22)*(M23-I23)*365 -> 40.625 | Y23: =$C$7/1000*1.2*1006*(M23-F23)*8760*(G23-G22)/1000 -> 138.41755 | Z23: =1.2*1006*$C$7/1000*(M23-I23)/1000*(G23-G22)*8760 -> 98.86968 | AC23: -18 | AD23: 0.0056 | AE23: =AD23 -> 0.0056 | AF23: 0.0269 | AG23: 0.0789 | AH23: 0.0070776256 | AI23: 0.010045662 | AJ23: 0.018949772 | AK23: 0.06803653
B24: VUOSIHYÖTYSUHDE | D24: =MIN(V4*C18/U4,1) -> 0.83251095 | F24: -14 | G24: =IF($C$14=1,INDEX(AD27:AG27,1,'LTO HS-laskenta'!$C$13),INDEX(AH27:AK27,1,'LTO HS-laskenta'!$C$13)) -> 0.021917808 | H24: =$H$17 -> 21 | I24: =MAX(J24:K24) -> -5 | J24: =IF(M24-$C$8*$C$10*(M24-F24)<$C$11,$C$11,M24-$C$8*$C$10*(M24-F24)) -> -5 | K24: =M24-P24*Q24*(M24-F24) -> -5 | L24: =M24-T24*(M24-F24) -> -8.7544292 | M24: =$C$5 -> 20 | N24: =MIN(F24+R24/P24*(M24-F24),H24) -> 11 | O24: =F24+S24/P24*(M24-F24) -> 14.754429 | P24: =$C$8 -> 1 | Q24: =MIN(R24/P24,(H24-F24)/(M24-F24)) -> 0.73529412 | R24: =(M24-J24)/(M24-F24) -> 0.73529412 | S24: =$C$10 -> 0.8457185 | T24: =S24*$C$8 -> 0.8457185 | U24: =(G24-G23)*(M24-F24)*365 -> 69.416667 | V24: =(G24-G23)*(N24-F24)*365 -> 51.041667 | W24: =(G24-G23)*(M24-I24)*365 -> 51.041667 | Y24: =$C$7/1000*1.2*1006*(M24-F24)*8760*(G24-G23)/1000 -> 168.9404 | Z24: =1.2*1006*$C$7/1000*(M24-I24)/1000*(G24-G23)*8760 -> 124.22088 | AC24: -17 | AD24: 0.008 | AE24: =AD24 -> 0.008 | AF24: 0.0317 | AG24: 0.0879 | AH24: 0.0092465753 | AI24: 0.013127854 | AJ24: 0.023287671 | AK24: 0.074543379
D25: 83.06 | F25: -13 | G25: =IF($C$14=1,INDEX(AD28:AG28,1,'LTO HS-laskenta'!$C$13),INDEX(AH28:AK28,1,'LTO HS-laskenta'!$C$13)) -> 0.028652968 | H25: =$H$17 -> 21 | I25: =MAX(J25:K25) -> -5 | J25: =IF(M25-$C$8*$C$10*(M25-F25)<$C$11,$C$11,M25-$C$8*$C$10*(M25-F25)) -> -5 | K25: =M25-P25*Q25*(M25-F25) -> -5 | L25: =M25-T25*(M25-F25) -> -7.9087107 | M25: =$C$5 -> 20 | N25: =MIN(F25+R25/P25*(M25-F25),H25) -> 12 | O25: =F25+S25/P25*(M25-F25) -> 14.908711 | P25: =$C$8 -> 1 | Q25: =MIN(R25/P25,(H25-F25)/(M25-F25)) -> 0.75757576 | R25: =(M25-J25)/(M25-F25) -> 0.75757576 | S25: =$C$10 -> 0.8457185 | T25: =S25*$C$8 -> 0.8457185 | U25: =(G25-G24)*(M25-F25)*365 -> 81.125 | V25: =(G25-G24)*(N25-F25)*365 -> 61.458333 | W25: =(G25-G24)*(M25-I25)*365 -> 61.458333 | Y25: =$C$7/1000*1.2*1006*(M25-F25)*8760*(G25-G24)/1000 -> 197.43515 | Z25: =1.2*1006*$C$7/1000*(M25-I25)/1000*(G25-G24)*8760 -> 149.57208 | AC25: -16 | AD25: 0.0114 | AE25: =AD25 -> 0.0114 | AF25: 0.0354 | AG25: 0.0979 | AH25: 0.011872146 | AI25: 0.01826484 | AJ25: 0.028538813 | AK25: 0.081621005
F26: -12 | G26: =IF($C$14=1,INDEX(AD29:AG29,1,'LTO HS-laskenta'!$C$13),INDEX(AH29:AK29,1,'LTO HS-laskenta'!$C$13)) -> 0.034589041 | H26: =$H$17 -> 21 | I26: =MAX(J26:K26) -> -5 | J26: =IF(M26-$C$8*$C$10*(M26-F26)<$C$11,$C$11,M26-$C$8*$C$10*(M26-F26)) -> -5 | K26: =M26-P26*Q26*(M26-F26) -> -5 | L26: =M26-T26*(M26-F26) -> -7.0629922 | M26: =$C$5 -> 20 | N26: =MIN(F26+R26/P26*(M26-F26),H26) -> 13 | O26: =F26+S26/P26*(M26-F26) -> 15.062992 | P26: =$C$8 -> 1 | Q26: =MIN(R26/P26,(H26-F26)/(M26-F26)) -> 0.78125 | R26: =(M26-J26)/(M26-F26) -> 0.78125 | S26: =$C$10 -> 0.8457185 | T26: =S26*$C$8 -> 0.8457185 | U26: =(G26-G25)*(M26-F26)*365 -> 69.333333 | V26: =(G26-G25)*(N26-F26)*365 -> 54.166667 | W26: =(G26-G25)*(M26-I26)*365 -> 54.166667 | Y26: =$C$7/1000*1.2*1006*(M26-F26)*8760*(G26-G25)/1000 -> 168.73759 | Z26: =1.2*1006*$C$7/1000*(M26-I26)/1000*(G26-G25)*8760 -> 131.82624 | AC26: -15 | AD26: 0.0177 | AE26: =AD26 -> 0.0177 | AF26: 0.0411 | AG26: 0.1076 | AH26: 0.016324201 | AI26: 0.023287671 | AJ26: 0.035844749 | AK26: 0.090981735
F27: -11 | G27: =IF($C$14=1,INDEX(AD30:AG30,1,'LTO HS-laskenta'!$C$13),INDEX(AH30:AK30,1,'LTO HS-laskenta'!$C$13)) -> 0.040639269 | H27: =$H$17 -> 21 | I27: =MAX(J27:K27) -> -5 | J27: =IF(M27-$C$8*$C$10*(M27-F27)<$C$11,$C$11,M27-$C$8*$C$10*(M27-F27)) -> -5 | K27: =M27-P27*Q27*(M27-F27) -> -5 | L27: =M27-T27*(M27-F27) -> -6.2172737 | M27: =$C$5 -> 20 | N27: =MIN(F27+R27/P27*(M27-F27),H27) -> 14 | O27: =F27+S27/P27*(M27-F27) -> 15.217274 | P27: =$C$8 -> 1 | Q27: =MIN(R27/P27,(H27-F27)/(M27-F27)) -> 0.80645161 | R27: =(M27-J27)/(M27-F27) -> 0.80645161 | S27: =$C$10 -> 0.8457185 | T27: =S27*$C$8 -> 0.8457185 | U27: =(G27-G26)*(M27-F27)*365 -> 68.458333 | V27: =(G27-G26)*(N27-F27)*365 -> 55.208333 | W27: =(G27-G26)*(M27-I27)*365 -> 55.208333 | Y27: =$C$7/1000*1.2*1006*(M27-F27)*8760*(G27-G26)/1000 -> 166.60809 | Z27: =1.2*1006*$C$7/1000*(M27-I27)/1000*(G27-G26)*8760 -> 134.36136 | AC27: -14 | AD27: 0.0272 | AE27: =AD27 -> 0.0272 | AF27: 0.0458 | AG27: 0.1182 | AH27: 0.021917808 | AI27: 0.029794521 | AJ27: 0.043493151 | AK27: 0.10422374
F28: -10 | G28: =IF($C$14=1,INDEX(AD31:AG31,1,'LTO HS-laskenta'!$C$13),INDEX(AH31:AK31,1,'LTO HS-laskenta'!$C$13)) -> 0.046575342 | H28: =$H$17 -> 21 | I28: =MAX(J28:K28) -> -5 | J28: =IF(M28-$C$8*$C$10*(M28-F28)<$C$11,$C$11,M28-$C$8*$C$10*(M28-F28)) -> -5 | K28: =M28-P28*Q28*(M28-F28) -> -5 | L28: =M28-T28*(M28-F28) -> -5.3715551 | M28: =$C$5 -> 20 | N28: =MIN(F28+R28/P28*(M28-F28),H28) -> 15 | O28: =F28+S28/P28*(M28-F28) -> 15.371555 | P28: =$C$8 -> 1 | Q28: =MIN(R28/P28,(H28-F28)/(M28-F28)) -> 0.83333333 | R28: =(M28-J28)/(M28-F28) -> 0.83333333 | S28: =$C$10 -> 0.8457185 | T28: =S28*$C$8 -> 0.8457185 | U28: =(G28-G27)*(M28-F28)*365 -> 65 | V28: =(G28-G27)*(N28-F28)*365 -> 54.166667 | W28: =(G28-G27)*(M28-I28)*365 -> 54.166667 | Y28: =$C$7/1000*1.2*1006*(M28-F28)*8760*(G28-G27)/1000 -> 158.19149 | Z28: =1.2*1006*$C$7/1000*(M28-I28)/1000*(G28-G27)*8760 -> 131.82624 | AC28: -13 | AD28: 0.0344 | AE28: =AD28 -> 0.0344 | AF28: 0.0501 | AG28: 0.1293 | AH28: 0.028652968 | AI28: 0.03652968 | AJ28: 0.051598174 | AK28: 0.11746575
B29: I (Vantaa) | F29: -9 | G29: =IF($C$14=1,INDEX(AD32:AG32,1,'LTO HS-laskenta'!$C$13),INDEX(AH32:AK32,1,'LTO HS-laskenta'!$C$13)) -> 0.054680365 | H29: =$H$17 -> 21 | I29: =MAX(J29:K29) -> -4.5258366 | J29: =IF(M29-$C$8*$C$10*(M29-F29)<$C$11,$C$11,M29-$C$8*$C$10*(M29-F29)) -> -4.5258366 | K29: =M29-P29*Q29*(M29-F29) -> -4.5258366 | L29: =M29-T29*(M29-F29) -> -4.5258366 | M29: =$C$5 -> 20 | N29: =MIN(F29+R29/P29*(M29-F29),H29) -> 15.525837 | O29: =F29+S29/P29*(M29-F29) -> 15.525837 | P29: =$C$8 -> 1 | Q29: =MIN(R29/P29,(H29-F29)/(M29-F29)) -> 0.8457185 | R29: =(M29-J29)/(M29-F29) -> 0.8457185 | S29: =$C$10 -> 0.8457185 | T29: =S29*$C$8 -> 0.8457185 | U29: =(G29-G28)*(M29-F29)*365 -> 85.791667 | V29: =(G29-G28)*(N29-F29)*365 -> 72.5556 | W29: =(G29-G28)*(M29-I29)*365 -> 72.5556 | Y29: =$C$7/1000*1.2*1006*(M29-F29)*8760*(G29-G28)/1000 -> 208.79248 | Z29: =1.2*1006*$C$7/1000*(M29-I29)/1000*(G29-G28)*8760 -> 176.57967 | AC29: -12 | AD29: 0.0426 | AE29: =AD29 -> 0.0426 | AF29: 0.0551 | AG29: 0.1473 | AH29: 0.034589041 | AI29: 0.041324201 | AJ29: 0.060958904 | AK29: 0.13344749
B30: II (Jokioinen) | F30: -8 | G30: =IF($C$14=1,INDEX(AD33:AG33,1,'LTO HS-laskenta'!$C$13),INDEX(AH33:AK33,1,'LTO HS-laskenta'!$C$13)) -> 0.063356164 | H30: =$H$17 -> 21 | I30: =MAX(J30:K30) -> -3.6801181 | J30: =IF(M30-$C$8*$C$10*(M30-F30)<$C$11,$C$11,M30-$C$8*$C$10*(M30-F30)) -> -3.6801181 | K30: =M30-P30*Q30*(M30-F30) -> -3.6801181 | L30: =M30-T30*(M30-F30) -> -3.6801181 | M30: =$C$5 -> 20 | N30: =MIN(F30+R30/P30*(M30-F30),H30) -> 15.680118 | O30: =F30+S30/P30*(M30-F30) -> 15.680118 | P30: =$C$8 -> 1 | Q30: =MIN(R30/P30,(H30-F30)/(M30-F30)) -> 0.8457185 | R30: =(M30-J30)/(M30-F30) -> 0.8457185 | S30: =$C$10 -> 0.8457185 | T30: =S30*$C$8 -> 0.8457185 | U30: =(G30-G29)*(M30-F30)*365 -> 88.666667 | V30: =(G30-G29)*(N30-F30)*365 -> 74.987041 | W30: =(G30-G29)*(M30-I30)*365 -> 74.987041 | Y30: =$C$7/1000*1.2*1006*(M30-F30)*8760*(G30-G29)/1000 -> 215.78941 | Z30: =1.2*1006*$C$7/1000*(M30-I30)/1000*(G30-G29)*8760 -> 182.4971 | AC30: -11 | AD30: 0.0485 | AE30: =AD30 -> 0.0485 | AF30: 0.0613 | AG30: 0.1663 | AH30: 0.040639269 | AI30: 0.048401826 | AJ30: 0.071575342 | AK30: 0.15136986
B31: III (Jyväskylä) | F31: -7 | G31: =IF($C$14=1,INDEX(AD34:AG34,1,'LTO HS-laskenta'!$C$13),INDEX(AH34:AK34,1,'LTO HS-laskenta'!$C$13)) -> 0.075 | H31: =$H$17 -> 21 | I31: =MAX(J31:K31) -> -2.8343996 | J31: =IF(M31-$C$8*$C$10*(M31-F31)<$C$11,$C$11,M31-$C$8*$C$10*(M31-F31)) -> -2.8343996 | K31: =M31-P31*Q31*(M31-F31) -> -2.8343996 | L31: =M31-T31*(M31-F31) -> -2.8343996 | M31: =$C$5 -> 20 | N31: =MIN(F31+R31/P31*(M31-F31),H31) -> 15.8344 | O31: =F31+S31/P31*(M31-F31) -> 15.8344 | P31: =$C$8 -> 1 | Q31: =MIN(R31/P31,(H31-F31)/(M31-F31)) -> 0.8457185 | R31: =(M31-J31)/(M31-F31) -> 0.8457185 | S31: =$C$10 -> 0.8457185 | T31: =S31*$C$8 -> 0.8457185 | U31: =(G31-G30)*(M31-F31)*365 -> 114.75 | V31: =(G31-G30)*(N31-F31)*365 -> 97.046198 | W31: =(G31-G30)*(M31-I31)*365 -> 97.046198 | Y31: =$C$7/1000*1.2*1006*(M31-F31)*8760*(G31-G30)/1000 -> 279.26882 | Z31: =1.2*1006*$C$7/1000*(M31-I31)/1000*(G31-G30)*8760 -> 236.18281 | AC31: -10 | AD31: 0.0541 | AE31: =AD31 -> 0.0541 | AF31: 0.07 | AG31: 0.1839 | AH31: 0.046575342 | AI31: 0.05696347 | AJ31: 0.083105023 | AK31: 0.16860731
B32: IV (Sodankylä) | F32: -6 | G32: =IF($C$14=1,INDEX(AD35:AG35,1,'LTO HS-laskenta'!$C$13),INDEX(AH35:AK35,1,'LTO HS-laskenta'!$C$13)) -> 0.08847032 | H32: =$H$17 -> 21 | I32: =MAX(J32:K32) -> -1.9886811 | J32: =IF(M32-$C$8*$C$10*(M32-F32)<$C$11,$C$11,M32-$C$8*$C$10*(M32-F32)) -> -1.9886811 | K32: =M32-P32*Q32*(M32-F32) -> -1.9886811 | L32: =M32-T32*(M32-F32) -> -1.9886811 | M32: =$C$5 -> 20 | N32: =MIN(F32+R32/P32*(M32-F32),H32) -> 15.988681 | O32: =F32+S32/P32*(M32-F32) -> 15.988681 | P32: =$C$8 -> 1 | Q32: =MIN(R32/P32,(H32-F32)/(M32-F32)) -> 0.8457185 | R32: =(M32-J32)/(M32-F32) -> 0.8457185 | S32: =$C$10 -> 0.8457185 | T32: =S32*$C$8 -> 0.8457185 | U32: =(G32-G31)*(M32-F32)*365 -> 127.83333 | V32: =(G32-G31)*(N32-F32)*365 -> 108.11102 | W32: =(G32-G31)*(M32-I32)*365 -> 108.11102 | Y32: =$C$7/1000*1.2*1006*(M32-F32)*8760*(G32-G31)/1000 -> 311.10993 | Z32: =1.2*1006*$C$7/1000*(M32-I32)/1000*(G32-G31)*8760 -> 263.11142 | AC32: -9 | AD32: 0.0597 | AE32: =AD32 -> 0.0597 | AF32: 0.0837 | AG32: 0.2041 | AH32: 0.054680365 | AI32: 0.067351598 | AJ32: 0.097945205 | AK32: 0.18630137
F33: -5 | G33: =IF($C$14=1,INDEX(AD36:AG36,1,'LTO HS-laskenta'!$C$13),INDEX(AH36:AK36,1,'LTO HS-laskenta'!$C$13)) -> 0.10547945 | H33: =$H$17 -> 21 | I33: =MAX(J33:K33) -> -1.1429626 | J33: =IF(M33-$C$8*$C$10*(M33-F33)<$C$11,$C$11,M33-$C$8*$C$10*(M33-F33)) -> -1.1429626 | K33: =M33-P33*Q33*(M33-F33) -> -1.1429626 | L33: =M33-T33*(M33-F33) -> -1.1429626 | M33: =$C$5 -> 20 | N33: =MIN(F33+R33/P33*(M33-F33),H33) -> 16.142963 | O33: =F33+S33/P33*(M33-F33) -> 16.142963 | P33: =$C$8 -> 1 | Q33: =MIN(R33/P33,(H33-F33)/(M33-F33)) -> 0.8457185 | R33: =(M33-J33)/(M33-F33) -> 0.8457185 | S33: =$C$10 -> 0.8457185 | T33: =S33*$C$8 -> 0.8457185 | U33: =(G33-G32)*(M33-F33)*365 -> 155.20833 | V33: =(G33-G32)*(N33-F33)*365 -> 131.26256 | W33: =(G33-G32)*(M33-I33)*365 -> 131.26256 | Y33: =$C$7/1000*1.2*1006*(M33-F33)*8760*(G33-G32)/1000 -> 377.73288 | Z33: =1.2*1006*$C$7/1000*(M33-I33)/1000*(G33-G32)*8760 -> 319.45569 | AC33: -8 | AD33: 0.0684 | AE33: =AD33 -> 0.0684 | AF33: 0.0997 | AG33: 0.2223 | AH33: 0.063356164 | AI33: 0.076255708 | AJ33: 0.11666667 | AK33: 0.20091324
B34: 30 vuoden pysyvyysarvot | F34: -4 | G34: =IF($C$14=1,INDEX(AD37:AG37,1,'LTO HS-laskenta'!$C$13),INDEX(AH37:AK37,1,'LTO HS-laskenta'!$C$13)) -> 0.12888128 | H34: =$H$17 -> 21 | I34: =MAX(J34:K34) -> -0.29724412 | J34: =IF(M34-$C$8*$C$10*(M34-F34)<$C$11,$C$11,M34-$C$8*$C$10*(M34-F34)) -> -0.29724412 | K34: =M34-P34*Q34*(M34-F34) -> -0.29724412 | L34: =M34-T34*(M34-F34) -> -0.29724412 | M34: =$C$5 -> 20 | N34: =MIN(F34+R34/P34*(M34-F34),H34) -> 16.297244 | O34: =F34+S34/P34*(M34-F34) -> 16.297244 | P34: =$C$8 -> 1 | Q34: =MIN(R34/P34,(H34-F34)/(M34-F34)) -> 0.8457185 | R34: =(M34-J34)/(M34-F34) -> 0.8457185 | S34: =$C$10 -> 0.8457185 | T34: =S34*$C$8 -> 0.8457185 | U34: =(G34-G33)*(M34-F34)*365 -> 205 | V34: =(G34-G33)*(N34-F34)*365 -> 173.37229 | W34: =(G34-G33)*(M34-I34)*365 -> 173.37229 | Y34: =$C$7/1000*1.2*1006*(M34-F34)*8760*(G34-G33)/1000 -> 498.91162 | Z34: =1.2*1006*$C$7/1000*(M34-I34)/1000*(G34-G33)*8760 -> 421.93879 | AC34: -7 | AD34: 0.0826 | AE34: =AD34 -> 0.0826 | AF34: 0.1272 | AG34: 0.2447 | AH34: 0.075 | AI34: 0.087785388 | AJ34: 0.1369863 | AK34: 0.22237443
B35: TRY 2020 pysyvyysarvot | F35: -3 | G35: =IF($C$14=1,INDEX(AD38:AG38,1,'LTO HS-laskenta'!$C$13),INDEX(AH38:AK38,1,'LTO HS-laskenta'!$C$13)) -> 0.15570776 | H35: =$H$17 -> 21 | I35: =MAX(J35:K35) -> 0.54847439 | J35: =IF(M35-$C$8*$C$10*(M35-F35)<$C$11,$C$11,M35-$C$8*$C$10*(M35-F35)) -> 0.54847439 | K35: =M35-P35*Q35*(M35-F35) -> 0.54847439 | L35: =M35-T35*(M35-F35) -> 0.54847439 | M35: =$C$5 -> 20 | N35: =MIN(F35+R35/P35*(M35-F35),H35) -> 16.451526 | O35: =F35+S35/P35*(M35-F35) -> 16.451526 | P35: =$C$8 -> 1 | Q35: =MIN(R35/P35,(H35-F35)/(M35-F35)) -> 0.8457185 | R35: =(M35-J35)/(M35-F35) -> 0.8457185 | S35: =$C$10 -> 0.8457185 | T35: =S35*$C$8 -> 0.8457185 | U35: =(G35-G34)*(M35-F35)*365 -> 225.20833 | V35: =(G35-G34)*(N35-F35)*365 -> 190.46285 | W35: =(G35-G34)*(M35-I35)*365 -> 190.46285 | Y35: =$C$7/1000*1.2*1006*(M35-F35)*8760*(G35-G34)/1000 -> 548.09294 | Z35: =1.2*1006*$C$7/1000*(M35-I35)/1000*(G35-G34)*8760 -> 463.53235 | AC35: -6 | AD35: 0.0993 | AE35: =AD35 -> 0.0993 | AF35: 0.1484 | AG35: 0.2701 | AH35: 0.08847032 | AI35: 0.10216895 | AJ35: 0.1609589 | AK35: 0.24121005
F36: -2 | G36: =IF($C$14=1,INDEX(AD39:AG39,1,'LTO HS-laskenta'!$C$13),INDEX(AH39:AK39,1,'LTO HS-laskenta'!$C$13)) -> 0.18424658 | H36: =$H$17 -> 21 | I36: =MAX(J36:K36) -> 1.3941929 | J36: =IF(M36-$C$8*$C$10*(M36-F36)<$C$11,$C$11,M36-$C$8*$C$10*(M36-F36)) -> 1.3941929 | K36: =M36-P36*Q36*(M36-F36) -> 1.3941929 | L36: =M36-T36*(M36-F36) -> 1.3941929 | M36: =$C$5 -> 20 | N36: =MIN(F36+R36/P36*(M36-F36),H36) -> 16.605807 | O36: =F36+S36/P36*(M36-F36) -> 16.605807 | P36: =$C$8 -> 1 | Q36: =MIN(R36/P36,(H36-F36)/(M36-F36)) -> 0.8457185 | R36: =(M36-J36)/(M36-F36) -> 0.8457185 | S36: =$C$10 -> 0.8457185 | T36: =S36*$C$8 -> 0.8457185 | U36: =(G36-G35)*(M36-F36)*365 -> 229.16667 | V36: =(G36-G35)*(N36-F36)*365 -> 193.81049 | W36: =(G36-G35)*(M36-I36)*365 -> 193.81049 | Y36: =$C$7/1000*1.2*1006*(M36-F36)*8760*(G36-G35)/1000 -> 557.7264 | Z36: =1.2*1006*$C$7/1000*(M36-I36)/1000*(G36-G35)*8760 -> 471.67954 | AC36: -5 | AD36: 0.1186 | AE36: =AD36 -> 0.1186 | AF36: 0.1775 | AG36: 0.3001 | AH36: 0.10547945 | AI36: 0.12317352 | AJ36: 0.1880137 | AK36: 0.27180365
F37: -1 | G37: =IF($C$14=1,INDEX(AD40:AG40,1,'LTO HS-laskenta'!$C$13),INDEX(AH40:AK40,1,'LTO HS-laskenta'!$C$13)) -> 0.20924658 | H37: =$H$17 -> 21 | I37: =MAX(J37:K37) -> 2.2399114 | J37: =IF(M37-$C$8*$C$10*(M37-F37)<$C$11,$C$11,M37-$C$8*$C$10*(M37-F37)) -> 2.2399114 | K37: =M37-P37*Q37*(M37-F37) -> 2.2399114 | L37: =M37-T37*(M37-F37) -> 2.2399114 | M37: =$C$5 -> 20 | N37: =MIN(F37+R37/P37*(M37-F37),H37) -> 16.760089 | O37: =F37+S37/P37*(M37-F37) -> 16.760089 | P37: =$C$8 -> 1 | Q37: =MIN(R37/P37,(H37-F37)/(M37-F37)) -> 0.8457185 | R37: =(M37-J37)/(M37-F37) -> 0.8457185 | S37: =$C$10 -> 0.8457185 | T37: =S37*$C$8 -> 0.8457185 | U37: =(G37-G36)*(M37-F37)*365 -> 191.625 | V37: =(G37-G36)*(N37-F37)*365 -> 162.06081 | W37: =(G37-G36)*(M37-I37)*365 -> 162.06081 | Y37: =$C$7/1000*1.2*1006*(M37-F37)*8760*(G37-G36)/1000 -> 466.36068 | Z37: =1.2*1006*$C$7/1000*(M37-I37)/1000*(G37-G36)*8760 -> 394.40985 | AC37: -4 | AD37: 0.1385 | AE37: =AD37 -> 0.1385 | AF37: 0.2075 | AG37: 0.3287 | AH37: 0.12888128 | AI37: 0.14452055 | AJ37: 0.21392694 | AK37: 0.30650685
F38: 0 | G38: =IF($C$14=1,INDEX(AD41:AG41,1,'LTO HS-laskenta'!$C$13),INDEX(AH41:AK41,1,'LTO HS-laskenta'!$C$13)) -> 0.24920091 | H38: =$H$17 -> 21 | I38: =MAX(J38:K38) -> 3.0856299 | J38: =IF(M38-$C$8*$C$10*(M38-F38)<$C$11,$C$11,M38-$C$8*$C$10*(M38-F38)) -> 3.0856299 | K38: =M38-P38*Q38*(M38-F38) -> 3.0856299 | L38: =M38-T38*(M38-F38) -> 3.0856299 | M38: =$C$5 -> 20 | N38: =MIN(F38+R38/P38*(M38-F38),H38) -> 16.91437 | O38: =F38+S38/P38*(M38-F38) -> 16.91437 | P38: =$C$8 -> 1 | Q38: =MIN(R38/P38,(H38-F38)/(M38-F38)) -> 0.8457185 | R38: =(M38-J38)/(M38-F38) -> 0.8457185 | S38: =$C$10 -> 0.8457185 | T38: =S38*$C$8 -> 0.8457185 | U38: =(G38-G37)*(M38-F38)*365 -> 291.66667 | V38: =(G38-G37)*(N38-F38)*365 -> 246.6679 | W38: =(G38-G37)*(M38-I38)*365 -> 246.6679 | Y38: =$C$7/1000*1.2*1006*(M38-F38)*8760*(G38-G37)/1000 -> 709.8336 | Z38: =1.2*1006*$C$7/1000*(M38-I38)/1000*(G38-G37)*8760 -> 600.31941 | AC38: -3 | AD38: 0.1605 | AE38: =AD38 -> 0.1605 | AF38: 0.245 | AG38: 0.357 | AH38: 0.15570776 | AI38: 0.16849315 | AJ38: 0.24406393 | AK38: 0.34178082
F39: 1 | G39: =IF($C$14=1,INDEX(AD42:AG42,1,'LTO HS-laskenta'!$C$13),INDEX(AH42:AK42,1,'LTO HS-laskenta'!$C$13)) -> 0.30993151 | H39: =$H$17 -> 21 | I39: =MAX(J39:K39) -> 3.9313484 | J39: =IF(M39-$C$8*$C$10*(M39-F39)<$C$11,$C$11,M39-$C$8*$C$10*(M39-F39)) -> 3.9313484 | K39: =M39-P39*Q39*(M39-F39) -> 3.9313484 | L39: =M39-T39*(M39-F39) -> 3.9313484 | M39: =$C$5 -> 20 | N39: =MIN(F39+R39/P39*(M39-F39),H39) -> 17.068652 | O39: =F39+S39/P39*(M39-F39) -> 17.068652 | P39: =$C$8 -> 1 | Q39: =MIN(R39/P39,(H39-F39)/(M39-F39)) -> 0.8457185 | R39: =(M39-J39)/(M39-F39) -> 0.8457185 | S39: =$C$10 -> 0.8457185 | T39: =S39*$C$8 -> 0.8457185 | U39: =(G39-G38)*(M39-F39)*365 -> 421.16667 | V39: =(G39-G38)*(N39-F39)*365 -> 356.18844 | W39: =(G39-G38)*(M39-I39)*365 -> 356.18844 | Y39: =$C$7/1000*1.2*1006*(M39-F39)*8760*(G39-G38)/1000 -> 1024.9997 | Z39: =1.2*1006*$C$7/1000*(M39-I39)/1000*(G39-G38)*8760 -> 866.86123 | AC39: -2 | AD39: 0.1849 | AE39: =AD39 -> 0.1849 | AF39: 0.2878 | AG39: 0.3991 | AH39: 0.18424658 | AI39: 0.193379 | AJ39: 0.27728311 | AK39: 0.37648402
F40: 2 | G40: =IF($C$14=1,INDEX(AD43:AG43,1,'LTO HS-laskenta'!$C$13),INDEX(AH43:AK43,1,'LTO HS-laskenta'!$C$13)) -> 0.36917808 | H40: =$H$17 -> 21 | I40: =MAX(J40:K40) -> 4.7770669 | J40: =IF(M40-$C$8*$C$10*(M40-F40)<$C$11,$C$11,M40-$C$8*$C$10*(M40-F40)) -> 4.7770669 | K40: =M40-P40*Q40*(M40-F40) -> 4.7770669 | L40: =M40-T40*(M40-F40) -> 4.7770669 | M40: =$C$5 -> 20 | N40: =MIN(F40+R40/P40*(M40-F40),H40) -> 17.222933 | O40: =F40+S40/P40*(M40-F40) -> 17.222933 | P40: =$C$8 -> 1 | Q40: =MIN(R40/P40,(H40-F40)/(M40-F40)) -> 0.8457185 | R40: =(M40-J40)/(M40-F40) -> 0.8457185 | S40: =$C$10 -> 0.8457185 | T40: =S40*$C$8 -> 0.8457185 | U40: =(G40-G39)*(M40-F40)*365 -> 389.25 | V40: =(G40-G39)*(N40-F40)*365 -> 329.19593 | W40: =(G40-G39)*(M40-I40)*365 -> 329.19593 | Y40: =$C$7/1000*1.2*1006*(M40-F40)*8760*(G40-G39)/1000 -> 947.32364 | Z40: =1.2*1006*$C$7/1000*(M40-I40)/1000*(G40-G39)*8760 -> 801.16913 | AC40: -1 | AD40: 0.2119 | AE40: =AD40 -> 0.2119 | AF40: 0.33 | AG40: 0.4392 | AH40: 0.20924658 | AI40: 0.22340183 | AJ40: 0.31210046 | AK40: 0.41678082
F41: 3 | G41: =IF($C$14=1,INDEX(AD44:AG44,1,'LTO HS-laskenta'!$C$13),INDEX(AH44:AK44,1,'LTO HS-laskenta'!$C$13)) -> 0.41598174 | H41: =$H$17 -> 21 | I41: =MAX(J41:K41) -> 5.6227854 | J41: =IF(M41-$C$8*$C$10*(M41-F41)<$C$11,$C$11,M41-$C$8*$C$10*(M41-F41)) -> 5.6227854 | K41: =M41-P41*Q41*(M41-F41) -> 5.6227854 | L41: =M41-T41*(M41-F41) -> 5.6227854 | M41: =$C$5 -> 20 | N41: =MIN(F41+R41/P41*(M41-F41),H41) -> 17.377215 | O41: =F41+S41/P41*(M41-F41) -> 17.377215 | P41: =$C$8 -> 1 | Q41: =MIN(R41/P41,(H41-F41)/(M41-F41)) -> 0.8457185 | R41: =(M41-J41)/(M41-F41) -> 0.8457185 | S41: =$C$10 -> 0.8457185 | T41: =S41*$C$8 -> 0.8457185 | U41: =(G41-G40)*(M41-F41)*365 -> 290.41667 | V41: =(G41-G40)*(N41-F41)*365 -> 245.61075 | W41: =(G41-G40)*(M41-I41)*365 -> 245.61075 | Y41: =$C$7/1000*1.2*1006*(M41-F41)*8760*(G41-G40)/1000 -> 706.79146 | Z41: =1.2*1006*$C$7/1000*(M41-I41)/1000*(G41-G40)*8760 -> 597.74661 | AC41: 0 | AD41: 0.2463 | AE41: =AD41 -> 0.2463 | AF41: 0.3691 | AG41: 0.4758 | AH41: 0.24920091 | AI41: 0.27089041 | AJ41: 0.36792237 | AK41: 0.46027397
F42: 4 | G42: =IF($C$14=1,INDEX(AD45:AG45,1,'LTO HS-laskenta'!$C$13),INDEX(AH45:AK45,1,'LTO HS-laskenta'!$C$13)) -> 0.45079909 | H42: =$H$17 -> 21 | I42: =MAX(J42:K42) -> 6.4685039 | J42: =IF(M42-$C$8*$C$10*(M42-F42)<$C$11,$C$11,M42-$C$8*$C$10*(M42-F42)) -> 6.4685039 | K42: =M42-P42*Q42*(M42-F42) -> 6.4685039 | L42: =M42-T42*(M42-F42) -> 6.4685039 | M42: =$C$5 -> 20 | N42: =MIN(F42+R42/P42*(M42-F42),H42) -> 17.531496 | O42: =F42+S42/P42*(M42-F42) -> 17.531496 | P42: =$C$8 -> 1 | Q42: =MIN(R42/P42,(H42-F42)/(M42-F42)) -> 0.8457185 | R42: =(M42-J42)/(M42-F42) -> 0.8457185 | S42: =$C$10 -> 0.8457185 | T42: =S42*$C$8 -> 0.8457185 | U42: =(G42-G41)*(M42-F42)*365 -> 203.33333 | V42: =(G42-G41)*(N42-F42)*365 -> 171.96276 | W42: =(G42-G41)*(M42-I42)*365 -> 171.96276 | Y42: =$C$7/1000*1.2*1006*(M42-F42)*8760*(G42-G41)/1000 -> 494.85542 | Z42: =1.2*1006*$C$7/1000*(M42-I42)/1000*(G42-G41)*8760 -> 418.50839 | AC42: 1 | AD42: 0.3055 | AE42: =AD42 -> 0.3055 | AF42: 0.4227 | AG42: 0.5197 | AH42: 0.30993151 | AI42: 0.34223744 | AJ42: 0.41004566 | AK42: 0.51118721
F43: 5 | G43: =IF($C$14=1,INDEX(AD46:AG46,1,'LTO HS-laskenta'!$C$13),INDEX(AH46:AK46,1,'LTO HS-laskenta'!$C$13)) -> 0.48413242 | H43: =$H$17 -> 21 | I43: =MAX(J43:K43) -> 7.3142224 | J43: =IF(M43-$C$8*$C$10*(M43-F43)<$C$11,$C$11,M43-$C$8*$C$10*(M43-F43)) -> 7.3142224 | K43: =M43-P43*Q43*(M43-F43) -> 7.3142224 | L43: =M43-T43*(M43-F43) -> 7.3142224 | M43: =$C$5 -> 20 | N43: =MIN(F43+R43/P43*(M43-F43),H43) -> 17.685778 | O43: =F43+S43/P43*(M43-F43) -> 17.685778 | P43: =$C$8 -> 1 | Q43: =MIN(R43/P43,(H43-F43)/(M43-F43)) -> 0.8457185 | R43: =(M43-J43)/(M43-F43) -> 0.8457185 | S43: =$C$10 -> 0.8457185 | T43: =S43*$C$8 -> 0.8457185 | U43: =(G43-G42)*(M43-F43)*365 -> 182.5 | V43: =(G43-G42)*(N43-F43)*365 -> 154.34363 | W43: =(G43-G42)*(M43-I43)*365 -> 154.34363 | Y43: =$C$7/1000*1.2*1006*(M43-F43)*8760*(G43-G42)/1000 -> 444.15302 | Z43: =1.2*1006*$C$7/1000*(M43-I43)/1000*(G43-G42)*8760 -> 375.62843 | AC43: 2 | AD43: 0.3619 | AE43: =AD43 -> 0.3619 | AF43: 0.4635 | AG43: 0.5494 | AH43: 0.36917808 | AI43: 0.40136986 | AJ43: 0.45171233 | AK43: 0.54372146
F44: 6 | G44: =IF($C$14=1,INDEX(AD47:AG47,1,'LTO HS-laskenta'!$C$13),INDEX(AH47:AK47,1,'LTO HS-laskenta'!$C$13)) -> 0.51586758 | H44: =$H$17 -> 21 | I44: =MAX(J44:K44) -> 8.1599409 | J44: =IF(M44-$C$8*$C$10*(M44-F44)<$C$11,$C$11,M44-$C$8*$C$10*(M44-F44)) -> 8.1599409 | K44: =M44-P44*Q44*(M44-F44) -> 8.1599409 | L44: =M44-T44*(M44-F44) -> 8.1599409 | M44: =$C$5 -> 20 | N44: =MIN(F44+R44/P44*(M44-F44),H44) -> 17.840059 | O44: =F44+S44/P44*(M44-F44) -> 17.840059 | P44: =$C$8 -> 1 | Q44: =MIN(R44/P44,(H44-F44)/(M44-F44)) -> 0.8457185 | R44: =(M44-J44)/(M44-F44) -> 0.8457185 | S44: =$C$10 -> 0.8457185 | T44: =S44*$C$8 -> 0.8457185 | U44: =(G44-G43)*(M44-F44)*365 -> 162.16667 | V44: =(G44-G43)*(N44-F44)*365 -> 137.14735 | W44: =(G44-G43)*(M44-I44)*365 -> 137.14735 | Y44: =$C$7/1000*1.2*1006*(M44-F44)*8760*(G44-G43)/1000 -> 394.66748 | Z44: =1.2*1006*$C$7/1000*(M44-I44)/1000*(G44-G43)*8760 -> 333.77759 | AC44: 3 | AD44: 0.4144 | AE44: =AD44 -> 0.4144 | AF44: 0.4951 | AG44: 0.5836 | AH44: 0.41598174 | AI44: 0.44018265 | AJ44: 0.48652968 | AK44: 0.57363014
F45: 7 | G45: =IF($C$14=1,INDEX(AD48:AG48,1,'LTO HS-laskenta'!$C$13),INDEX(AH48:AK48,1,'LTO HS-laskenta'!$C$13)) -> 0.5533105 | H45: =$H$17 -> 21 | I45: =MAX(J45:K45) -> 9.0056594 | J45: =IF(M45-$C$8*$C$10*(M45-F45)<$C$11,$C$11,M45-$C$8*$C$10*(M45-F45)) -> 9.0056594 | K45: =M45-P45*Q45*(M45-F45) -> 9.0056594 | L45: =M45-T45*(M45-F45) -> 9.0056594 | M45: =$C$5 -> 20 | N45: =MIN(F45+R45/P45*(M45-F45),H45) -> 17.994341 | O45: =F45+S45/P45*(M45-F45) -> 17.994341 | P45: =$C$8 -> 1 | Q45: =MIN(R45/P45,(H45-F45)/(M45-F45)) -> 0.8457185 | R45: =(M45-J45)/(M45-F45) -> 0.8457185 | S45: =$C$10 -> 0.8457185 | T45: =S45*$C$8 -> 0.8457185 | U45: =(G45-G44)*(M45-F45)*365 -> 177.66667 | V45: =(G45-G44)*(N45-F45)*365 -> 150.25599 | W45: =(G45-G44)*(M45-I45)*365 -> 150.25599 | Y45: =$C$7/1000*1.2*1006*(M45-F45)*8760*(G45-G44)/1000 -> 432.39007 | Z45: =1.2*1006*$C$7/1000*(M45-I45)/1000*(G45-G44)*8760 -> 365.68028 | AC45: 4 | AD45: 0.4548 | AE45: =AD45 -> 0.4548 | AF45: 0.5292 | AG45: 0.6139 | AH45: 0.45079909 | AI45: 0.47716895 | AJ45: 0.518379 | AK45: 0.61015982
F46: 8 | G46: =IF($C$14=1,INDEX(AD49:AG49,1,'LTO HS-laskenta'!$C$13),INDEX(AH49:AK49,1,'LTO HS-laskenta'!$C$13)) -> 0.58984018 | H46: =$H$17 -> 21 | I46: =MAX(J46:K46) -> 9.8513779 | J46: =IF(M46-$C$8*$C$10*(M46-F46)<$C$11,$C$11,M46-$C$8*$C$10*(M46-F46)) -> 9.8513779 | K46: =M46-P46*Q46*(M46-F46) -> 9.8513779 | L46: =M46-T46*(M46-F46) -> 9.8513779 | M46: =$C$5 -> 20 | N46: =MIN(F46+R46/P46*(M46-F46),H46) -> 18.148622 | O46: =F46+S46/P46*(M46-F46) -> 18.148622 | P46: =$C$8 -> 1 | Q46: =MIN(R46/P46,(H46-F46)/(M46-F46)) -> 0.8457185 | R46: =(M46-J46)/(M46-F46) -> 0.8457185 | S46: =$C$10 -> 0.8457185 | T46: =S46*$C$8 -> 0.8457185 | U46: =(G46-G45)*(M46-F46)*365 -> 160 | V46: =(G46-G45)*(N46-F46)*365 -> 135.31496 | W46: =(G46-G45)*(M46-I46)*365 -> 135.31496 | Y46: =$C$7/1000*1.2*1006*(M46-F46)*8760*(G46-G45)/1000 -> 389.39443 | Z46: =1.2*1006*$C$7/1000*(M46-I46)/1000*(G46-G45)*8760 -> 329.31808 | AC46: 5 | AD46: 0.4868 | AE46: =AD46 -> 0.4868 | AF46: 0.5575 | AG46: 0.6441 | AH46: 0.48413242 | AI46: 0.50776256 | AJ46: 0.54885845 | AK46: 0.63641553
F47: 9 | G47: =IF($C$14=1,INDEX(AD50:AG50,1,'LTO HS-laskenta'!$C$13),INDEX(AH50:AK50,1,'LTO HS-laskenta'!$C$13)) -> 0.61746575 | H47: =$H$17 -> 21 | I47: =MAX(J47:K47) -> 10.697096 | J47: =IF(M47-$C$8*$C$10*(M47-F47)<$C$11,$C$11,M47-$C$8*$C$10*(M47-F47)) -> 10.697096 | K47: =M47-P47*Q47*(M47-F47) -> 10.697096 | L47: =M47-T47*(M47-F47) -> 10.697096 | M47: =$C$5 -> 20 | N47: =MIN(F47+R47/P47*(M47-F47),H47) -> 18.302904 | O47: =F47+S47/P47*(M47-F47) -> 18.302904 | P47: =$C$8 -> 1 | Q47: =MIN(R47/P47,(H47-F47)/(M47-F47)) -> 0.8457185 | R47: =(M47-J47)/(M47-F47) -> 0.8457185 | S47: =$C$10 -> 0.8457185 | T47: =S47*$C$8 -> 0.8457185 | U47: =(G47-G46)*(M47-F47)*365 -> 110.91667 | V47: =(G47-G46)*(N47-F47)*365 -> 93.804277 | W47: =(G47-G46)*(M47-I47)*365 -> 93.804277 | Y47: =$C$7/1000*1.2*1006*(M47-F47)*8760*(G47-G46)/1000 -> 269.93958 | Z47: =1.2*1006*$C$7/1000*(M47-I47)/1000*(G47-G46)*8760 -> 228.2929 | AC47: 6 | AD47: 0.5212 | AE47: =AD47 -> 0.5212 | AF47: 0.5957 | AG47: 0.6674 | AH47: 0.51586758 | AI47: 0.54166667 | AJ47: 0.58139269 | AK47: 0.66415525
... F50: 12 | G50: =IF($C$14=1,INDEX(AD53:AG53,1,'LTO HS-laskenta'!$C$13),INDEX(AH53:AK53,1,'LTO HS-laskenta'!$C$13)) -> 0.71415525 | H50: =$H$17 -> 21 | I50: =MAX(J50:K50) -> 13.234252 | J50: =IF(M50-$C$8*$C$10*(M50-F50)<$C$11,$C$11,M50-$C$8*$C$10*(M50-F50)) -> 13.234252 | K50: =M50-P50*Q50*(M50-F50) -> 13.234252 | L50: =M50-T50*(M50-F50) -> 13.234252 | M50: =$C$5 -> 20 | N50: =MIN(F50+R50/P50*(M50-F50),H50) -> 18.765748 | O50: =F50+S50/P50*(M50-F50) -> 18.765748 | P50: =$C$8 -> 1 | Q50: =MIN(R50/P50,(H50-F50)/(M50-F50)) -> 0.8457185 | R50: =(M50-J50)/(M50-F50) -> 0.8457185 | S50: =$C$10 -> 0.8457185 | T50: =S50*$C$8 -> 0.8457185 | U50: =(G50-G49)*(M50-F50)*365 -> 110.66667 | V50: =(G50-G49)*(N50-F50)*365 -> 93.592848 | W50: =(G50-G49)*(M50-I50)*365 -> 93.592848 | Y50: =$C$7/1000*1.2*1006*(M50-F50)*8760*(G50-G49)/1000 -> 269.33115 | Z50: =1.2*1006*$C$7/1000*(M50-I50)/1000*(G50-G49)*8760 -> 227.77834 | AC50: 9 | AD50: 0.6192 | AE50: =AD50 -> 0.6192 | AF50: 0.6889 | AG50: 0.751 | AH50: 0.61746575 | AI50: 0.65399543 | AJ50: 0.66232877 | AK50: 0.74885845
Y51: =SUM(Y17:Y50) -> 11421.02 | Z51: =SUM(Z17:Z50) -> 9513.5145 | AC51: 10 | AD51: 0.6517 | AE51: =AD51 -> 0.6517 | AF51: 0.7166 | AG51: 0.7795 | AH51: 0.64394977 | AI51: 0.68835616 | AJ51: 0.69623288 | AK51: 0.78527397
Y52: kWh | AC52: 11 | AD52: 0.6848 | AE52: =AD52 -> 0.6848 | AF52: 0.7503 | AG52: 0.8057 | AH52: 0.67625571 | AI52: 0.7216895 | AJ52: 0.73105023 | AK52: 0.82283105
AC53: 12 | AD53: 0.7183 | AE53: =AD53 -> 0.7183 | AF53: 0.7811 | AG53: 0.8318 | AH53: 0.71415525 | AI53: 0.75296804 | AJ53: 0.76780822 | AK53: 0.85114155
Z54: =Z51/Y51 -> 0.83298292 | AC54: 13 | AD54: 0.7517 | AE54: =AD54 -> 0.7517 | AF54: 0.8104 | AG54: 0.8592 | AH54: 0.7543379 | AI54: 0.78493151 | AJ54: 0.80593607 | AK54: 0.8760274
O55: Jälkilämmityspatterin tehontarve mitoitusolosuhteissa | U55: =C6*1.2*(C12-C20) -> 2217.6 | V55: W | AC55: 14 | AD55: 0.7885 | AE55: =AD55 -> 0.7885 | AF55: 0.841 | AG55: 0.8829 | AH55: 0.78732877 | AI55: 0.81974886 | AJ55: 0.84509132 | AK55: 0.89577626
O56: Ilmanvaihdon kokonaisenergiantarve | U56: =Y51 -> 11421.02 | V56: kWh | AC56: 15 | AD56: 0.8224 | AE56: =AD56 -> 0.8224 | AF56: 0.8664 | AG56: 0.9042 | AH56: 0.82625571 | AI56: 0.85468037 | AJ56: 0.87568493 | AK56: 0.91803653
O57: Talteenotettu lämmitysenergia | U57: =Z51 -> 9513.5145 | V57: kWh | AC57: 16 | AD57: 0.8556 | AE57: =AD57 -> 0.8556 | AF57: 0.8912 | AG57: 0.9233 | AH57: 0.86187215 | AI57: 0.88059361 | AJ57: 0.89908676 | AK57: 0.93550228
AC58: 17 | AD58: 0.8909 | AE58: =AD58 -> 0.8909 | AF58: 0.9143 | AG58: 0.9394 | AH58: 0.88995434 | AI58: 0.90388128 | AJ58: 0.92100457 | AK58: 0.95273973
AC59: 18 | AD59: 0.9148 | AE59: =AD59 -> 0.9148 | AF59: 0.9321 | AG59: 0.9521 | AH59: 0.91358447 | AI59: 0.92260274 | AJ59: 0.93892694 | AK59: 0.96712329
AC60: 19 | AD60: 0.9354 | AE60: =AD60 -> 0.9354 | AF60: 0.9465 | AG60: 0.9634 | AH60: 0.93219178 | AI60: 0.93835616 | AJ60: 0.95490868 | AK60: 0.9760274
AC61: 20 | AD61: 0.9537 | AE61: =AD61 -> 0.9537 | AF61: 0.9596 | AG61: 0.9731 | AH61: 0.94783105 | AI61: 0.95490868 | AJ61: 0.96700913 | AK61: 0.9826484
AC62: 21 | AD62: 0.9699 | AE62: =AD62 -> 0.9699 | AF62: 0.9748 | AG62: 0.9806 | AH62: 0.96324201 | AI62: 0.96757991 | AJ62: 0.97808219 | AK62: 0.98789954
AC63: 22 | AD63: 0.9811 | AE63: =AD63 -> 0.9811 | AF63: 0.9845 | AG63: 0.987 | AH63: 0.97283105 | AI63: 0.97751142 | AJ63: 0.98652968 | AK63: 0.99166667
AC64: 23 | AD64: 0.9866 | AE64: =AD64 -> 0.9866 | AF64: 0.9906 | AG64: 0.9918 | AH64: 0.98082192 | AI64: 0.98538813 | AJ64: 0.99303653 | AK64: 0.99497717
AC65: 24 | AD65: 0.9913 | AE65: =AD65 -> 0.9913 | AF65: 0.9951 | AG65: 0.9953 | AH65: 0.98550228 | AI65: 0.99098174 | AJ65: 0.99760274 | AK65: 0.99748858
AC66: 25 | AD66: 0.9946 | AE66: =AD66 -> 0.9946 | AF66: 0.9971 | AG66: 0.9976 | AH66: 0.98949772 | AI66: 0.99520548 | AJ66: 0.99920091 | AK66: 0.99851598
AC67: 26 | AD67: 0.9984 | AE67: =AD67 -> 0.9984 | AF67: 0.9983 | AG67: 0.9978 | AH67: 0.99372146 | AI67: 0.99691781 | AJ67: 0.99965753 | AK67: 0.99954338
AC68: 27 | AD68: 0.9991 | AE68: =AD68 -> 0.9991 | AF68: 0.9993 | AG68: 0.9986 | AH68: 0.9966895 | AI68: 0.99840183 | AJ68: 1 | AK68: 1
AC69: 28 | AD69: 0.9994 | AE69: =AD69 -> 0.9994 | AF69: 0.9995 | AG69: 0.9993 | AH69: 0.99874429 | AI69: 0.99920091 | AJ69: 1 | AK69: 1
AC70: 29 | AD70: 1 | AE70: =AD70 -> 1 | AF70: 1 | AG70: 1 | AH70: 0.99965753 | AI70: 0.99977169 | AJ70: 1 | AK70: 1

Sheet LTO-kennon HS
I2: Parmair Alvari
I3: Kenno:
D4: Hyödynnetty mittausdataa:
R6: tulo | S6: ulko | T6: poisto | U6: jäte
D7: Tuloilmavirta | F7: =Tulostus!J36 -> 84 | G7: dm³/s | I7: Ei käytössä tässä mallissa. Hyötysuhteet mitattu. | R7: 17 | S7: 7 | T7: 20
D8: Tulopuhaltimen sähköteho | F8: =Tulostus!J41 -> 49.722015 | G8: W | I8: 0 | J8: °C | K8: Lämmittävä vaikutus. Arvioitu 80 % (konservatiivinen arvio)
I9: =-I8/(20-7) -> 0 | J9: %-yksikön korjaus hyötysuhteeseen, jos ulkoilma 7 C ja poistoilma 20 C | R9: =(R7-S7)/(T7-S7) -> 0.76923077
D10: Mitoitusohjelmasta: | R10: =((R7-I8)-S7)/(T7-S7) -> 0.76923077
D12: Ilmavirta | E12: HS, kenno kuiva | F12: HS kone | J12: 2. asteen polynomisovite | R12: =R10-R9 -> 0
D13: 29.4 | F13: 86.5 | J13: x = dm³/s, y = LT-HS
D14: 60.35 | F14: 85.1 | J14: y = Ax2+Bx+C
D15: 92.15 | F15: 84.5 | J15: A | K15: B | L15: C
D16: 123.45 | F16: 84.7 | J16: {=LINEST(F13:F16,D13:D16^{1,2})} -> 0.00041016295 | K16: -0.081789648 | L16: 88.548071
J18: LT-hyötysuhde mitoituspisteessä:
J19: =J16*F7^2+K16*F7+L16 -> 84.57185
J20: Tarkastetaan minimi ja maksimi
J21: =IF(J19>E22,E22,IF(F7>300,E23,J19)) -> 84.57185
D22: Maksimi | E22: =F13 -> 86.5 | J22: Laskentaan:
D23: Minimi | E23: =F16 -> 84.7 | J23: =J21/100 -> 0.8457185
J25: =F7 -> 84 | K25: =J23*100 -> 84.57185 | L25: Kenno
D27: 0 | E27: =E22 -> 86.5
D28: =D19 -> 0 | E28: =E27 -> 86.5

Sheet Loki
D2: Versio | E2: Pvm | F2: Kuvaus | G2: Tekijä | H2: Lähetetty asiakkaalle | I2: Tiedoston nimi
D3: v1.0 | E3: 25.8. | F3: Laskentaohjelma luotu | G3: JK | H3: - | I3: Parmair Alvari laskentaohjelma v1.0
D4: v1.0 | E4: 9.9. | F4: Tarkennettu hyötysuhteita | G4: JU | I4: Parmair Alvari laskentaohjelma v1.0
D5: v1.0 | E5: 10.9. | F5: Validointi + Lähetetty asiakkaalle | G5: JK/JU | H5: 46275 | I5: Parmair Alvari laskentaohjelma v1.0

Sheet Validointi
B3: Validointi
B7: Erilliset validointipisteet: | E7: *arvioitu kitkapainehäviö
B8: tilavuusvirta selvitetty paineen ja ohjausjännitteen perusteella
B9: Piste 1 | C9: Tulokanava
C10: U | D10: qV | E10: Ptot* | F10: P (W) | G10: Lw | H10: LwA | J10: 63 | K10: 125 | L10: 250 | M10: 500 | N10: 1000 | O10: 2000 | P10: 4000 | Q10: 8000
B11: Mitatut
B12: Lasketut
B13: Erotus | C13: =C11-C12 -> 0 | D13: =D11-D12 -> 0 | E13: =E11-E12 -> 0 | F13: =F11-F12 -> 0 | G13: =G11-G12 -> 0 | H13: =H11-H12 -> 0 | J13: =J11-J12 -> 0 | K13: =K11-K12 -> 0 | L13: =L11-L12 -> 0 | M13: =M11-M12 -> 0 | N13: =N11-N12 -> 0 | O13: =O11-O12 -> 0 | P13: =P11-P12 -> 0 | Q13: =Q11-Q12 -> 0
B16: Piste 2 | C16: Poistokanava
C17: U | D17: qV | E17: Ptot* | F17: P (W) | G17: Lw | H17: LwA | J17: 63 | K17: 125 | L17: 250 | M17: 500 | N17: 1000 | O17: 2000 | P17: 4000 | Q17: 8000
B18: Mitatut
B19: Lasketut
B20: Erotus | C20: =C18-C19 -> 0 | D20: =D18-D19 -> 0 | E20: =E18-E19 -> 0 | F20: =F18-F19 -> 0 | G20: =G18-G19 -> 0 | H20: =H18-H19 -> 0 | J20: =J18-J19 -> 0 | K20: =K18-K19 -> 0 | L20: =L18-L19 -> 0 | M20: =M18-M19 -> 0 | N20: =N18-N19 -> 0 | O20: =O18-O19 -> 0 | P20: =P18-P19 -> 0 | Q20: =Q18-Q19 -> 0
B23: Piste 3 | C23: Vaipan läpi
C24: U | D24: qV tulo | E24: qV pois | F24: Ptot tulo* | G24: Ptot poisto* | H24: P (W) | I24: Lw | J24: LwA | L24: 63 | M24: 125 | N24: 250 | O24: 500 | P24: 1000 | Q24: 2000 | R24: 4000 | S24: 8000
B25: Mitatut
B26: Lasketut
B27: Erotus | D27: =D25-D26 -> 0 | E27: =E25-E26 -> 0 | F27: =F25-F26 -> 0 | G27: =G25-G26 -> 0 | H27: =H25-H26 -> 0 | I27: =I25-I26 -> 0 | J27: =J25-J26 -> 0 | L27: =L25-L26 -> 0 | M27: =M25-M26 -> 0 | N27: =N25-N26 -> 0 | O27: =O25-O26 -> 0 | P27: =P25-P26 -> 0 | Q27: =Q25-Q26 -> 0 | R27: =R25-R26 -> 0 | S27: =S25-S26 -> 0
B32: Vertailu verkkokäyrien pisteisiin:
B34: 1. | C34: Tulokanava
C35: U | D35: qV | E35: Ptot* | F35: P (W) | G35: Lw | H35: LwA | J35: 63 | K35: 125 | L35: 250 | M35: 500 | N35: 1000 | O35: 2000 | P35: 4000 | Q35: 8000
B36: Mitattu | C36: 10 | D36: 121.8 | E36: 339.6 | F36: 179 | G36: 80.6 | H36: 74.9 | J36: 75.6 | K36: 72.1 | L36: 69.2 | M36: 76.9 | N36: 63.1 | O36: 62 | P36: 60.4 | Q36: 50.4
B37: Laskettu | C37: 9.93 | D37: 121.8 | E37: 339.6 | F37: =171.1+6.1 -> 177.2 | G37: 79.4088 | H37: 73.770792 | J37: 74.770792 | K37: 71.770792 | L37: 68.770792 | M37: 74.770792 | N37: 62.770792 | O37: 61.770792 | P37: 60.770792 | Q37: 50.770792
B38: Erotus | C38: =C36-C37 -> 0.07 | D38: =D36-D37 -> 0 | E38: =E36-E37 -> 0 | F38: =F37-F36 -> -1.8 | G38: =G36-G37 -> 1.1912001 | H38: =H36-H37 -> 1.1292078 | J38: =J36-J37 -> 0.82920777 | K38: =K36-K37 -> 0.32920777 | L38: =L36-L37 -> 0.42920777 | M38: =M36-M37 -> 2.1292078 | N38: =N36-N37 -> 0.32920777 | O38: =O36-O37 -> 0.22920777 | P38: =P36-P37 -> -0.37079223 | Q38: =Q36-Q37 -> -0.37079223
F39: =F38/F36 -> -0.010055866
B40: 2. | C40: Tulokanava
C41: U | D41: qV | E41: Ptot* | F41: P (W) | G41: Lw | H41: LwA | J41: 63 | K41: 125 | L41: 250 | M41: 500 | N41: 1000 | O41: 2000 | P41: 4000 | Q41: 8000
B42: Mitattu | C42: 6 | D42: 81.7 | E42: 84.3 | F42: 58.7 | G42: 70.2 | H42: 62.3 | J42: 64.4 | K42: 64.6 | L42: 65 | M42: 60.8 | N42: 53.6 | O42: 52.9 | P42: 48.6 | Q42: 37.4
B43: Laskettu | C43: 5.96 | D43: 81.7 | E43: 84.3 | F43: =53.4+6.1 -> 59.5 | G43: 70.845599 | H43: 63.156066 | J43: 64.156066 | K43: 64.156066 | L43: 67.156066 | M43: 61.156066 | N43: 53.156066 | O43: 52.156066 | P43: 48.156066 | Q43: 37.156066
B44: Erotus | C44: =C42-C43 -> 0.04 | D44: =D42-D43 -> 0 | E44: =E42-E43 -> 0 | F44: =F43-F42 -> 0.8 | G44: =G42-G43 -> -0.64559917 | H44: =H42-H43 -> -0.85606598 | J44: =J42-J43 -> 0.24393402 | K44: =K42-K43 -> 0.44393402 | L44: =L42-L43 -> -2.156066 | M44: =M42-M43 -> -0.35606598 | N44: =N42-N43 -> 0.44393402 | O44: =O42-O43 -> 0.74393402 | P44: =P42-P43 -> 0.44393402 | Q44: =Q42-Q43 -> 0.24393402
F45: =F44/F42 -> 0.01362862
B46: 3. | C46: Tulokanava
C47: U | D47: qV | E47: Ptot* | F47: P (W) | G47: Lw | H47: LwA | J47: 63 | K47: 125 | L47: 250 | M47: 500 | N47: 1000 | O47: 2000 | P47: 4000 | Q47: 8000
B48: Mitattu | C48: 4 | D48: 44.5 | E48: 49.9 | F48: 25.9 | G48: 65.7 | H48: 55.2 | J48: 56.8 | K48: 60.4 | L48: 62.9 | M48: 50.8 | N48: 44.9 | O48: 42 | P48: 36.7 | Q48: 25.8
B49: Laskettu | C49: 3.99 | D49: 44.5 | E49: 49.9 | F49: =19.6+6.1 -> 25.7 | G49: 64.375053 | H49: 55.008445 | J49: 57.008445 | K49: 59.008445 | L49: 61.008445 | M49: 51.008445 | N49: 45.008445 | O49: 42.008445 | P49: 37.008445 | Q49: 25.008445
B50: Erotus | C50: =C48-C49 -> 0.01 | D50: =D48-D49 -> 0 | E50: =E48-E49 -> 0 | F50: =F49-F48 -> -0.2 | G50: =G48-G49 -> 1.324947 | H50: =H48-H49 -> 0.19155502 | J50: =J48-J49 -> -0.20844498 | K50: =K48-K49 -> 1.391555 | L50: =L48-L49 -> 1.891555 | M50: =M48-M49 -> -0.20844498 | N50: =N48-N49 -> -0.10844498 | O50: =O48-O49 -> -0.0084449758 | P50: =P48-P49 -> -0.30844498 | Q50: =Q48-Q49 -> 0.79155502
F51: =F50/F48 -> -0.0077220077
B52: 4. | C52: Poistokanava
C53: U | D53: qV | E53: Ptot* | F53: P (W) | G53: Lw | H53: LwA | J53: 63 | K53: 125 | L53: 250 | M53: 500 | N53: 1000 | O53: 2000 | P53: 4000 | Q53: 8000
B54: Mitattu | C54: 8 | D54: 122.3 | E54: 167.8 | F54: 124 | G54: 73 | H54: 62.5 | J54: 68.2 | K54: 67.6 | L54: 67.9 | M54: 61 | N54: 54.5 | O54: 48.5 | P54: 38.5 | Q54: 28.4
B55: Laskettu | C55: 8.01 | D55: 122.3 | E55: 167.8 | F55: =118.2+6.1 -> 124.3 | G55: 73.912666 | H55: 62.990153 | J55: 70.990153 | K55: 67.990153 | L55: 64.990153 | M55: 62.990153 | N55: 56.990153 | O55: 49.990153 | P55: 41.990153 | Q55: 30.990153
B56: Erotus | C56: =C54-C55 -> -0.01 | D56: =D54-D55 -> 0 | E56: =E54-E55 -> 0 | F56: =F55-F54 -> 0.3 | G56: =G54-G55 -> -0.9126655 | H56: =H54-H55 -> -0.49015327 | J56: =J54-J55 -> -2.7901533 | K56: =K54-K55 -> -0.39015327 | L56: =L54-L55 -> 2.9098467 | M56: =M54-M55 -> -1.9901533 | N56: =N54-N55 -> -2.4901533 | O56: =O54-O55 -> -1.4901533 | P56: =P54-P55 -> -3.4901533 | Q56: =Q54-Q55 -> -2.5901533
F57: =F56/F54 -> 0.0024193548
B58: 5. | C58: Poistokanava
C59: U | D59: qV | E59: Ptot* | F59: P (W) | G59: Lw | H59: LwA | J59: 63 | K59: 125 | L59: 250 | M59: 500 | N59: 1000 | O59: 2000 | P59: 4000 | Q59: 8000
B60: Mitattu | C60: 4 | D60: 71.4 | E60: 181.3 | F60: 59.4 | G60: 69.2 | H60: 60.9 | J60: 63.5 | K60: 63.1 | L60: 63 | M60: 63 | N60: 50.4 | O60: 42.4 | P60: 30 | Q60: 22.3
B61: Laskettu | C61: 4 | D61: 71.4 | E61: 181.3 | F61: =53.9+6.1 -> 60 | G61: 66.902564 | H61: 58.728977 | J61: 61.728977 | K61: 60.728977 | L61: 59.728977 | M61: 60.728977 | N61: 49.728977 | O61: 40.728977 | P61: 28.728977 | Q61: 20.728977
B62: Erotus | C62: =C60-C61 -> 0 | D62: =D60-D61 -> 0 | E62: =E60-E61 -> 0 | F62: =F61-F60 -> 0.6 | G62: =G60-G61 -> 2.2974362 | H62: =H60-H61 -> 2.1710231 | J62: =J60-J61 -> 1.7710231 | K62: =K60-K61 -> 2.3710231 | L62: =L60-L61 -> 3.2710231 | M62: =M60-M61 -> 2.2710231 | N62: =N60-N61 -> 0.67102313 | O62: =O60-O61 -> 1.6710231 | P62: =P60-P61 -> 1.2710231 | Q62: =Q60-Q61 -> 1.5710231
F63: =F62/F60 -> 0.01010101
B64: 6. | C64: Jätekanava
C65: U | D65: qV | E65: Ptot* | F65: P (W) | G65: Lw | H65: LwA | J65: 63 | K65: 125 | L65: 250 | M65: 500 | N65: 1000 | O65: 2000 | P65: 4000 | Q65: 8000
B66: Mitattu | C66: 6 | D66: 96.3 | E66: 40 | F66: 58.8 | G66: 73 | H66: 65.1 | J66: 67.6 | K66: 67 | L66: 67.4 | M66: 64.2 | N66: 58.1 | O66: 56.2 | P66: 50.3 | Q66: 37.2
B67: Laskettu | C67: 5.97 | D67: 96.3 | E67: 40 | F67: =53.4+6.1 -> 59.5 | G67: 72.37578 | H67: 64.181988 | J67: 66.181988 | K67: 66.181988 | L67: 68.181988 | M67: 62.181988 | N67: 56.181988 | O67: 54.181988 | P67: 48.181988 | Q67: 35.181988
B68: Erotus | C68: =C66-C67 -> 0.03 | D68: =D66-D67 -> 0 | E68: =E66-E67 -> 0 | F68: =F67-F66 -> 0.7 | G68: =G66-G67 -> 0.62421996 | H68: =H66-H67 -> 0.91801215 | J68: =J66-J67 -> 1.4180121 | K68: =K66-K67 -> 0.81801215 | L68: =L66-L67 -> -0.78198785 | M68: =M66-M67 -> 2.0180121 | N68: =N66-N67 -> 1.9180121 | O68: =O66-O67 -> 2.0180121 | P68: =P66-P67 -> 2.1180121 | Q68: =Q66-Q67 -> 2.0180121
F69: =F68/F66 -> 0.011904762
B70: 7. | C70: Ulkokanava
C71: U | D71: qV | E71: Ptot* | F71: P (W) | G71: Lw | H71: LwA | J71: 63 | K71: 125 | L71: 250 | M71: 500 | N71: 1000 | O71: 2000 | P71: 4000 | Q71: 8000
B72: Mitattu | C72: 8 | D72: 103.3 | E72: 249.7 | F72: 121.2 | G72: 71.1 | H72: 60.8 | J72: 66.9 | K72: 66.7 | L72: 61.8 | M72: 61.7 | N72: 52.6 | O72: 49.8 | P72: 38.7 | Q72: 29.4
B73: Laskettu | C73: 8.02 | D73: 103.3 | E73: 249.7 | F73: =115.6+6.1 -> 121.7 | G73: 71.28878 | H73: 61.829104 | J73: 66.829104 | K73: 66.829104 | L73: 62.829104 | M73: 61.829104 | N73: 53.829104 | O73: 50.829104 | P73: 40.829104 | Q73: 30.829104
B74: Erotus | C74: =C72-C73 -> -0.02 | D74: =D72-D73 -> 0 | E74: =E72-E73 -> 0 | F74: =F73-F72 -> 0.5 | G74: =G72-G73 -> -0.18878009 | H74: =H72-H73 -> -1.029104 | J74: =J72-J73 -> 0.070896045 | K74: =K72-K73 -> -0.12910395 | L74: =L72-L73 -> -1.029104 | M74: =M72-M73 -> -0.12910395 | N74: =N72-N73 -> -1.229104 | O74: =O72-O73 -> -1.029104 | P74: =P72-P73 -> -2.129104 | Q74: =Q72-Q73 -> -1.429104
F75: =F74/F72 -> 0.0041254125
B79: 8 | C79: Vaipan läpi
C80: U | D80: qV | E80: Ptot* | F80: Ptot (W) | G80: Lw | H80: LwA | J80: 63 | K80: 125 | L80: 250 | M80: 500 | N80: 1000 | O80: 2000 | P80: 4000 | Q80: 8000
A81: Tulopuoli | B81: Mitattu | C81: 10 | D81: 151.4 | E81: 102.4 | F81: 355.4 | G81: 59.2 | H81: 53.9 | J81: 52.8 | K81: 51.6 | L81: 50.8 | M81: 54.6 | N81: 48.9 | O81: 37.8 | P81: 34 | Q81: 33.1
B82: Laskettu | C82: 10 | D82: 151.4 | E82: 100 | F82: 358 | G82: 58.794132 | H82: 54 | J82: 52 | K82: 51 | L82: 50 | M82: 55 | N82: 47 | O82: 36 | P82: 32 | Q82: 31
B83: Erotus | C83: =C81-C82 -> 0 | D83: =D81-D82 -> 0 | E83: =E81-E82 -> 2.4 | F83: =F82-F81 -> 2.6 | G83: =G81-G82 -> 0.4058684 | H83: =H81-H82 -> -0.1 | J83: =J81-J82 -> 0.8 | K83: =K81-K82 -> 0.6 | L83: =L81-L82 -> 0.8 | M83: =M81-M82 -> -0.4 | N83: =N81-N82 -> 1.9 | O83: =O81-O82 -> 1.8 | P83: =P81-P82 -> 2 | Q83: =Q81-Q82 -> 2.1
F84: =F83/F81 -> 0.0073157006
A86: Poistopuoli | B86: Mitattu | C86: 10 | D86: 154.7 | E86: 125.6
B87: Laskettu | C87: 10 | D87: 154.7 | E87: 123
B88: Erotus | C88: =C86-C87 -> 0 | D88: =D86-D87 -> 0 | E88: =E86-E87 -> 2.6
B103: 9 | C103: Vaipan läpi
C104: U | D104: qV | E104: Ptot* | F104: Ptot (W) | G104: Lw | H104: LwA | J104: 63 | K104: 125 | L104: 250 | M104: 500 | N104: 1000 | O104: 2000 | P104: 4000 | Q104: 8000
A105: Tulopuoli | B105: Mitattu | C105: 4 | D105: 49.4 | E105: 31.4 | F105: 43.5 | G105: 48.3 | H105: 36.9 | J105: 46.4 | K105: 39.6 | L105: 40.9 | M105: 36.7 | N105: 31.3 | O105: 20.8 | P105: 9.9 | Q105: 6.1
B106: Laskettu | C106: 3.98 | D106: 49.4 | E106: 31.4 | F106: 47 | G106: 49.311072 | H106: 38 | J106: 47 | K106: 41 | L106: 42 | M106: 37 | N106: 32 | O106: 22 | P106: 11 | Q106: 8
B107: Erotus | C107: =C105-C106 -> 0.02 | D107: =D105-D106 -> 0 | E107: =E105-E106 -> 0 | F107: =F106-F105 -> 3.5 | G107: =G105-G106 -> -1.0110716 | H107: =H105-H106 -> -1.1 | J107: =J105-J106 -> -0.6 | K107: =K105-K106 -> -1.4 | L107: =L105-L106 -> -1.1 | M107: =M105-M106 -> -0.3 | N107: =N105-N106 -> -0.7 | O107: =O105-O106 -> -1.2 | P107: =P105-P106 -> -1.1 | Q107: =Q105-Q106 -> -1.9
F108: =F107/F105 -> 0.08045977
A110: Poistopuoli | B110: Mitattu | C110: 4 | D110: 57.1 | E110: 38.1
B111: Laskettu | C111: 4.06 | D111: 57 | E111: 38
B112: Erotus | C112: =C110-C111 -> -0.06 | D112: =D110-D111 -> 0.1 | E112: =E110-E111 -> 0.1
